{"text_format":"1","workbook":"xlsx","n_sheets":2,"sheets":["シート","日付データ"],"not_rendered":{"charts":0,"images":0,"macros":0,"external_links":0,"defined_names":2,"comments":0,"pivot_tables":0},"unopened":[],"bounds":{"document_bytes":16777216,"sheet_cells":100000,"rows_first":2000,"rows_last":500,"rows_between":2000,"halvings":0,"cell_chars":16384,"cell_head_chars":4096},"cells_cut":0,"cells_raw":0,"read":"whole","date_system":"1900"}

{"sheet":"シート","index":0,"n_rows":128,"n_cols":192,"rows_kept":128,"cut":false,"hidden":false,"merged":[[3,2,3,43],[3,45,3,62],[68,45,68,89],[19,2,19,32],[19,34,19,51],[3,64,3,81],[13,55,13,72],[12,2,12,32],[13,2,13,32],[12,34,12,51],[68,2,68,32],[16,2,16,32],[17,34,17,51],[15,2,15,32],[17,2,17,32],[18,34,18,51],[86,93,86,110],[86,114,86,131],[14,55,14,72],[15,55,15,72],[16,55,16,72],[66,73,66,90],[77,60,77,77],[17,55,17,72],[89,133,89,170],[88,93,88,172],[88,2,88,79],[72,133,72,150],[74,142,74,159],[77,151,77,168],[77,2,77,19],[86,2,86,19],[86,23,86,40],[89,93,89,110],[89,114,89,131],[77,93,77,110],[89,23,89,40],[89,42,89,79],[72,42,72,59],[74,54,74,71],[96,157,96,169],[107,2,107,19],[107,23,107,40],[107,88,107,105],[107,109,107,126],[98,2,98,19],[98,93,98,110],[98,114,98,131],[96,66,96,78],[127,2,127,19],[127,23,127,40],[92,2,92,19],[98,23,98,40],[122,109,122,126],[117,2,117,19],[117,23,117,40],[122,2,122,19],[122,23,122,40],[122,88,122,105],[117,88,117,105],[117,109,117,126],[112,2,112,19],[112,88,112,105],[92,93,92,110],[5,2,5,32],[7,2,7,32],[8,2,8,32],[5,34,5,51],[7,34,7,51],[8,34,8,51],[9,2,9,32],[9,34,9,51],[89,2,89,19],[112,23,112,40],[92,114,92,131],[92,23,92,40],[112,109,112,126],[10,2,10,32],[11,2,11,32],[14,2,14,32],[14,34,14,51],[11,34,11,51],[13,34,13,51],[15,34,15,51],[16,34,16,51],[10,34,10,51]]}
[]
[null,"主任者登録更新の申請可能期間計算シート"]
[]
[null,null,"主任者登録年月日（西暦で入力）",null,null,null,null,null,null,null,null,null,null,null,null,null,null,null,null,null,null,null,null,null,null,null,null,null,null,null,null,null,null,null,null,null,null,null,null,null,null,null,null,null,null,null,null,null,null,null,null,null,null,null,null,null,null,null,null,null,null,null,null,null,{"$f":"IF(AT4=\"\",\"\",+AT4)","v":""}]
[]
[null,36,"主任者登録有効期限",null,null,null,null,null,null,null,null,null,null,null,null,null,null,null,null,null,null,null,null,null,null,null,null,null,null,null,null,null,null,null,{"$f":"IF(DAY($AT$4)>DAY(EDATE($AT$4,B6)),EDATE($AT$4,B6),EDATE($AT$4,B6)-1)","v":"1902-12-30"},null,null,null,null,null,null,null,null,null,null,null,null,null,null,null,null,null,null,null,null,null,null,null,null,null,null,null,null,null,null,null,null,null,null,null,null,null,null,null,null,null,null,null,null,null,null,null,null,null,null,null,null,null,null,null,null,null,null,null,null,null,null,null,null,null,null,null,null,null,null,null,null,null,null,null,null,null,null,null,null,null,null,null,null,null,null,null,null,null,null,null,null,null,null,null,null,null,null,null,null,null,null,null,null,null,null,null,null,null,null,null,null,null,null,null,null,null,null,null,null,null,null,null,null,null,null,null,null,null,null,null,null,null,null,null,null,null,null,null,null,null,null,null,null,null,null,null,null,null,null,null,null,null,"講習開催地","表示データ","講習開催日","講習開催日"]
[]
[null,24,"有効期間の12ヵ月前",null,null,null,null,null,null,null,null,null,null,null,null,null,null,null,null,null,null,null,null,null,null,null,null,null,null,null,null,null,null,null,{"$f":"IF(DAY($AT$4)>DAY(EDATE($AT$4,B8)),EDATE($AT$4,B8),EDATE($AT$4,B8)-1)","v":"1901-12-30"},null,null,null,null,null,null,null,null,null,null,null,null,null,null,null,null,null,null,null,null,null,null,null,null,null,null,null,null,null,null,null,null,null,null,null,null,null,null,null,null,null,null,null,null,null,null,null,null,null,null,null,null,null,null,null,null,null,null,null,null,null,null,null,null,null,null,null,null,null,null,null,null,null,null,null,null,null,null,null,null,null,null,null,null,null,null,null,null,null,null,null,null,null,null,null,null,null,null,null,null,null,null,null,null,null,null,null,null,null,null,null,null,null,null,null,null,null,null,null,null,null,null,null,null,null,null,null,null,null,null,null,null,null,null,null,null,null,null,null,null,null,null,null,null,null,null,null,null,null,null,null,null,null,"eラーニング","【eﾗｰﾆﾝｸﾞ】令和7年6月16日開催","2025-06-16","2025-06-16"]
[null,30,"有効期間の6ヵ月前",null,null,null,null,null,null,null,null,null,null,null,null,null,null,null,null,null,null,null,null,null,null,null,null,null,null,null,null,null,null,null,"1902-06-29",null,null,null,null,null,null,null,null,null,null,null,null,null,null,null,null,null,null,null,null,null,null,null,null,null,null,null,null,null,null,null,null,null,null,null,null,null,null,null,null,null,null,null,null,null,null,null,null,null,null,null,null,null,null,null,null,null,null,null,null,null,null,null,null,null,null,null,null,null,null,null,null,null,null,null,null,null,null,null,null,null,null,null,null,null,null,null,null,null,null,null,null,null,null,null,null,null,null,null,null,null,null,null,null,null,null,null,null,null,null,null,null,null,null,null,null,null,null,null,null,null,null,null,null,null,null,null,null,null,null,null,null,null,null,null,null,null,null,null,null,null,null,null,null,null,null,null,null,null,null,null,null,null,"eラーニング","【eﾗｰﾆﾝｸﾞ】令和7年7月15日開催","2025-07-15","2025-07-15"]
[null,31,"有効期間の5ヵ月前",null,null,null,null,null,null,null,null,null,null,null,null,null,null,null,null,null,null,null,null,null,null,null,null,null,null,null,null,null,null,null,"1902-07-30",null,null,null,null,null,null,null,null,null,null,null,null,null,null,null,null,null,null,null,null,null,null,null,null,null,null,null,null,null,null,null,null,null,null,null,null,null,null,null,null,null,null,null,null,null,null,null,null,null,null,null,null,null,null,null,null,null,null,null,null,null,null,null,null,null,null,null,null,null,null,null,null,null,null,null,null,null,null,null,null,null,null,null,null,null,null,null,null,null,null,null,null,null,null,null,null,null,null,null,null,null,null,null,null,null,null,null,null,null,null,null,null,null,null,null,null,null,null,null,null,null,null,null,null,null,null,null,null,null,null,null,null,null,null,null,null,null,null,null,null,null,null,null,null,null,null,null,null,null,null,null,null,null,"eラーニング","【eﾗｰﾆﾝｸﾞ】令和7年8月15日開催","2025-08-15","2025-08-15"]
[null,32,"有効期間の4ヵ月前",null,null,null,null,null,null,null,null,null,null,null,null,null,null,null,null,null,null,null,null,null,null,null,null,null,null,null,null,null,null,null,"1902-08-30",null,null,null,null,null,null,null,null,null,null,null,null,null,null,null,null,null,null,null,null,null,null,null,null,null,null,null,null,null,null,null,null,null,null,null,null,null,null,null,null,null,null,null,null,null,null,null,null,null,null,null,null,null,null,null,null,null,null,null,null,null,null,null,null,null,null,null,null,null,null,null,null,null,null,null,null,null,null,null,null,null,null,null,null,null,null,null,null,null,null,null,null,null,null,null,null,null,null,null,null,null,null,null,null,null,null,null,null,null,null,null,null,null,null,null,null,null,null,null,null,null,null,null,null,null,null,null,null,null,null,null,null,null,null,null,null,null,null,null,null,null,null,null,null,null,null,null,null,null,null,null,null,null,"eラーニング","【eﾗｰﾆﾝｸﾞ】令和7年9月16日開催","2025-09-16","2025-09-16"]
[null,33,"有効期間の3ヵ月前",null,null,null,null,null,null,null,null,null,null,null,null,null,null,null,null,null,null,null,null,null,null,null,null,null,null,null,null,null,null,null,"1902-09-29",null,null,null,null,null,null,null,null,null,null,null,null,null,null,null,null,null,null,null,null,null,null,null,null,null,null,null,null,null,null,null,null,null,null,null,null,null,null,null,null,null,null,null,null,null,null,null,null,null,null,null,null,null,null,null,null,null,null,null,null,null,null,null,null,null,null,null,null,null,null,null,null,null,null,null,null,null,null,null,null,null,null,null,null,null,null,null,null,null,null,null,null,null,null,null,null,null,null,null,null,null,null,null,null,null,null,null,null,null,null,null,null,null,null,null,null,null,null,null,null,null,null,null,null,null,null,null,null,null,null,null,null,null,null,null,null,null,null,null,null,null,null,null,null,null,null,null,null,null,null,null,null,null,"eラーニング","【eﾗｰﾆﾝｸﾞ】令和7年10月15日開催","2025-10-15","2025-10-15"]
[null,34,"有効期間の2ヵ月前",null,null,null,null,null,null,null,null,null,null,null,null,null,null,null,null,null,null,null,null,null,null,null,null,null,null,null,null,null,null,null,"1902-10-30",null,null,null,null,null,null,null,null,null,null,null,null,null,null,null,null,null,null,null,null,null,null,null,null,null,null,null,null,null,null,null,null,null,null,null,null,null,null,null,null,null,null,null,null,null,null,null,null,null,null,null,null,null,null,null,null,null,null,null,null,null,null,null,null,null,null,null,null,null,null,null,null,null,null,null,null,null,null,null,null,null,null,null,null,null,null,null,null,null,null,null,null,null,null,null,null,null,null,null,null,null,null,null,null,null,null,null,null,null,null,null,null,null,null,null,null,null,null,null,null,null,null,null,null,null,null,null,null,null,null,null,null,null,null,null,null,null,null,null,null,null,null,null,null,null,null,null,null,null,null,null,null,null,"eラーニング","【eﾗｰﾆﾝｸﾞ】令和7年11月17日開催","2025-11-17","2025-11-17"]
[null,24,"有効期間の6ヵ月前の6ヵ月前",null,null,null,null,null,null,null,null,null,null,null,null,null,null,null,null,null,null,null,null,null,null,null,null,null,null,null,null,null,null,null,"1901-12-30",null,null,null,null,null,null,null,null,null,null,null,null,null,null,null,null,null,null,null,null,null,null,null,null,null,null,null,null,null,null,null,null,null,null,null,null,null,null,null,null,null,null,null,null,null,null,null,null,null,null,null,null,null,null,null,null,null,null,null,null,null,null,null,null,null,null,null,null,null,null,null,null,null,null,null,null,null,null,null,null,null,null,null,null,null,null,null,null,null,null,null,null,null,null,null,null,null,null,null,null,null,null,null,null,null,null,null,null,null,null,null,null,null,null,null,null,null,null,null,null,null,null,null,null,null,null,null,null,null,null,null,null,null,null,null,null,null,null,null,null,null,null,null,null,null,null,null,null,null,null,null,null,null,"eラーニング","【eﾗｰﾆﾝｸﾞ】令和7年12月15日開催","2025-12-15","2025-12-15"]
[null,25,"有効期間の6ヵ月前の5ヵ月前",null,null,null,null,null,null,null,null,null,null,null,null,null,null,null,null,null,null,null,null,null,null,null,null,null,null,null,null,null,null,null,"1902-01-30",null,null,null,null,null,null,null,null,null,null,null,null,null,null,null,null,null,null,null,null,null,null,null,null,null,null,null,null,null,null,null,null,null,null,null,null,null,null,null,null,null,null,null,null,null,null,null,null,null,null,null,null,null,null,null,null,null,null,null,null,null,null,null,null,null,null,null,null,null,null,null,null,null,null,null,null,null,null,null,null,null,null,null,null,null,null,null,null,null,null,null,null,null,null,null,null,null,null,null,null,null,null,null,null,null,null,null,null,null,null,null,null,null,null,null,null,null,null,null,null,null,null,null,null,null,null,null,null,null,null,null,null,null,null,null,null,null,null,null,null,null,null,null,null,null,null,null,null,null,null,null,null,null,"eラーニング","【eﾗｰﾆﾝｸﾞ】令和8年1月15日開催","2026-01-15","2026-01-15"]
[null,26,"有効期間の6ヵ月前の4ヵ月前",null,null,null,null,null,null,null,null,null,null,null,null,null,null,null,null,null,null,null,null,null,null,null,null,null,null,null,null,null,null,null,"1902-02-27",null,null,null,null,null,null,null,null,null,null,null,null,null,null,null,null,null,null,null,null,null,null,null,null,null,null,null,null,null,null,null,null,null,null,null,null,null,null,null,null,null,null,null,null,null,null,null,null,null,null,null,null,null,null,null,null,null,null,null,null,null,null,null,null,null,null,null,null,null,null,null,null,null,null,null,null,null,null,null,null,null,null,null,null,null,null,null,null,null,null,null,null,null,null,null,null,null,null,null,null,null,null,null,null,null,null,null,null,null,null,null,null,null,null,null,null,null,null,null,null,null,null,null,null,null,null,null,null,null,null,null,null,null,null,null,null,null,null,null,null,null,null,null,null,null,null,null,null,null,null,null,null,null,"eラーニング","【eﾗｰﾆﾝｸﾞ】令和8年2月16日開催","2026-02-16","2026-02-16"]
[null,27,"有効期間の6ヵ月前の3ヵ月前",null,null,null,null,null,null,null,null,null,null,null,null,null,null,null,null,null,null,null,null,null,null,null,null,null,null,null,null,null,null,null,"1902-03-30",null,null,null,null,null,null,null,null,null,null,null,null,null,null,null,null,null,null,null,null,null,null,null,null,null,null,null,null,null,null,null,null,null,null,null,null,null,null,null,null,null,null,null,null,null,null,null,null,null,null,null,null,null,null,null,null,null,null,null,null,null,null,null,null,null,null,null,null,null,null,null,null,null,null,null,null,null,null,null,null,null,null,null,null,null,null,null,null,null,null,null,null,null,null,null,null,null,null,null,null,null,null,null,null,null,null,null,null,null,null,null,null,null,null,null,null,null,null,null,null,null,null,null,null,null,null,null,null,null,null,null,null,null,null,null,null,null,null,null,null,null,null,null,null,null,null,null,null,null,null,null,null,null,"eラーニング","【eﾗｰﾆﾝｸﾞ】令和8年3月16日開催","2026-03-16","2026-03-16"]
[null,28,"有効期間の6ヵ月前の2ヵ月前",null,null,null,null,null,null,null,null,null,null,null,null,null,null,null,null,null,null,null,null,null,null,null,null,null,null,null,null,null,null,null,"1902-04-29",null,null,null,null,null,null,null,null,null,null,null,null,null,null,null,null,null,null,null,null,null,null,null,null,null,null,null,null,null,null,null,null,null,null,null,null,null,null,null,null,null,null,null,null,null,null,null,null,null,null,null,null,null,null,null,null,null,null,null,null,null,null,null,null,null,null,null,null,null,null,null,null,null,null,null,null,null,null,null,null,null,null,null,null,null,null,null,null,null,null,null,null,null,null,null,null,null,null,null,null,null,null,null,null,null,null,null,null,null,null,null,null,null,null,null,null,null,null,null,null,null,null,null,null,null,null,null,null,null,null,null,null,null,null,null,null,null,null,null,null,null,null,null,null,null,null,null,null,null,null,null,null,null,"札幌会場","札幌会場　令和7年8月19日開催","2025-08-19","2025-08-19"]
[null,6,"登録講習受講日（予定）の6ヵ月後-1日",null,null,null,null,null,null,null,null,null,null,null,null,null,null,null,null,null,null,null,null,null,null,null,null,null,null,null,null,null,null,null,{"$f":"IF(DAY($BV$67)>DAY(EDATE($BV$67,B19)),EDATE($BV$67,B19),EDATE($BV$67,B19)-1)","v":{"$error":"#N/A"}},null,null,null,null,null,null,null,null,null,null,null,null,null,null,null,null,null,null,null,null,null,null,null,null,null,null,null,null,null,null,null,null,null,null,null,null,null,null,null,null,null,null,null,null,null,null,null,null,null,null,null,null,null,null,null,null,null,null,null,null,null,null,null,null,null,null,null,null,null,null,null,null,null,null,null,null,null,null,null,null,null,null,null,null,null,null,null,null,null,null,null,null,null,null,null,null,null,null,null,null,null,null,null,null,null,null,null,null,null,null,null,null,null,null,null,null,null,null,null,null,null,null,null,null,null,null,null,null,null,null,null,null,null,null,null,null,null,null,null,null,null,null,null,null,null,null,null,null,null,null,null,null,null,"仙台会場","仙台会場　令和7年7月10日開催","2025-07-10","2025-07-10"]
[null,26,"有効期間の10ヵ月前",null,null,null,null,null,null,null,null,null,null,null,null,null,null,null,null,null,null,null,null,null,null,null,null,null,null,null,null,null,null,null,{"$f":"IF(DAY($AT$4)>DAY(EDATE($AT$4,B20)),EDATE($AT$4,B20),EDATE($AT$4,B20)-1)","v":"1902-02-27"},null,null,null,null,null,null,null,null,null,null,null,null,null,null,null,null,null,null,null,null,null,null,null,null,null,null,null,null,null,null,null,null,null,null,null,null,null,null,null,null,null,null,null,null,null,null,null,null,null,null,null,null,null,null,null,null,null,null,null,null,null,null,null,null,null,null,null,null,null,null,null,null,null,null,null,null,null,null,null,null,null,null,null,null,null,null,null,null,null,null,null,null,null,null,null,null,null,null,null,null,null,null,null,null,null,null,null,null,null,null,null,null,null,null,null,null,null,null,null,null,null,null,null,null,null,null,null,null,null,null,null,null,null,null,null,null,null,null,null,null,null,null,null,null,null,null,null,null,null,null,null,null,null,"東京(神田)会場","東京会場（神田）　令和7年6月5日開催","2025-06-05","2025-06-05"]
[null,null,null,null,null,null,null,null,null,null,null,null,null,null,null,null,null,null,null,null,null,null,null,null,null,null,null,null,null,null,null,null,null,null,null,null,null,null,null,null,null,null,null,null,null,null,null,null,null,null,null,null,null,null,null,null,null,null,null,null,null,null,null,null,null,null,null,null,null,null,null,null,null,null,null,null,null,null,null,null,null,null,null,null,null,null,null,null,null,null,null,null,null,null,null,null,null,null,null,null,null,null,null,null,null,null,null,null,null,null,null,null,null,null,null,null,null,null,null,null,null,null,null,null,null,null,null,null,null,null,null,null,null,null,null,null,null,null,null,null,null,null,null,null,null,null,null,null,null,null,null,null,null,null,null,null,null,null,null,null,null,null,null,null,null,null,null,null,null,null,null,null,null,null,null,null,null,null,null,null,null,null,null,null,null,null,null,null,"東京(神田)会場","東京会場（神田）　令和7年8月7日開催","2025-08-07","2025-08-07"]
[null,null,null,null,null,null,null,null,null,null,null,null,null,null,null,null,null,null,null,null,null,null,null,null,null,null,null,null,null,null,null,null,null,null,null,null,null,null,null,null,null,null,null,null,null,null,null,null,null,null,null,null,null,null,null,null,null,null,null,null,null,null,null,null,null,null,null,null,null,null,null,null,null,null,null,null,null,null,null,null,null,null,null,null,null,null,null,null,null,null,null,null,null,null,null,null,null,null,null,null,null,null,null,null,null,null,null,null,null,null,null,null,null,null,null,null,null,null,null,null,null,null,null,null,null,null,null,null,null,null,null,null,null,null,null,null,null,null,null,null,null,null,null,null,null,null,null,null,null,null,null,null,null,null,null,null,null,null,null,null,null,null,null,null,null,null,null,null,null,null,null,null,null,null,null,null,null,null,null,null,null,null,null,null,null,null,null,null,"東京(神田)会場","東京会場（神田）　令和7年10月28日開催","2025-10-28","2025-10-28"]
[null,null,null,null,null,null,null,null,null,null,null,null,null,null,null,null,null,null,null,null,null,null,null,null,null,null,null,null,null,null,null,null,null,null,null,null,null,null,null,null,null,null,null,null,null,null,null,null,null,null,null,null,null,null,null,null,null,null,null,null,null,null,null,null,null,null,null,null,null,null,null,null,null,null,null,null,null,null,null,null,null,null,null,null,null,null,null,null,null,null,null,null,null,null,null,null,null,null,null,null,null,null,null,null,null,null,null,null,null,null,null,null,null,null,null,null,null,null,null,null,null,null,null,null,null,null,null,null,null,null,null,null,null,null,null,null,null,null,null,null,null,null,null,null,null,null,null,null,null,null,null,null,null,null,null,null,null,null,null,null,null,null,null,null,null,null,null,null,null,null,null,null,null,null,null,null,null,null,null,null,null,null,null,null,null,null,null,null,"東京(秋葉原)会場","東京会場（秋葉原）　令和8年1月22日開催","2026-01-22","2026-01-22"]
[null,null,null,null,null,null,null,null,null,null,null,null,null,null,null,null,null,null,null,null,null,null,null,null,null,null,null,null,null,null,null,null,null,null,null,null,null,null,null,null,null,null,null,null,null,null,null,null,null,null,null,null,null,null,null,null,null,null,null,null,null,null,null,null,null,null,null,null,null,null,null,null,null,null,null,null,null,null,null,null,null,null,null,null,null,null,null,null,null,null,null,null,null,null,null,null,null,null,null,null,null,null,null,null,null,null,null,null,null,null,null,null,null,null,null,null,null,null,null,null,null,null,null,null,null,null,null,null,null,null,null,null,null,null,null,null,null,null,null,null,null,null,null,null,null,null,null,null,null,null,null,null,null,null,null,null,null,null,null,null,null,null,null,null,null,null,null,null,null,null,null,null,null,null,null,null,null,null,null,null,null,null,null,null,null,null,null,null,"金沢会場","金沢会場　令和7年7月29日開催","2025-07-29","2025-07-29"]
[null,null,null,null,null,null,null,null,null,null,null,null,null,null,null,null,null,null,null,null,null,null,null,null,null,null,null,null,null,null,null,null,null,null,null,null,null,null,null,null,null,null,null,null,null,null,null,null,null,null,null,null,null,null,null,null,null,null,null,null,null,null,null,null,null,null,null,null,null,null,null,null,null,null,null,null,null,null,null,null,null,null,null,null,null,null,null,null,null,null,null,null,null,null,null,null,null,null,null,null,null,null,null,null,null,null,null,null,null,null,null,null,null,null,null,null,null,null,null,null,null,null,null,null,null,null,null,null,null,null,null,null,null,null,null,null,null,null,null,null,null,null,null,null,null,null,null,null,null,null,null,null,null,null,null,null,null,null,null,null,null,null,null,null,null,null,null,null,null,null,null,null,null,null,null,null,null,null,null,null,null,null,null,null,null,null,null,null,"名古屋会場","名古屋会場　令和7年7月17日開催","2025-07-17","2025-07-17"]
[null,null,null,null,null,null,null,null,null,null,null,null,null,null,null,null,null,null,null,null,null,null,null,null,null,null,null,null,null,null,null,null,null,null,null,null,null,null,null,null,null,null,null,null,null,null,null,null,null,null,null,null,null,null,null,null,null,null,null,null,null,null,null,null,null,null,null,null,null,null,null,null,null,null,null,null,null,null,null,null,null,null,null,null,null,null,null,null,null,null,null,null,null,null,null,null,null,null,null,null,null,null,null,null,null,null,null,null,null,null,null,null,null,null,null,null,null,null,null,null,null,null,null,null,null,null,null,null,null,null,null,null,null,null,null,null,null,null,null,null,null,null,null,null,null,null,null,null,null,null,null,null,null,null,null,null,null,null,null,null,null,null,null,null,null,null,null,null,null,null,null,null,null,null,null,null,null,null,null,null,null,null,null,null,null,null,null,null,"大阪会場","大阪会場　令和7年7月3日開催","2025-07-03","2025-07-03"]
[null,null,null,null,null,null,null,null,null,null,null,null,null,null,null,null,null,null,null,null,null,null,null,null,null,null,null,null,null,null,null,null,null,null,null,null,null,null,null,null,null,null,null,null,null,null,null,null,null,null,null,null,null,null,null,null,null,null,null,null,null,null,null,null,null,null,null,null,null,null,null,null,null,null,null,null,null,null,null,null,null,null,null,null,null,null,null,null,null,null,null,null,null,null,null,null,null,null,null,null,null,null,null,null,null,null,null,null,null,null,null,null,null,null,null,null,null,null,null,null,null,null,null,null,null,null,null,null,null,null,null,null,null,null,null,null,null,null,null,null,null,null,null,null,null,null,null,null,null,null,null,null,null,null,null,null,null,null,null,null,null,null,null,null,null,null,null,null,null,null,null,null,null,null,null,null,null,null,null,null,null,null,null,null,null,null,null,null,"広島会場","広島会場　令和7年7月8日開催","2025-07-08","2025-07-08"]
[null,null,null,null,null,null,null,null,null,null,null,null,null,null,null,null,null,null,null,null,null,null,null,null,null,null,null,null,null,null,null,null,null,null,null,null,null,null,null,null,null,null,null,null,null,null,null,null,null,null,null,null,null,null,null,null,null,null,null,null,null,null,null,null,null,null,null,null,null,null,null,null,null,null,null,null,null,null,null,null,null,null,null,null,null,null,null,null,null,null,null,null,null,null,null,null,null,null,null,null,null,null,null,null,null,null,null,null,null,null,null,null,null,null,null,null,null,null,null,null,null,null,null,null,null,null,null,null,null,null,null,null,null,null,null,null,null,null,null,null,null,null,null,null,null,null,null,null,null,null,null,null,null,null,null,null,null,null,null,null,null,null,null,null,null,null,null,null,null,null,null,null,null,null,null,null,null,null,null,null,null,null,null,null,null,null,null,null,"高松会場","高松会場　令和7年8月26開催","2025-08-26","2025-08-26"]
[null,null,null,null,null,null,null,null,null,null,null,null,null,null,null,null,null,null,null,null,null,null,null,null,null,null,null,null,null,null,null,null,null,null,null,null,null,null,null,null,null,null,null,null,null,null,null,null,null,null,null,null,null,null,null,null,null,null,null,null,null,null,null,null,null,null,null,null,null,null,null,null,null,null,null,null,null,null,null,null,null,null,null,null,null,null,null,null,null,null,null,null,null,null,null,null,null,null,null,null,null,null,null,null,null,null,null,null,null,null,null,null,null,null,null,null,null,null,null,null,null,null,null,null,null,null,null,null,null,null,null,null,null,null,null,null,null,null,null,null,null,null,null,null,null,null,null,null,null,null,null,null,null,null,null,null,null,null,null,null,null,null,null,null,null,null,null,null,null,null,null,null,null,null,null,null,null,null,null,null,null,null,null,null,null,null,null,null,"福岡会場","福岡会場　令和7年7月24日開催","2025-07-24","2025-07-24"]
[null,null,null,null,null,null,null,null,null,null,null,null,null,null,null,null,null,null,null,null,null,null,null,null,null,null,null,null,null,null,null,null,null,null,null,null,null,null,null,null,null,null,null,null,null,null,null,null,null,null,null,null,null,null,null,null,null,null,null,null,null,null,null,null,null,null,null,null,null,null,null,null,null,null,null,null,null,null,null,null,null,null,null,null,null,null,null,null,null,null,null,null,null,null,null,null,null,null,null,null,null,null,null,null,null,null,null,null,null,null,null,null,null,null,null,null,null,null,null,null,null,null,null,null,null,null,null,null,null,null,null,null,null,null,null,null,null,null,null,null,null,null,null,null,null,null,null,null,null,null,null,null,null,null,null,null,null,null,null,null,null,null,null,null,null,null,null,null,null,null,null,null,null,null,null,null,null,null,null,null,null,null,null,null,null,null,null,null,"沖縄会場","沖縄会場　令和7年6月12日開催","2025-06-12","2025-06-12"]
[]
[]
[]
[]
[]
[]
[]
[]
[]
[]
[]
[]
[]
[]
[]
[]
[]
[]
[]
[]
[]
[]
[]
[]
[]
[]
[]
[]
[]
[]
[]
[]
[]
[]
[]
[]
[null,null,null,null,null,null,null,null,null,null,null,null,null,null,null,null,null,null,null,null,null,null,null,null,null,null,null,null,null,null,null,null,null,null,null,null,null,null,null,null,null,null,null,null,null,null,null,null,null,null,null,null,null,null,null,null,null,null,null,null,null,null,null,null,null,null,null,null,null,null,null,null,null,{"$f":"VLOOKUP(AT69,$GH$8:$GJ$65,3,0)","v":{"$error":"#N/A"}}]
[]
[null,null,"登録講習受講日"]
[]
[]
[]
[null,null,null,null,null,null,null,null,null,null,null,null,null,null,null,null,null,null,null,null,null,null,null,null,null,null,null,null,null,null,null,null,null,null,{"$f":"IF(#REF!=\"\",\"\",IF(#REF!=\"個人申請\",+IF(AND(AT69-#REF!>=0,#REF!-AT69>=0),\"\",\"登録更新可能期間外です\"),IF(#REF!=\"団体申請\",+IF(AND(AT69-#REF!>=0,#REF!-AT69>=0),\"\",\"登録更新可能期間外です\"))))","v":{"$error":"#REF!"}},null,null,null,null,null,null,null,{"$f":"+IF(AT4=\"\",\"\",+AI9)","v":""},null,null,null,null,null,null,null,null,null,null,null,null,null,null,null,null,null,null,null,null,null,null,null,null,null,null,null,null,null,null,null,null,null,null,null,null,null,null,null,null,null,null,null,null,null,null,null,null,null,null,null,null,null,null,null,null,null,null,null,null,null,null,null,null,null,null,null,null,null,null,null,null,null,null,null,null,null,null,null,null,null,null,{"$f":"IF(#REF!=\"\",\"\",IF(#REF!=\"個人申請\",+IF(AND(#REF!-#REF!>=0,#REF!-#REF!>=0),\"\",\"登録更新可能期間外です\"),IF(#REF!=\"団体申請\",+IF(AND(#REF!-#REF!>=0,#REF!-#REF!>=0),\"\",\"登録更新可能期間外です\"))))","v":{"$error":"#REF!"}},null,null,null,null,null,null,null,{"$f":"IF(AT4=\"\",\"\",+AI9)","v":""}]
[]
[null,null,null,null,null,null,null,null,null,null,null,null,null,null,null,null,null,null,null,null,null,null,null,null,null,null,null,null,null,null,null,null,null,null,null,null,null,null,null,null,null,null,null,null,null,null,null,null,null,null,null,null,null,null,{"$f":"IF(AT4=\"\",\"\",+AI13)","v":""},null,null,null,null,null,null,null,null,null,null,null,null,null,null,null,null,null,null,null,null,null,null,null,null,null,null,null,null,null,null,null,null,null,null,null,null,null,null,null,null,null,null,null,null,null,null,null,null,null,null,null,null,null,null,null,null,null,null,null,null,null,null,null,null,null,null,null,null,null,null,null,null,null,null,null,null,null,null,null,null,null,null,null,null,null,null,null,{"$f":"IF(AT4=\"\",\"\",+AI12)","v":""}]
[]
[null,null,"主任者登録年月日",null,null,null,null,null,null,null,null,null,null,null,null,null,null,null,null,null,null,null,null,null,null,null,null,null,null,null,null,null,null,null,null,null,null,null,null,null,null,null,null,null,null,null,null,null,null,null,null,null,null,null,null,null,null,null,null,null,{"$f":"+C6","v":"主任者登録有効期限"},null,null,null,null,null,null,null,null,null,null,null,null,null,null,null,null,null,null,null,null,null,null,null,null,null,null,null,null,null,null,null,null,{"$f":"+C77","v":"主任者登録年月日"},null,null,null,null,null,null,null,null,null,null,null,null,null,null,null,null,null,null,null,null,null,null,null,null,null,null,null,null,null,null,null,null,null,null,null,null,null,null,null,null,null,null,null,null,null,null,null,null,null,null,null,null,null,null,null,null,null,{"$f":"+BI77","v":"主任者登録有効期限"}]
[null,null,{"$f":"+IF(+AT4=\"\",\"\",AT4)","v":""},null,null,null,null,null,null,null,null,null,null,null,null,null,null,null,null,null,null,null,null,null,null,null,null,null,null,null,null,null,null,null,null,null,null,null,null,null,null,null,null,null,null,null,null,null,null,null,null,null,null,null,null,null,null,null,null,null,{"$f":"IF(AT4=\"\",\"\",+AI6)","v":""},null,null,null,null,null,null,null,null,null,null,null,null,null,null,null,null,null,null,null,null,null,null,null,null,null,null,null,null,null,null,null,null,{"$f":"IF(AT4=\"\",\"\",+AT4)","v":""},null,null,null,null,null,null,null,null,null,null,null,null,null,null,null,null,null,null,null,null,null,null,null,null,null,null,null,null,null,null,null,null,null,null,null,null,null,null,null,null,null,null,null,null,null,null,null,null,null,null,null,null,null,null,null,null,null,{"$f":"IF(AT4=\"\",\"\",+AI6)","v":""}]
[]
[]
[]
[]
[]
[]
[]
[]
[null,null,{"$f":"IF(AT4=\"\",\"\",+AQ73)","v":""},null,null,null,null,null,null,null,null,null,null,null,null,null,null,null,null,null,"～",null,null,{"$f":"IF(AT4=\"\",\"\",+BC75)","v":""},null,null,null,null,null,null,null,null,null,null,null,null,null,null,null,null,null,null,null,null,null,null,null,null,null,null,null,null,null,null,null,null,null,null,null,null,null,null,null,null,null,null,null,null,null,null,null,null,null,null,null,null,null,null,null,null,null,null,null,null,null,null,null,null,null,null,null,null,null,{"$f":"IF(AT4=\"\",\"\",+ED73)","v":""},null,null,null,null,null,null,null,null,null,null,null,null,null,null,null,null,null,"～",null,null,{"$f":"IF(AT4=\"\",\"\",+EM75)","v":""}]
[]
[null,null,"登録更新の申請手続き（申請書類準備、送付等）に余裕を持つため、更新申請可能期間\nを2ヵ月以上確保することをおすすめします。\n更新申請可能期間を2ヵ月以上確保するためには、\n有効期限の10ヵ月前～4ヵ月前の6ヵ月間に実施される講習を受講してください。\n■目安期間",null,null,null,null,null,null,null,null,null,null,null,null,null,null,null,null,null,null,null,null,null,null,null,null,null,null,null,null,null,null,null,null,null,null,null,null,null,null,null,null,null,null,null,null,null,null,null,null,null,null,null,null,null,null,null,null,null,null,null,null,null,null,null,null,null,null,null,null,null,null,null,null,null,null,null,null,null,null,null,null,null,null,null,null,null,null,null,null,null,null,"登録更新の申請手続き（申請書類準備、送付等）に余裕を持つため、更新申請可能期間\nを2ヵ月以上確保することをおすすめします。\n更新申請可能期間を2ヵ月以上確保するためには、\n有効期限の10ヵ月前～5ヵ月前の5ヵ月間に実施される講習を受講してください。\n■目安期間"]
[null,null,{"$f":"IF(AT4=\"\",\"\",+AI20)","v":""},null,null,null,null,null,null,null,null,null,null,null,null,null,null,null,null,null,"～",null,null,{"$f":"IF(AT4=\"\",\"\",+AI11)","v":""},null,null,null,null,null,null,null,null,null,null,null,null,null,null,null,null,null,null,"の期間の講習を受講をおすすめします",null,null,null,null,null,null,null,null,null,null,null,null,null,null,null,null,null,null,null,null,null,null,null,null,null,null,null,null,null,null,null,null,null,null,null,null,null,null,null,null,null,null,null,null,null,null,null,null,null,null,{"$f":"IF(AT4=\"\",\"\",+AI20)","v":""},null,null,null,null,null,null,null,null,null,null,null,null,null,null,null,null,null,"～",null,null,{"$f":"IF(AT4=\"\",\"\",+AI10)","v":""},null,null,null,null,null,null,null,null,null,null,null,null,null,null,null,null,null,null,{"$f":"+AQ90","v":"の期間の講習を受講をおすすめします"}]
[]
[null,null,51,52,53,54,55,56,57,58,59,60,61,62,63,64,65,66,67,68,69,70,71,72,73,74,75,76,77,78,79,80,81,82,83,84,85,86,87,88,89,90,91,92,93,94,95,96,97,98,99,100,101,102,103,104,105,106,107,108,109,110,111,112,113,114,115,116,117,118,119,120,121,null,null,null,null,null,null,null,null,null,null,null,null,null,null,null,null,null,null,null,null,51,52,53,54,55,56,57,58,59,60,61,62,63,64,65,66,67,68,69,70,71,72,73,74,75,76,77,78,79,80,81,82,83,84,85,86,87,88,89,90,91,92,93,94,95,96,97,98,99,100,101,102,103,104,105,106,107,108,109,110,111,112,113,114,115,116,117,118,119,120,121]
[null,null,{"$f":"IF(AT4=\"\",\"\",IF(AT69=\"\",\"\",+BV67))","v":""},null,null,null,null,null,null,null,null,null,null,null,null,null,null,null,null,null,"～",null,null,{"$f":"IF(AT4=\"\",\"\",IF(AT69=\"\",\"\",+AI19))","v":""},null,null,null,null,null,null,null,null,null,null,null,null,null,null,null,null,null,null,null,null,null,null,null,null,null,null,null,null,null,null,null,null,null,null,null,null,null,null,null,null,null,null,null,null,null,null,null,null,null,null,null,null,null,null,null,null,null,null,null,null,null,null,null,null,null,null,null,null,null,{"$f":"IF(AT4=\"\",\"\",IF(AT69=\"\",\"\",+BV67))","v":""},null,null,null,null,null,null,null,null,null,null,null,null,null,null,null,null,null,"～",null,null,{"$f":"IF(AT4=\"\",\"\",IF(AT69=\"\",\"\",+AI19))","v":""}]
[]
[null,null,{"$f":"SUMIF(日付データ!$B$3:$B$1227,C$92,日付データ!$D$3:$D$1227)","v":{"$error":"#N/A"}},{"$f":"SUMIF(日付データ!$B$3:$B$1227,D$92,日付データ!$D$3:$D$1227)","v":{"$error":"#N/A"}},{"$f":"SUMIF(日付データ!$B$3:$B$1227,E$92,日付データ!$D$3:$D$1227)","v":{"$error":"#N/A"}},{"$f":"SUMIF(日付データ!$B$3:$B$1227,F$92,日付データ!$D$3:$D$1227)","v":{"$error":"#N/A"}},{"$f":"SUMIF(日付データ!$B$3:$B$1227,G$92,日付データ!$D$3:$D$1227)","v":{"$error":"#N/A"}},{"$f":"SUMIF(日付データ!$B$3:$B$1227,H$92,日付データ!$D$3:$D$1227)","v":{"$error":"#N/A"}},{"$f":"SUMIF(日付データ!$B$3:$B$1227,I$92,日付データ!$D$3:$D$1227)","v":{"$error":"#N/A"}},{"$f":"SUMIF(日付データ!$B$3:$B$1227,J$92,日付データ!$D$3:$D$1227)","v":{"$error":"#N/A"}},{"$f":"SUMIF(日付データ!$B$3:$B$1227,K$92,日付データ!$D$3:$D$1227)","v":{"$error":"#N/A"}},{"$f":"SUMIF(日付データ!$B$3:$B$1227,L$92,日付データ!$D$3:$D$1227)","v":{"$error":"#N/A"}},{"$f":"SUMIF(日付データ!$B$3:$B$1227,M$92,日付データ!$D$3:$D$1227)","v":{"$error":"#N/A"}},{"$f":"SUMIF(日付データ!$B$3:$B$1227,N$92,日付データ!$D$3:$D$1227)","v":{"$error":"#N/A"}},{"$f":"SUMIF(日付データ!$B$3:$B$1227,O$92,日付データ!$D$3:$D$1227)","v":{"$error":"#N/A"}},{"$f":"SUMIF(日付データ!$B$3:$B$1227,P$92,日付データ!$D$3:$D$1227)","v":{"$error":"#N/A"}},{"$f":"SUMIF(日付データ!$B$3:$B$1227,Q$92,日付データ!$D$3:$D$1227)","v":{"$error":"#N/A"}},{"$f":"SUMIF(日付データ!$B$3:$B$1227,R$92,日付データ!$D$3:$D$1227)","v":{"$error":"#N/A"}},{"$f":"SUMIF(日付データ!$B$3:$B$1227,S$92,日付データ!$D$3:$D$1227)","v":{"$error":"#N/A"}},{"$f":"SUMIF(日付データ!$B$3:$B$1227,T$92,日付データ!$D$3:$D$1227)","v":{"$error":"#N/A"}},{"$f":"SUMIF(日付データ!$B$3:$B$1227,U$92,日付データ!$D$3:$D$1227)","v":{"$error":"#N/A"}},{"$f":"SUMIF(日付データ!$B$3:$B$1227,V$92,日付データ!$D$3:$D$1227)","v":{"$error":"#N/A"}},{"$f":"SUMIF(日付データ!$B$3:$B$1227,W$92,日付データ!$D$3:$D$1227)","v":{"$error":"#N/A"}},{"$f":"SUMIF(日付データ!$B$3:$B$1227,X$92,日付データ!$D$3:$D$1227)","v":{"$error":"#N/A"}},{"$f":"SUMIF(日付データ!$B$3:$B$1227,Y$92,日付データ!$D$3:$D$1227)","v":{"$error":"#N/A"}},{"$f":"SUMIF(日付データ!$B$3:$B$1227,Z$92,日付データ!$D$3:$D$1227)","v":{"$error":"#N/A"}},{"$f":"SUMIF(日付データ!$B$3:$B$1227,AA$92,日付データ!$D$3:$D$1227)","v":{"$error":"#N/A"}},{"$f":"SUMIF(日付データ!$B$3:$B$1227,AB$92,日付データ!$D$3:$D$1227)","v":{"$error":"#N/A"}},{"$f":"SUMIF(日付データ!$B$3:$B$1227,AC$92,日付データ!$D$3:$D$1227)","v":{"$error":"#N/A"}},{"$f":"SUMIF(日付データ!$B$3:$B$1227,AD$92,日付データ!$D$3:$D$1227)","v":{"$error":"#N/A"}},{"$f":"SUMIF(日付データ!$B$3:$B$1227,AE$92,日付データ!$D$3:$D$1227)","v":{"$error":"#N/A"}},{"$f":"SUMIF(日付データ!$B$3:$B$1227,AF$92,日付データ!$D$3:$D$1227)","v":{"$error":"#N/A"}},{"$f":"SUMIF(日付データ!$B$3:$B$1227,AG$92,日付データ!$D$3:$D$1227)","v":{"$error":"#N/A"}},{"$f":"SUMIF(日付データ!$B$3:$B$1227,AH$92,日付データ!$D$3:$D$1227)","v":{"$error":"#N/A"}},{"$f":"SUMIF(日付データ!$B$3:$B$1227,AI$92,日付データ!$D$3:$D$1227)","v":{"$error":"#N/A"}},{"$f":"SUMIF(日付データ!$B$3:$B$1227,AJ$92,日付データ!$D$3:$D$1227)","v":{"$error":"#N/A"}},{"$f":"SUMIF(日付データ!$B$3:$B$1227,AK$92,日付データ!$D$3:$D$1227)","v":{"$error":"#N/A"}},{"$f":"SUMIF(日付データ!$B$3:$B$1227,AL$92,日付データ!$D$3:$D$1227)","v":{"$error":"#N/A"}},{"$f":"SUMIF(日付データ!$B$3:$B$1227,AM$92,日付データ!$D$3:$D$1227)","v":{"$error":"#N/A"}},{"$f":"SUMIF(日付データ!$B$3:$B$1227,AN$92,日付データ!$D$3:$D$1227)","v":{"$error":"#N/A"}},{"$f":"SUMIF(日付データ!$B$3:$B$1227,AO$92,日付データ!$D$3:$D$1227)","v":{"$error":"#N/A"}},{"$f":"SUMIF(日付データ!$B$3:$B$1227,AP$92,日付データ!$D$3:$D$1227)","v":{"$error":"#N/A"}},{"$f":"SUMIF(日付データ!$B$3:$B$1227,AQ$92,日付データ!$D$3:$D$1227)","v":{"$error":"#N/A"}},{"$f":"SUMIF(日付データ!$B$3:$B$1227,AR$92,日付データ!$D$3:$D$1227)","v":{"$error":"#N/A"}},{"$f":"SUMIF(日付データ!$B$3:$B$1227,AS$92,日付データ!$D$3:$D$1227)","v":{"$error":"#N/A"}},{"$f":"SUMIF(日付データ!$B$3:$B$1227,AT$92,日付データ!$D$3:$D$1227)","v":{"$error":"#N/A"}},{"$f":"SUMIF(日付データ!$B$3:$B$1227,AU$92,日付データ!$D$3:$D$1227)","v":{"$error":"#N/A"}},{"$f":"SUMIF(日付データ!$B$3:$B$1227,AV$92,日付データ!$D$3:$D$1227)","v":{"$error":"#N/A"}},{"$f":"SUMIF(日付データ!$B$3:$B$1227,AW$92,日付データ!$D$3:$D$1227)","v":{"$error":"#N/A"}},{"$f":"SUMIF(日付データ!$B$3:$B$1227,AX$92,日付データ!$D$3:$D$1227)","v":{"$error":"#N/A"}},{"$f":"SUMIF(日付データ!$B$3:$B$1227,AY$92,日付データ!$D$3:$D$1227)","v":{"$error":"#N/A"}},{"$f":"SUMIF(日付データ!$B$3:$B$1227,AZ$92,日付データ!$D$3:$D$1227)","v":{"$error":"#N/A"}},{"$f":"SUMIF(日付データ!$B$3:$B$1227,BA$92,日付データ!$D$3:$D$1227)","v":{"$error":"#N/A"}},{"$f":"SUMIF(日付データ!$B$3:$B$1227,BB$92,日付データ!$D$3:$D$1227)","v":{"$error":"#N/A"}},{"$f":"SUMIF(日付データ!$B$3:$B$1227,BC$92,日付データ!$D$3:$D$1227)","v":{"$error":"#N/A"}},{"$f":"SUMIF(日付データ!$B$3:$B$1227,BD$92,日付データ!$D$3:$D$1227)","v":{"$error":"#N/A"}},{"$f":"SUMIF(日付データ!$B$3:$B$1227,BE$92,日付データ!$D$3:$D$1227)","v":{"$error":"#N/A"}},{"$f":"SUMIF(日付データ!$B$3:$B$1227,BF$92,日付データ!$D$3:$D$1227)","v":{"$error":"#N/A"}},{"$f":"SUMIF(日付データ!$B$3:$B$1227,BG$92,日付データ!$D$3:$D$1227)","v":{"$error":"#N/A"}},{"$f":"SUMIF(日付データ!$B$3:$B$1227,BH$92,日付データ!$D$3:$D$1227)","v":{"$error":"#N/A"}},{"$f":"SUMIF(日付データ!$B$3:$B$1227,BI$92,日付データ!$D$3:$D$1227)","v":{"$error":"#N/A"}},{"$f":"SUMIF(日付データ!$B$3:$B$1227,BJ$92,日付データ!$D$3:$D$1227)","v":{"$error":"#N/A"}},{"$f":"SUMIF(日付データ!$B$3:$B$1227,BK$92,日付データ!$D$3:$D$1227)","v":{"$error":"#N/A"}},{"$f":"SUMIF(日付データ!$B$3:$B$1227,BL$92,日付データ!$D$3:$D$1227)","v":{"$error":"#N/A"}},{"$f":"SUMIF(日付データ!$B$3:$B$1227,BM$92,日付データ!$D$3:$D$1227)","v":{"$error":"#N/A"}},{"$f":"SUMIF(日付データ!$B$3:$B$1227,BN$92,日付データ!$D$3:$D$1227)","v":{"$error":"#N/A"}},{"$f":"SUMIF(日付データ!$B$3:$B$1227,BO$92,日付データ!$D$3:$D$1227)","v":{"$error":"#N/A"}},{"$f":"SUMIF(日付データ!$B$3:$B$1227,BP$92,日付データ!$D$3:$D$1227)","v":{"$error":"#N/A"}},{"$f":"SUMIF(日付データ!$B$3:$B$1227,BQ$92,日付データ!$D$3:$D$1227)","v":{"$error":"#N/A"}},{"$f":"SUMIF(日付データ!$B$3:$B$1227,BR$92,日付データ!$D$3:$D$1227)","v":{"$error":"#N/A"}},{"$f":"SUMIF(日付データ!$B$3:$B$1227,BS$92,日付データ!$D$3:$D$1227)","v":{"$error":"#N/A"}},{"$f":"SUMIF(日付データ!$B$3:$B$1227,BT$92,日付データ!$D$3:$D$1227)","v":{"$error":"#N/A"}},{"$f":"SUMIF(日付データ!$B$3:$B$1227,BU$92,日付データ!$D$3:$D$1227)","v":{"$error":"#N/A"}},null,null,null,null,null,null,null,null,null,null,null,null,null,null,null,null,null,null,null,null,{"$f":"SUMIF(日付データ!$B$3:$B$1227,CP$92,日付データ!$D$3:$D$1227)","v":{"$error":"#N/A"}},{"$f":"SUMIF(日付データ!$B$3:$B$1227,CQ$92,日付データ!$D$3:$D$1227)","v":{"$error":"#N/A"}},{"$f":"SUMIF(日付データ!$B$3:$B$1227,CR$92,日付データ!$D$3:$D$1227)","v":{"$error":"#N/A"}},{"$f":"SUMIF(日付データ!$B$3:$B$1227,CS$92,日付データ!$D$3:$D$1227)","v":{"$error":"#N/A"}},{"$f":"SUMIF(日付データ!$B$3:$B$1227,CT$92,日付データ!$D$3:$D$1227)","v":{"$error":"#N/A"}},{"$f":"SUMIF(日付データ!$B$3:$B$1227,CU$92,日付データ!$D$3:$D$1227)","v":{"$error":"#N/A"}},{"$f":"SUMIF(日付データ!$B$3:$B$1227,CV$92,日付データ!$D$3:$D$1227)","v":{"$error":"#N/A"}},{"$f":"SUMIF(日付データ!$B$3:$B$1227,CW$92,日付データ!$D$3:$D$1227)","v":{"$error":"#N/A"}},{"$f":"SUMIF(日付データ!$B$3:$B$1227,CX$92,日付データ!$D$3:$D$1227)","v":{"$error":"#N/A"}},{"$f":"SUMIF(日付データ!$B$3:$B$1227,CY$92,日付データ!$D$3:$D$1227)","v":{"$error":"#N/A"}},{"$f":"SUMIF(日付データ!$B$3:$B$1227,CZ$92,日付データ!$D$3:$D$1227)","v":{"$error":"#N/A"}},{"$f":"SUMIF(日付データ!$B$3:$B$1227,DA$92,日付データ!$D$3:$D$1227)","v":{"$error":"#N/A"}},{"$f":"SUMIF(日付データ!$B$3:$B$1227,DB$92,日付データ!$D$3:$D$1227)","v":{"$error":"#N/A"}},{"$f":"SUMIF(日付データ!$B$3:$B$1227,DC$92,日付データ!$D$3:$D$1227)","v":{"$error":"#N/A"}},{"$f":"SUMIF(日付データ!$B$3:$B$1227,DD$92,日付データ!$D$3:$D$1227)","v":{"$error":"#N/A"}},{"$f":"SUMIF(日付データ!$B$3:$B$1227,DE$92,日付データ!$D$3:$D$1227)","v":{"$error":"#N/A"}},{"$f":"SUMIF(日付データ!$B$3:$B$1227,DF$92,日付データ!$D$3:$D$1227)","v":{"$error":"#N/A"}},{"$f":"SUMIF(日付データ!$B$3:$B$1227,DG$92,日付データ!$D$3:$D$1227)","v":{"$error":"#N/A"}},{"$f":"SUMIF(日付データ!$B$3:$B$1227,DH$92,日付データ!$D$3:$D$1227)","v":{"$error":"#N/A"}},{"$f":"SUMIF(日付データ!$B$3:$B$1227,DI$92,日付データ!$D$3:$D$1227)","v":{"$error":"#N/A"}},{"$f":"SUMIF(日付データ!$B$3:$B$1227,DJ$92,日付データ!$D$3:$D$1227)","v":{"$error":"#N/A"}},{"$f":"SUMIF(日付データ!$B$3:$B$1227,DK$92,日付データ!$D$3:$D$1227)","v":{"$error":"#N/A"}},{"$f":"SUMIF(日付データ!$B$3:$B$1227,DL$92,日付データ!$D$3:$D$1227)","v":{"$error":"#N/A"}},{"$f":"SUMIF(日付データ!$B$3:$B$1227,DM$92,日付データ!$D$3:$D$1227)","v":{"$error":"#N/A"}},{"$f":"SUMIF(日付データ!$B$3:$B$1227,DN$92,日付データ!$D$3:$D$1227)","v":{"$error":"#N/A"}},{"$f":"SUMIF(日付データ!$B$3:$B$1227,DO$92,日付データ!$D$3:$D$1227)","v":{"$error":"#N/A"}},{"$f":"SUMIF(日付データ!$B$3:$B$1227,DP$92,日付データ!$D$3:$D$1227)","v":{"$error":"#N/A"}},{"$f":"SUMIF(日付データ!$B$3:$B$1227,DQ$92,日付データ!$D$3:$D$1227)","v":{"$error":"#N/A"}},{"$f":"SUMIF(日付データ!$B$3:$B$1227,DR$92,日付データ!$D$3:$D$1227)","v":{"$error":"#N/A"}},{"$f":"SUMIF(日付データ!$B$3:$B$1227,DS$92,日付データ!$D$3:$D$1227)","v":{"$error":"#N/A"}},{"$f":"SUMIF(日付データ!$B$3:$B$1227,DT$92,日付データ!$D$3:$D$1227)","v":{"$error":"#N/A"}},{"$f":"SUMIF(日付データ!$B$3:$B$1227,DU$92,日付データ!$D$3:$D$1227)","v":{"$error":"#N/A"}},{"$f":"SUMIF(日付データ!$B$3:$B$1227,DV$92,日付データ!$D$3:$D$1227)","v":{"$error":"#N/A"}},{"$f":"SUMIF(日付データ!$B$3:$B$1227,DW$92,日付データ!$D$3:$D$1227)","v":{"$error":"#N/A"}},{"$f":"SUMIF(日付データ!$B$3:$B$1227,DX$92,日付データ!$D$3:$D$1227)","v":{"$error":"#N/A"}},{"$f":"SUMIF(日付データ!$B$3:$B$1227,DY$92,日付データ!$D$3:$D$1227)","v":{"$error":"#N/A"}},{"$f":"SUMIF(日付データ!$B$3:$B$1227,DZ$92,日付データ!$D$3:$D$1227)","v":{"$error":"#N/A"}},{"$f":"SUMIF(日付データ!$B$3:$B$1227,EA$92,日付データ!$D$3:$D$1227)","v":{"$error":"#N/A"}},{"$f":"SUMIF(日付データ!$B$3:$B$1227,EB$92,日付データ!$D$3:$D$1227)","v":{"$error":"#N/A"}},{"$f":"SUMIF(日付データ!$B$3:$B$1227,EC$92,日付データ!$D$3:$D$1227)","v":{"$error":"#N/A"}},{"$f":"SUMIF(日付データ!$B$3:$B$1227,ED$92,日付データ!$D$3:$D$1227)","v":{"$error":"#N/A"}},{"$f":"SUMIF(日付データ!$B$3:$B$1227,EE$92,日付データ!$D$3:$D$1227)","v":{"$error":"#N/A"}},{"$f":"SUMIF(日付データ!$B$3:$B$1227,EF$92,日付データ!$D$3:$D$1227)","v":{"$error":"#N/A"}},{"$f":"SUMIF(日付データ!$B$3:$B$1227,EG$92,日付データ!$D$3:$D$1227)","v":{"$error":"#N/A"}},{"$f":"SUMIF(日付データ!$B$3:$B$1227,EH$92,日付データ!$D$3:$D$1227)","v":{"$error":"#N/A"}},{"$f":"SUMIF(日付データ!$B$3:$B$1227,EI$92,日付データ!$D$3:$D$1227)","v":{"$error":"#N/A"}},{"$f":"SUMIF(日付データ!$B$3:$B$1227,EJ$92,日付データ!$D$3:$D$1227)","v":{"$error":"#N/A"}},{"$f":"SUMIF(日付データ!$B$3:$B$1227,EK$92,日付データ!$D$3:$D$1227)","v":{"$error":"#N/A"}},{"$f":"SUMIF(日付データ!$B$3:$B$1227,EL$92,日付データ!$D$3:$D$1227)","v":{"$error":"#N/A"}},{"$f":"SUMIF(日付データ!$B$3:$B$1227,EM$92,日付データ!$D$3:$D$1227)","v":{"$error":"#N/A"}},{"$f":"SUMIF(日付データ!$B$3:$B$1227,EN$92,日付データ!$D$3:$D$1227)","v":{"$error":"#N/A"}},{"$f":"SUMIF(日付データ!$B$3:$B$1227,EO$92,日付データ!$D$3:$D$1227)","v":{"$error":"#N/A"}},{"$f":"SUMIF(日付データ!$B$3:$B$1227,EP$92,日付データ!$D$3:$D$1227)","v":{"$error":"#N/A"}},{"$f":"SUMIF(日付データ!$B$3:$B$1227,EQ$92,日付データ!$D$3:$D$1227)","v":{"$error":"#N/A"}},{"$f":"SUMIF(日付データ!$B$3:$B$1227,ER$92,日付データ!$D$3:$D$1227)","v":{"$error":"#N/A"}},{"$f":"SUMIF(日付データ!$B$3:$B$1227,ES$92,日付データ!$D$3:$D$1227)","v":{"$error":"#N/A"}},{"$f":"SUMIF(日付データ!$B$3:$B$1227,ET$92,日付データ!$D$3:$D$1227)","v":{"$error":"#N/A"}},{"$f":"SUMIF(日付データ!$B$3:$B$1227,EU$92,日付データ!$D$3:$D$1227)","v":{"$error":"#N/A"}},{"$f":"SUMIF(日付データ!$B$3:$B$1227,EV$92,日付データ!$D$3:$D$1227)","v":{"$error":"#N/A"}},{"$f":"SUMIF(日付データ!$B$3:$B$1227,EW$92,日付データ!$D$3:$D$1227)","v":{"$error":"#N/A"}},{"$f":"SUMIF(日付データ!$B$3:$B$1227,EX$92,日付データ!$D$3:$D$1227)","v":{"$error":"#N/A"}},{"$f":"SUMIF(日付データ!$B$3:$B$1227,EY$92,日付データ!$D$3:$D$1227)","v":{"$error":"#N/A"}},{"$f":"SUMIF(日付データ!$B$3:$B$1227,EZ$92,日付データ!$D$3:$D$1227)","v":{"$error":"#N/A"}},{"$f":"SUMIF(日付データ!$B$3:$B$1227,FA$92,日付データ!$D$3:$D$1227)","v":{"$error":"#N/A"}},{"$f":"SUMIF(日付データ!$B$3:$B$1227,FB$92,日付データ!$D$3:$D$1227)","v":{"$error":"#N/A"}},{"$f":"SUMIF(日付データ!$B$3:$B$1227,FC$92,日付データ!$D$3:$D$1227)","v":{"$error":"#N/A"}},{"$f":"SUMIF(日付データ!$B$3:$B$1227,FD$92,日付データ!$D$3:$D$1227)","v":{"$error":"#N/A"}},{"$f":"SUMIF(日付データ!$B$3:$B$1227,FE$92,日付データ!$D$3:$D$1227)","v":{"$error":"#N/A"}},{"$f":"SUMIF(日付データ!$B$3:$B$1227,FF$92,日付データ!$D$3:$D$1227)","v":{"$error":"#N/A"}},{"$f":"SUMIF(日付データ!$B$3:$B$1227,FG$92,日付データ!$D$3:$D$1227)","v":{"$error":"#N/A"}},{"$f":"SUMIF(日付データ!$B$3:$B$1227,FH$92,日付データ!$D$3:$D$1227)","v":{"$error":"#N/A"}}]
[]
[null,null,null,null,null,null,null,null,null,null,null,null,null,null,null,null,null,null,null,null,null,null,null,null,null,null,null,null,null,null,null,null,null,null,null,null,null,null,null,null,null,null,null,null,null,null,null,null,null,null,null,null,null,null,null,null,null,null,null,null,null,null,null,null,null,null,{"$f":"IF(AT4=\"\",\"\",IF(AT69=\"\",\"\",IF(C99=\"該当期間なし\",C99,+X99-C99+1)))","v":""},null,null,null,null,null,null,null,null,null,null,null,null,null,null,null,null,null,null,null,null,null,null,null,null,null,null,null,null,null,null,null,null,null,null,null,null,null,null,null,null,null,null,null,null,null,null,null,null,null,null,null,null,null,null,null,null,null,null,null,null,null,null,null,null,null,null,null,null,null,null,null,null,null,null,null,null,null,null,null,null,null,null,null,null,null,null,null,null,null,null,{"$f":"IF(AT4=\"\",\"\",IF(AT69=\"\",\"\",IF(CP99=\"該当期間なし\",CP99,+DK99-CP99+1)))","v":""}]
[]
[null,null,{"$f":"IF(AT4=\"\",\"\",IF(AT69=\"\",\"\",IF(ISERROR(VLOOKUP(1,日付データ!$G$3:$K$1227,5,0)),\"該当期間なし\",VLOOKUP(1,日付データ!$G$3:$K$1227,5,0))))","v":""},null,null,null,null,null,null,null,null,null,null,null,null,null,null,null,null,null,"～",null,null,{"$f":"IF(AT4=\"\",\"\",IF(AT69=\"\",\"\",+IF(C99=\"該当期間なし\",C99,VLOOKUP(MAX(日付データ!$G$3:$G$1227),日付データ!$G$3:$K$1227,5,0))))","v":""},null,null,null,null,null,null,null,null,null,null,null,null,null,null,null,null,null,null,null,null,null,null,null,null,null,null,null,null,null,null,null,null,null,null,null,null,null,null,null,null,null,null,null,null,null,null,null,null,null,null,null,null,null,null,null,null,null,null,null,null,null,null,null,null,null,null,null,null,null,{"$f":"IF(AT4=\"\",\"\",IF(AT69=\"\",\"\",IF(ISERROR(VLOOKUP(1,日付データ!$J$3:$K$1227,2,0)),\"該当期間なし\",VLOOKUP(1,日付データ!$J$3:$K$1227,2,0))))","v":""},null,null,null,null,null,null,null,null,null,null,null,null,null,null,null,null,null,"～",null,null,{"$f":"IF(AT4=\"\",\"\",IF(AT69=\"\",\"\",+IF(CP99=\"該当期間なし\",CP99,VLOOKUP(MAX(日付データ!$J$3:$J$1227),日付データ!$J$3:$K$1227,2,0))))","v":""}]
[]
[null,null,{"$f":"SUMIF(日付データ!$B$3:$B$1227,C$92,日付データ!$F$3:$F$1227)","v":{"$error":"#N/A"}},{"$f":"SUMIF(日付データ!$B$3:$B$1227,D$92,日付データ!$F$3:$F$1227)","v":{"$error":"#N/A"}},{"$f":"SUMIF(日付データ!$B$3:$B$1227,E$92,日付データ!$F$3:$F$1227)","v":{"$error":"#N/A"}},{"$f":"SUMIF(日付データ!$B$3:$B$1227,F$92,日付データ!$F$3:$F$1227)","v":{"$error":"#N/A"}},{"$f":"SUMIF(日付データ!$B$3:$B$1227,G$92,日付データ!$F$3:$F$1227)","v":{"$error":"#N/A"}},{"$f":"SUMIF(日付データ!$B$3:$B$1227,H$92,日付データ!$F$3:$F$1227)","v":{"$error":"#N/A"}},{"$f":"SUMIF(日付データ!$B$3:$B$1227,I$92,日付データ!$F$3:$F$1227)","v":{"$error":"#N/A"}},{"$f":"SUMIF(日付データ!$B$3:$B$1227,J$92,日付データ!$F$3:$F$1227)","v":{"$error":"#N/A"}},{"$f":"SUMIF(日付データ!$B$3:$B$1227,K$92,日付データ!$F$3:$F$1227)","v":{"$error":"#N/A"}},{"$f":"SUMIF(日付データ!$B$3:$B$1227,L$92,日付データ!$F$3:$F$1227)","v":{"$error":"#N/A"}},{"$f":"SUMIF(日付データ!$B$3:$B$1227,M$92,日付データ!$F$3:$F$1227)","v":{"$error":"#N/A"}},{"$f":"SUMIF(日付データ!$B$3:$B$1227,N$92,日付データ!$F$3:$F$1227)","v":{"$error":"#N/A"}},{"$f":"SUMIF(日付データ!$B$3:$B$1227,O$92,日付データ!$F$3:$F$1227)","v":{"$error":"#N/A"}},{"$f":"SUMIF(日付データ!$B$3:$B$1227,P$92,日付データ!$F$3:$F$1227)","v":{"$error":"#N/A"}},{"$f":"SUMIF(日付データ!$B$3:$B$1227,Q$92,日付データ!$F$3:$F$1227)","v":{"$error":"#N/A"}},{"$f":"SUMIF(日付データ!$B$3:$B$1227,R$92,日付データ!$F$3:$F$1227)","v":{"$error":"#N/A"}},{"$f":"SUMIF(日付データ!$B$3:$B$1227,S$92,日付データ!$F$3:$F$1227)","v":{"$error":"#N/A"}},{"$f":"SUMIF(日付データ!$B$3:$B$1227,T$92,日付データ!$F$3:$F$1227)","v":{"$error":"#N/A"}},{"$f":"SUMIF(日付データ!$B$3:$B$1227,U$92,日付データ!$F$3:$F$1227)","v":{"$error":"#N/A"}},{"$f":"SUMIF(日付データ!$B$3:$B$1227,V$92,日付データ!$F$3:$F$1227)","v":{"$error":"#N/A"}},{"$f":"SUMIF(日付データ!$B$3:$B$1227,W$92,日付データ!$F$3:$F$1227)","v":{"$error":"#N/A"}},{"$f":"SUMIF(日付データ!$B$3:$B$1227,X$92,日付データ!$F$3:$F$1227)","v":{"$error":"#N/A"}},{"$f":"SUMIF(日付データ!$B$3:$B$1227,Y$92,日付データ!$F$3:$F$1227)","v":{"$error":"#N/A"}},{"$f":"SUMIF(日付データ!$B$3:$B$1227,Z$92,日付データ!$F$3:$F$1227)","v":{"$error":"#N/A"}},{"$f":"SUMIF(日付データ!$B$3:$B$1227,AA$92,日付データ!$F$3:$F$1227)","v":{"$error":"#N/A"}},{"$f":"SUMIF(日付データ!$B$3:$B$1227,AB$92,日付データ!$F$3:$F$1227)","v":{"$error":"#N/A"}},{"$f":"SUMIF(日付データ!$B$3:$B$1227,AC$92,日付データ!$F$3:$F$1227)","v":{"$error":"#N/A"}},{"$f":"SUMIF(日付データ!$B$3:$B$1227,AD$92,日付データ!$F$3:$F$1227)","v":{"$error":"#N/A"}},{"$f":"SUMIF(日付データ!$B$3:$B$1227,AE$92,日付データ!$F$3:$F$1227)","v":{"$error":"#N/A"}},{"$f":"SUMIF(日付データ!$B$3:$B$1227,AF$92,日付データ!$F$3:$F$1227)","v":{"$error":"#N/A"}},{"$f":"SUMIF(日付データ!$B$3:$B$1227,AG$92,日付データ!$F$3:$F$1227)","v":{"$error":"#N/A"}},{"$f":"SUMIF(日付データ!$B$3:$B$1227,AH$92,日付データ!$F$3:$F$1227)","v":{"$error":"#N/A"}},{"$f":"SUMIF(日付データ!$B$3:$B$1227,AI$92,日付データ!$F$3:$F$1227)","v":{"$error":"#N/A"}},{"$f":"SUMIF(日付データ!$B$3:$B$1227,AJ$92,日付データ!$F$3:$F$1227)","v":{"$error":"#N/A"}},{"$f":"SUMIF(日付データ!$B$3:$B$1227,AK$92,日付データ!$F$3:$F$1227)","v":{"$error":"#N/A"}},{"$f":"SUMIF(日付データ!$B$3:$B$1227,AL$92,日付データ!$F$3:$F$1227)","v":{"$error":"#N/A"}},{"$f":"SUMIF(日付データ!$B$3:$B$1227,AM$92,日付データ!$F$3:$F$1227)","v":{"$error":"#N/A"}},{"$f":"SUMIF(日付データ!$B$3:$B$1227,AN$92,日付データ!$F$3:$F$1227)","v":{"$error":"#N/A"}},{"$f":"SUMIF(日付データ!$B$3:$B$1227,AO$92,日付データ!$F$3:$F$1227)","v":{"$error":"#N/A"}},{"$f":"SUMIF(日付データ!$B$3:$B$1227,AP$92,日付データ!$F$3:$F$1227)","v":{"$error":"#N/A"}},{"$f":"SUMIF(日付データ!$B$3:$B$1227,AQ$92,日付データ!$F$3:$F$1227)","v":{"$error":"#N/A"}},{"$f":"SUMIF(日付データ!$B$3:$B$1227,AR$92,日付データ!$F$3:$F$1227)","v":{"$error":"#N/A"}},{"$f":"SUMIF(日付データ!$B$3:$B$1227,AS$92,日付データ!$F$3:$F$1227)","v":{"$error":"#N/A"}},{"$f":"SUMIF(日付データ!$B$3:$B$1227,AT$92,日付データ!$F$3:$F$1227)","v":{"$error":"#N/A"}},{"$f":"SUMIF(日付データ!$B$3:$B$1227,AU$92,日付データ!$F$3:$F$1227)","v":{"$error":"#N/A"}},{"$f":"SUMIF(日付データ!$B$3:$B$1227,AV$92,日付データ!$F$3:$F$1227)","v":{"$error":"#N/A"}},{"$f":"SUMIF(日付データ!$B$3:$B$1227,AW$92,日付データ!$F$3:$F$1227)","v":{"$error":"#N/A"}},{"$f":"SUMIF(日付データ!$B$3:$B$1227,AX$92,日付データ!$F$3:$F$1227)","v":{"$error":"#N/A"}},{"$f":"SUMIF(日付データ!$B$3:$B$1227,AY$92,日付データ!$F$3:$F$1227)","v":{"$error":"#N/A"}},{"$f":"SUMIF(日付データ!$B$3:$B$1227,AZ$92,日付データ!$F$3:$F$1227)","v":{"$error":"#N/A"}},{"$f":"SUMIF(日付データ!$B$3:$B$1227,BA$92,日付データ!$F$3:$F$1227)","v":{"$error":"#N/A"}},{"$f":"SUMIF(日付データ!$B$3:$B$1227,BB$92,日付データ!$F$3:$F$1227)","v":{"$error":"#N/A"}},{"$f":"SUMIF(日付データ!$B$3:$B$1227,BC$92,日付データ!$F$3:$F$1227)","v":{"$error":"#N/A"}},{"$f":"SUMIF(日付データ!$B$3:$B$1227,BD$92,日付データ!$F$3:$F$1227)","v":{"$error":"#N/A"}},{"$f":"SUMIF(日付データ!$B$3:$B$1227,BE$92,日付データ!$F$3:$F$1227)","v":{"$error":"#N/A"}},{"$f":"SUMIF(日付データ!$B$3:$B$1227,BF$92,日付データ!$F$3:$F$1227)","v":{"$error":"#N/A"}},{"$f":"SUMIF(日付データ!$B$3:$B$1227,BG$92,日付データ!$F$3:$F$1227)","v":{"$error":"#N/A"}},{"$f":"SUMIF(日付データ!$B$3:$B$1227,BH$92,日付データ!$F$3:$F$1227)","v":{"$error":"#N/A"}},{"$f":"SUMIF(日付データ!$B$3:$B$1227,BI$92,日付データ!$F$3:$F$1227)","v":{"$error":"#N/A"}},{"$f":"SUMIF(日付データ!$B$3:$B$1227,BJ$92,日付データ!$F$3:$F$1227)","v":{"$error":"#N/A"}},{"$f":"SUMIF(日付データ!$B$3:$B$1227,BK$92,日付データ!$F$3:$F$1227)","v":{"$error":"#N/A"}},{"$f":"SUMIF(日付データ!$B$3:$B$1227,BL$92,日付データ!$F$3:$F$1227)","v":{"$error":"#N/A"}},{"$f":"SUMIF(日付データ!$B$3:$B$1227,BM$92,日付データ!$F$3:$F$1227)","v":{"$error":"#N/A"}},{"$f":"SUMIF(日付データ!$B$3:$B$1227,BN$92,日付データ!$F$3:$F$1227)","v":{"$error":"#N/A"}},{"$f":"SUMIF(日付データ!$B$3:$B$1227,BO$92,日付データ!$F$3:$F$1227)","v":{"$error":"#N/A"}},{"$f":"SUMIF(日付データ!$B$3:$B$1227,BP$92,日付データ!$F$3:$F$1227)","v":{"$error":"#N/A"}},{"$f":"SUMIF(日付データ!$B$3:$B$1227,BQ$92,日付データ!$F$3:$F$1227)","v":{"$error":"#N/A"}},{"$f":"SUMIF(日付データ!$B$3:$B$1227,BR$92,日付データ!$F$3:$F$1227)","v":{"$error":"#N/A"}},{"$f":"SUMIF(日付データ!$B$3:$B$1227,BS$92,日付データ!$F$3:$F$1227)","v":{"$error":"#N/A"}},{"$f":"SUMIF(日付データ!$B$3:$B$1227,BT$92,日付データ!$F$3:$F$1227)","v":{"$error":"#N/A"}},{"$f":"SUMIF(日付データ!$B$3:$B$1227,BU$92,日付データ!$F$3:$F$1227)","v":{"$error":"#N/A"}},null,null,null,null,null,null,null,null,null,null,null,null,null,null,null,null,null,null,null,null,{"$f":"SUMIF(日付データ!$B$3:$B$1227,CP$92,日付データ!$I$3:$I$1227)","v":{"$error":"#N/A"}},{"$f":"SUMIF(日付データ!$B$3:$B$1227,CQ$92,日付データ!$I$3:$I$1227)","v":{"$error":"#N/A"}},{"$f":"SUMIF(日付データ!$B$3:$B$1227,CR$92,日付データ!$I$3:$I$1227)","v":{"$error":"#N/A"}},{"$f":"SUMIF(日付データ!$B$3:$B$1227,CS$92,日付データ!$I$3:$I$1227)","v":{"$error":"#N/A"}},{"$f":"SUMIF(日付データ!$B$3:$B$1227,CT$92,日付データ!$I$3:$I$1227)","v":{"$error":"#N/A"}},{"$f":"SUMIF(日付データ!$B$3:$B$1227,CU$92,日付データ!$I$3:$I$1227)","v":{"$error":"#N/A"}},{"$f":"SUMIF(日付データ!$B$3:$B$1227,CV$92,日付データ!$I$3:$I$1227)","v":{"$error":"#N/A"}},{"$f":"SUMIF(日付データ!$B$3:$B$1227,CW$92,日付データ!$I$3:$I$1227)","v":{"$error":"#N/A"}},{"$f":"SUMIF(日付データ!$B$3:$B$1227,CX$92,日付データ!$I$3:$I$1227)","v":{"$error":"#N/A"}},{"$f":"SUMIF(日付データ!$B$3:$B$1227,CY$92,日付データ!$I$3:$I$1227)","v":{"$error":"#N/A"}},{"$f":"SUMIF(日付データ!$B$3:$B$1227,CZ$92,日付データ!$I$3:$I$1227)","v":{"$error":"#N/A"}},{"$f":"SUMIF(日付データ!$B$3:$B$1227,DA$92,日付データ!$I$3:$I$1227)","v":{"$error":"#N/A"}},{"$f":"SUMIF(日付データ!$B$3:$B$1227,DB$92,日付データ!$I$3:$I$1227)","v":{"$error":"#N/A"}},{"$f":"SUMIF(日付データ!$B$3:$B$1227,DC$92,日付データ!$I$3:$I$1227)","v":{"$error":"#N/A"}},{"$f":"SUMIF(日付データ!$B$3:$B$1227,DD$92,日付データ!$I$3:$I$1227)","v":{"$error":"#N/A"}},{"$f":"SUMIF(日付データ!$B$3:$B$1227,DE$92,日付データ!$I$3:$I$1227)","v":{"$error":"#N/A"}},{"$f":"SUMIF(日付データ!$B$3:$B$1227,DF$92,日付データ!$I$3:$I$1227)","v":{"$error":"#N/A"}},{"$f":"SUMIF(日付データ!$B$3:$B$1227,DG$92,日付データ!$I$3:$I$1227)","v":{"$error":"#N/A"}},{"$f":"SUMIF(日付データ!$B$3:$B$1227,DH$92,日付データ!$I$3:$I$1227)","v":{"$error":"#N/A"}},{"$f":"SUMIF(日付データ!$B$3:$B$1227,DI$92,日付データ!$I$3:$I$1227)","v":{"$error":"#N/A"}},{"$f":"SUMIF(日付データ!$B$3:$B$1227,DJ$92,日付データ!$I$3:$I$1227)","v":{"$error":"#N/A"}},{"$f":"SUMIF(日付データ!$B$3:$B$1227,DK$92,日付データ!$I$3:$I$1227)","v":{"$error":"#N/A"}},{"$f":"SUMIF(日付データ!$B$3:$B$1227,DL$92,日付データ!$I$3:$I$1227)","v":{"$error":"#N/A"}},{"$f":"SUMIF(日付データ!$B$3:$B$1227,DM$92,日付データ!$I$3:$I$1227)","v":{"$error":"#N/A"}},{"$f":"SUMIF(日付データ!$B$3:$B$1227,DN$92,日付データ!$I$3:$I$1227)","v":{"$error":"#N/A"}},{"$f":"SUMIF(日付データ!$B$3:$B$1227,DO$92,日付データ!$I$3:$I$1227)","v":{"$error":"#N/A"}},{"$f":"SUMIF(日付データ!$B$3:$B$1227,DP$92,日付データ!$I$3:$I$1227)","v":{"$error":"#N/A"}},{"$f":"SUMIF(日付データ!$B$3:$B$1227,DQ$92,日付データ!$I$3:$I$1227)","v":{"$error":"#N/A"}},{"$f":"SUMIF(日付データ!$B$3:$B$1227,DR$92,日付データ!$I$3:$I$1227)","v":{"$error":"#N/A"}},{"$f":"SUMIF(日付データ!$B$3:$B$1227,DS$92,日付データ!$I$3:$I$1227)","v":{"$error":"#N/A"}},{"$f":"SUMIF(日付データ!$B$3:$B$1227,DT$92,日付データ!$I$3:$I$1227)","v":{"$error":"#N/A"}},{"$f":"SUMIF(日付データ!$B$3:$B$1227,DU$92,日付データ!$I$3:$I$1227)","v":{"$error":"#N/A"}},{"$f":"SUMIF(日付データ!$B$3:$B$1227,DV$92,日付データ!$I$3:$I$1227)","v":{"$error":"#N/A"}},{"$f":"SUMIF(日付データ!$B$3:$B$1227,DW$92,日付データ!$I$3:$I$1227)","v":{"$error":"#N/A"}},{"$f":"SUMIF(日付データ!$B$3:$B$1227,DX$92,日付データ!$I$3:$I$1227)","v":{"$error":"#N/A"}},{"$f":"SUMIF(日付データ!$B$3:$B$1227,DY$92,日付データ!$I$3:$I$1227)","v":{"$error":"#N/A"}},{"$f":"SUMIF(日付データ!$B$3:$B$1227,DZ$92,日付データ!$I$3:$I$1227)","v":{"$error":"#N/A"}},{"$f":"SUMIF(日付データ!$B$3:$B$1227,EA$92,日付データ!$I$3:$I$1227)","v":{"$error":"#N/A"}},{"$f":"SUMIF(日付データ!$B$3:$B$1227,EB$92,日付データ!$I$3:$I$1227)","v":{"$error":"#N/A"}},{"$f":"SUMIF(日付データ!$B$3:$B$1227,EC$92,日付データ!$I$3:$I$1227)","v":{"$error":"#N/A"}},{"$f":"SUMIF(日付データ!$B$3:$B$1227,ED$92,日付データ!$I$3:$I$1227)","v":{"$error":"#N/A"}},{"$f":"SUMIF(日付データ!$B$3:$B$1227,EE$92,日付データ!$I$3:$I$1227)","v":{"$error":"#N/A"}},{"$f":"SUMIF(日付データ!$B$3:$B$1227,EF$92,日付データ!$I$3:$I$1227)","v":{"$error":"#N/A"}},{"$f":"SUMIF(日付データ!$B$3:$B$1227,EG$92,日付データ!$I$3:$I$1227)","v":{"$error":"#N/A"}},{"$f":"SUMIF(日付データ!$B$3:$B$1227,EH$92,日付データ!$I$3:$I$1227)","v":{"$error":"#N/A"}},{"$f":"SUMIF(日付データ!$B$3:$B$1227,EI$92,日付データ!$I$3:$I$1227)","v":{"$error":"#N/A"}},{"$f":"SUMIF(日付データ!$B$3:$B$1227,EJ$92,日付データ!$I$3:$I$1227)","v":{"$error":"#N/A"}},{"$f":"SUMIF(日付データ!$B$3:$B$1227,EK$92,日付データ!$I$3:$I$1227)","v":{"$error":"#N/A"}},{"$f":"SUMIF(日付データ!$B$3:$B$1227,EL$92,日付データ!$I$3:$I$1227)","v":{"$error":"#N/A"}},{"$f":"SUMIF(日付データ!$B$3:$B$1227,EM$92,日付データ!$I$3:$I$1227)","v":{"$error":"#N/A"}},{"$f":"SUMIF(日付データ!$B$3:$B$1227,EN$92,日付データ!$I$3:$I$1227)","v":{"$error":"#N/A"}},{"$f":"SUMIF(日付データ!$B$3:$B$1227,EO$92,日付データ!$I$3:$I$1227)","v":{"$error":"#N/A"}},{"$f":"SUMIF(日付データ!$B$3:$B$1227,EP$92,日付データ!$I$3:$I$1227)","v":{"$error":"#N/A"}},{"$f":"SUMIF(日付データ!$B$3:$B$1227,EQ$92,日付データ!$I$3:$I$1227)","v":{"$error":"#N/A"}},{"$f":"SUMIF(日付データ!$B$3:$B$1227,ER$92,日付データ!$I$3:$I$1227)","v":{"$error":"#N/A"}},{"$f":"SUMIF(日付データ!$B$3:$B$1227,ES$92,日付データ!$I$3:$I$1227)","v":{"$error":"#N/A"}},{"$f":"SUMIF(日付データ!$B$3:$B$1227,ET$92,日付データ!$I$3:$I$1227)","v":{"$error":"#N/A"}},{"$f":"SUMIF(日付データ!$B$3:$B$1227,EU$92,日付データ!$I$3:$I$1227)","v":{"$error":"#N/A"}},{"$f":"SUMIF(日付データ!$B$3:$B$1227,EV$92,日付データ!$I$3:$I$1227)","v":{"$error":"#N/A"}},{"$f":"SUMIF(日付データ!$B$3:$B$1227,EW$92,日付データ!$I$3:$I$1227)","v":{"$error":"#N/A"}},{"$f":"SUMIF(日付データ!$B$3:$B$1227,EX$92,日付データ!$I$3:$I$1227)","v":{"$error":"#N/A"}},{"$f":"SUMIF(日付データ!$B$3:$B$1227,EY$92,日付データ!$I$3:$I$1227)","v":{"$error":"#N/A"}},{"$f":"SUMIF(日付データ!$B$3:$B$1227,EZ$92,日付データ!$I$3:$I$1227)","v":{"$error":"#N/A"}},{"$f":"SUMIF(日付データ!$B$3:$B$1227,FA$92,日付データ!$I$3:$I$1227)","v":{"$error":"#N/A"}},{"$f":"SUMIF(日付データ!$B$3:$B$1227,FB$92,日付データ!$I$3:$I$1227)","v":{"$error":"#N/A"}},{"$f":"SUMIF(日付データ!$B$3:$B$1227,FC$92,日付データ!$I$3:$I$1227)","v":{"$error":"#N/A"}},{"$f":"SUMIF(日付データ!$B$3:$B$1227,FD$92,日付データ!$I$3:$I$1227)","v":{"$error":"#N/A"}},{"$f":"SUMIF(日付データ!$B$3:$B$1227,FE$92,日付データ!$I$3:$I$1227)","v":{"$error":"#N/A"}},{"$f":"SUMIF(日付データ!$B$3:$B$1227,FF$92,日付データ!$I$3:$I$1227)","v":{"$error":"#N/A"}},{"$f":"SUMIF(日付データ!$B$3:$B$1227,FG$92,日付データ!$I$3:$I$1227)","v":{"$error":"#N/A"}},{"$f":"SUMIF(日付データ!$B$3:$B$1227,FH$92,日付データ!$I$3:$I$1227)","v":{"$error":"#N/A"}}]
[]
[]
[]
[]
[]
[]
[null,null,{"$f":"IF(AT4=\"\",\"\",+AI14+1)","v":""},null,null,null,null,null,null,null,null,null,null,null,null,null,null,null,null,null,"～",null,null,{"$f":"IF(AT4=\"\",\"\",+AI13)","v":""},null,null,null,null,null,null,null,null,null,null,null,null,null,null,null,null,null,null,null,null,null,null,null,null,null,null,null,null,null,null,null,null,null,null,null,null,null,null,null,null,null,null,null,null,null,null,null,null,null,null,null,null,null,null,null,null,null,null,null,null,null,null,null,null,{"$f":"IF(AT4=\"\",\"\",+AI8+1)","v":""},null,null,null,null,null,null,null,null,null,null,null,null,null,null,null,null,null,"～",null,null,{"$f":"IF(AT4=\"\",\"\",+AI12)","v":""}]
[]
[]
[]
[]
[null,null,{"$f":"IF(AT4=\"\",\"\",+AI18+1)","v":""},null,null,null,null,null,null,null,null,null,null,null,null,null,null,null,null,null,"～",null,null,{"$f":"IF(AT4=\"\",\"\",+AI9)","v":""},null,null,null,null,null,null,null,null,null,null,null,null,null,null,null,null,null,null,null,null,null,null,null,null,null,null,null,null,null,null,null,null,null,null,null,null,null,null,null,null,null,null,null,null,null,null,null,null,null,null,null,null,null,null,null,null,null,null,null,null,null,null,null,null,{"$f":"IF(AT4=\"\",\"\",+AI17+1)","v":""},null,null,null,null,null,null,null,null,null,null,null,null,null,null,null,null,null,"～",null,null,{"$f":"IF(AT4=\"\",\"\",+AI9)","v":""}]
[]
[]
[]
[]
[null,null,{"$f":"IF(AT4=\"\",\"\",+AI17+1)","v":""},null,null,null,null,null,null,null,null,null,null,null,null,null,null,null,null,null,"～",null,null,{"$f":"IF(AT4=\"\",\"\",+AI10)","v":""},null,null,null,null,null,null,null,null,null,null,null,null,null,null,null,null,null,null,null,null,null,null,null,null,null,null,null,null,null,null,null,null,null,null,null,null,null,null,null,null,null,null,null,null,null,null,null,null,null,null,null,null,null,null,null,null,null,null,null,null,null,null,null,null,{"$f":"IF(AT4=\"\",\"\",+AI16+1)","v":""},null,null,null,null,null,null,null,null,null,null,null,null,null,null,null,null,null,"～",null,null,{"$f":"IF(AT4=\"\",\"\",+AI10)","v":""}]
[]
[]
[]
[]
[null,null,{"$f":"IF(AT4=\"\",\"\",+AI16+1)","v":""},null,null,null,null,null,null,null,null,null,null,null,null,null,null,null,null,null,"～",null,null,{"$f":"IF(AT4=\"\",\"\",+AI11)","v":""},null,null,null,null,null,null,null,null,null,null,null,null,null,null,null,null,null,null,null,null,null,null,null,null,null,null,null,null,null,null,null,null,null,null,null,null,null,null,null,null,null,null,null,null,null,null,null,null,null,null,null,null,null,null,null,null,null,null,null,null,null,null,null,null,{"$f":"IF(AT4=\"\",\"\",+AI15+1)","v":""},null,null,null,null,null,null,null,null,null,null,null,null,null,null,null,null,null,"～",null,null,{"$f":"IF(AT4=\"\",\"\",+AI11)","v":""}]
[]
[]
[]
[]
[null,null,{"$f":"IF(AT4=\"\",\"\",+AI15+1)","v":""},null,null,null,null,null,null,null,null,null,null,null,null,null,null,null,null,null,"～",null,null,{"$f":"IF(AT4=\"\",\"\",+AI12)","v":""}]

{"sheet":"日付データ","index":1,"n_rows":1372,"n_cols":11,"rows_kept":1372,"cut":false,"hidden":true,"merged":[]}
[null,null,null,null,"個人",null,null,"団体"]
["NO","Group","Date","講習日から60日以内①","更新の申請期間②","①+②","F列の累計","更新の申請期間②","①+②","F列の累計","C列と同じ"]
[1,1,{"$f":"+シート!AT4","v":"00:00:00"},{"$f":"+IF(AND(C3-シート!$BV$67>=0,シート!$AI$19-C3>=0),1,0)","v":{"$error":"#N/A"}},{"$f":"IF(AND(C3-シート!$C$87>=0,シート!$X$87-C3>=0),1,0)","v":{"$error":"#VALUE!"}},{"$f":"IF(+D3+E3=2,1,0)","v":{"$error":"#N/A"}},{"$f":"+F3","v":{"$error":"#N/A"}},{"$f":"IF(AND(C3-シート!$CP$87>=0,シート!$DK$87-C3>=0),1,0)","v":{"$error":"#VALUE!"}},{"$f":"IF(+D3+H3=2,1,0)","v":{"$error":"#N/A"}},{"$f":"+I3","v":{"$error":"#N/A"}},{"$f":"+C3","v":"00:00:00"}]
[{"$f":"+A3+1","v":2},1,{"$f":"+C3+1","v":"1900-01-01"},{"$f":"+IF(AND(C4-シート!$BV$67>=0,シート!$AI$19-C4>=0),1,0)","v":{"$error":"#N/A"}},{"$f":"IF(AND(C4-シート!$C$87>=0,シート!$X$87-C4>=0),1,0)","v":{"$error":"#VALUE!"}},{"$f":"IF(+D4+E4=2,1,0)","v":{"$error":"#N/A"}},{"$f":"+G3+F4","v":{"$error":"#N/A"}},{"$f":"IF(AND(C4-シート!$CP$87>=0,シート!$DK$87-C4>=0),1,0)","v":{"$error":"#VALUE!"}},{"$f":"IF(+D4+H4=2,1,0)","v":{"$error":"#N/A"}},{"$f":"+J3+I4","v":{"$error":"#N/A"}},{"$f":"+C4","v":"1900-01-01"}]
[{"$f":"+A4+1","v":3},1,{"$f":"+C4+1","v":"1900-01-02"},{"$f":"+IF(AND(C5-シート!$BV$67>=0,シート!$AI$19-C5>=0),1,0)","v":{"$error":"#N/A"}},{"$f":"IF(AND(C5-シート!$C$87>=0,シート!$X$87-C5>=0),1,0)","v":{"$error":"#VALUE!"}},{"$error":"#N/A"},{"$f":"+G4+F5","v":{"$error":"#N/A"}},{"$f":"IF(AND(C5-シート!$CP$87>=0,シート!$DK$87-C5>=0),1,0)","v":{"$error":"#VALUE!"}},{"$error":"#N/A"},{"$f":"+J4+I5","v":{"$error":"#N/A"}},"1900-01-02"]
[4,1,"1900-01-03",{"$f":"+IF(AND(C6-シート!$BV$67>=0,シート!$AI$19-C6>=0),1,0)","v":{"$error":"#N/A"}},{"$f":"IF(AND(C6-シート!$C$87>=0,シート!$X$87-C6>=0),1,0)","v":{"$error":"#VALUE!"}},{"$error":"#N/A"},{"$error":"#N/A"},{"$f":"IF(AND(C6-シート!$CP$87>=0,シート!$DK$87-C6>=0),1,0)","v":{"$error":"#VALUE!"}},{"$error":"#N/A"},{"$error":"#N/A"},"1900-01-03"]
[5,1,"1900-01-04",{"$f":"+IF(AND(C7-シート!$BV$67>=0,シート!$AI$19-C7>=0),1,0)","v":{"$error":"#N/A"}},{"$f":"IF(AND(C7-シート!$C$87>=0,シート!$X$87-C7>=0),1,0)","v":{"$error":"#VALUE!"}},{"$error":"#N/A"},{"$error":"#N/A"},{"$f":"IF(AND(C7-シート!$CP$87>=0,シート!$DK$87-C7>=0),1,0)","v":{"$error":"#VALUE!"}},{"$error":"#N/A"},{"$error":"#N/A"},"1900-01-04"]
[6,1,"1900-01-05",{"$f":"+IF(AND(C8-シート!$BV$67>=0,シート!$AI$19-C8>=0),1,0)","v":{"$error":"#N/A"}},{"$f":"IF(AND(C8-シート!$C$87>=0,シート!$X$87-C8>=0),1,0)","v":{"$error":"#VALUE!"}},{"$error":"#N/A"},{"$error":"#N/A"},{"$f":"IF(AND(C8-シート!$CP$87>=0,シート!$DK$87-C8>=0),1,0)","v":{"$error":"#VALUE!"}},{"$error":"#N/A"},{"$error":"#N/A"},"1900-01-05"]
[7,1,"1900-01-06",{"$f":"+IF(AND(C9-シート!$BV$67>=0,シート!$AI$19-C9>=0),1,0)","v":{"$error":"#N/A"}},{"$f":"IF(AND(C9-シート!$C$87>=0,シート!$X$87-C9>=0),1,0)","v":{"$error":"#VALUE!"}},{"$error":"#N/A"},{"$error":"#N/A"},{"$f":"IF(AND(C9-シート!$CP$87>=0,シート!$DK$87-C9>=0),1,0)","v":{"$error":"#VALUE!"}},{"$error":"#N/A"},{"$error":"#N/A"},"1900-01-06"]
[8,1,"1900-01-07",{"$f":"+IF(AND(C10-シート!$BV$67>=0,シート!$AI$19-C10>=0),1,0)","v":{"$error":"#N/A"}},{"$f":"IF(AND(C10-シート!$C$87>=0,シート!$X$87-C10>=0),1,0)","v":{"$error":"#VALUE!"}},{"$error":"#N/A"},{"$error":"#N/A"},{"$f":"IF(AND(C10-シート!$CP$87>=0,シート!$DK$87-C10>=0),1,0)","v":{"$error":"#VALUE!"}},{"$error":"#N/A"},{"$error":"#N/A"},"1900-01-07"]
[9,1,"1900-01-08",{"$f":"+IF(AND(C11-シート!$BV$67>=0,シート!$AI$19-C11>=0),1,0)","v":{"$error":"#N/A"}},{"$f":"IF(AND(C11-シート!$C$87>=0,シート!$X$87-C11>=0),1,0)","v":{"$error":"#VALUE!"}},{"$error":"#N/A"},{"$error":"#N/A"},{"$f":"IF(AND(C11-シート!$CP$87>=0,シート!$DK$87-C11>=0),1,0)","v":{"$error":"#VALUE!"}},{"$error":"#N/A"},{"$error":"#N/A"},"1900-01-08"]
[10,1,"1900-01-09",{"$f":"+IF(AND(C12-シート!$BV$67>=0,シート!$AI$19-C12>=0),1,0)","v":{"$error":"#N/A"}},{"$f":"IF(AND(C12-シート!$C$87>=0,シート!$X$87-C12>=0),1,0)","v":{"$error":"#VALUE!"}},{"$error":"#N/A"},{"$error":"#N/A"},{"$f":"IF(AND(C12-シート!$CP$87>=0,シート!$DK$87-C12>=0),1,0)","v":{"$error":"#VALUE!"}},{"$error":"#N/A"},{"$error":"#N/A"},"1900-01-09"]
[11,2,"1900-01-10",{"$f":"+IF(AND(C13-シート!$BV$67>=0,シート!$AI$19-C13>=0),1,0)","v":{"$error":"#N/A"}},{"$f":"IF(AND(C13-シート!$C$87>=0,シート!$X$87-C13>=0),1,0)","v":{"$error":"#VALUE!"}},{"$error":"#N/A"},{"$error":"#N/A"},{"$f":"IF(AND(C13-シート!$CP$87>=0,シート!$DK$87-C13>=0),1,0)","v":{"$error":"#VALUE!"}},{"$error":"#N/A"},{"$error":"#N/A"},"1900-01-10"]
[12,2,"1900-01-11",{"$f":"+IF(AND(C14-シート!$BV$67>=0,シート!$AI$19-C14>=0),1,0)","v":{"$error":"#N/A"}},{"$f":"IF(AND(C14-シート!$C$87>=0,シート!$X$87-C14>=0),1,0)","v":{"$error":"#VALUE!"}},{"$error":"#N/A"},{"$error":"#N/A"},{"$f":"IF(AND(C14-シート!$CP$87>=0,シート!$DK$87-C14>=0),1,0)","v":{"$error":"#VALUE!"}},{"$error":"#N/A"},{"$error":"#N/A"},"1900-01-11"]
[13,2,"1900-01-12",{"$f":"+IF(AND(C15-シート!$BV$67>=0,シート!$AI$19-C15>=0),1,0)","v":{"$error":"#N/A"}},{"$f":"IF(AND(C15-シート!$C$87>=0,シート!$X$87-C15>=0),1,0)","v":{"$error":"#VALUE!"}},{"$error":"#N/A"},{"$error":"#N/A"},{"$f":"IF(AND(C15-シート!$CP$87>=0,シート!$DK$87-C15>=0),1,0)","v":{"$error":"#VALUE!"}},{"$error":"#N/A"},{"$error":"#N/A"},"1900-01-12"]
[14,2,"1900-01-13",{"$f":"+IF(AND(C16-シート!$BV$67>=0,シート!$AI$19-C16>=0),1,0)","v":{"$error":"#N/A"}},{"$f":"IF(AND(C16-シート!$C$87>=0,シート!$X$87-C16>=0),1,0)","v":{"$error":"#VALUE!"}},{"$error":"#N/A"},{"$error":"#N/A"},{"$f":"IF(AND(C16-シート!$CP$87>=0,シート!$DK$87-C16>=0),1,0)","v":{"$error":"#VALUE!"}},{"$error":"#N/A"},{"$error":"#N/A"},"1900-01-13"]
[15,2,"1900-01-14",{"$f":"+IF(AND(C17-シート!$BV$67>=0,シート!$AI$19-C17>=0),1,0)","v":{"$error":"#N/A"}},{"$f":"IF(AND(C17-シート!$C$87>=0,シート!$X$87-C17>=0),1,0)","v":{"$error":"#VALUE!"}},{"$error":"#N/A"},{"$error":"#N/A"},{"$f":"IF(AND(C17-シート!$CP$87>=0,シート!$DK$87-C17>=0),1,0)","v":{"$error":"#VALUE!"}},{"$error":"#N/A"},{"$error":"#N/A"},"1900-01-14"]
[16,2,"1900-01-15",{"$f":"+IF(AND(C18-シート!$BV$67>=0,シート!$AI$19-C18>=0),1,0)","v":{"$error":"#N/A"}},{"$f":"IF(AND(C18-シート!$C$87>=0,シート!$X$87-C18>=0),1,0)","v":{"$error":"#VALUE!"}},{"$error":"#N/A"},{"$error":"#N/A"},{"$f":"IF(AND(C18-シート!$CP$87>=0,シート!$DK$87-C18>=0),1,0)","v":{"$error":"#VALUE!"}},{"$error":"#N/A"},{"$error":"#N/A"},"1900-01-15"]
[17,2,"1900-01-16",{"$f":"+IF(AND(C19-シート!$BV$67>=0,シート!$AI$19-C19>=0),1,0)","v":{"$error":"#N/A"}},{"$f":"IF(AND(C19-シート!$C$87>=0,シート!$X$87-C19>=0),1,0)","v":{"$error":"#VALUE!"}},{"$error":"#N/A"},{"$error":"#N/A"},{"$f":"IF(AND(C19-シート!$CP$87>=0,シート!$DK$87-C19>=0),1,0)","v":{"$error":"#VALUE!"}},{"$error":"#N/A"},{"$error":"#N/A"},"1900-01-16"]
[18,2,"1900-01-17",{"$f":"+IF(AND(C20-シート!$BV$67>=0,シート!$AI$19-C20>=0),1,0)","v":{"$error":"#N/A"}},{"$f":"IF(AND(C20-シート!$C$87>=0,シート!$X$87-C20>=0),1,0)","v":{"$error":"#VALUE!"}},{"$error":"#N/A"},{"$error":"#N/A"},{"$f":"IF(AND(C20-シート!$CP$87>=0,シート!$DK$87-C20>=0),1,0)","v":{"$error":"#VALUE!"}},{"$error":"#N/A"},{"$error":"#N/A"},"1900-01-17"]
[19,2,"1900-01-18",{"$f":"+IF(AND(C21-シート!$BV$67>=0,シート!$AI$19-C21>=0),1,0)","v":{"$error":"#N/A"}},{"$f":"IF(AND(C21-シート!$C$87>=0,シート!$X$87-C21>=0),1,0)","v":{"$error":"#VALUE!"}},{"$error":"#N/A"},{"$error":"#N/A"},{"$f":"IF(AND(C21-シート!$CP$87>=0,シート!$DK$87-C21>=0),1,0)","v":{"$error":"#VALUE!"}},{"$error":"#N/A"},{"$error":"#N/A"},"1900-01-18"]
[20,2,"1900-01-19",{"$f":"+IF(AND(C22-シート!$BV$67>=0,シート!$AI$19-C22>=0),1,0)","v":{"$error":"#N/A"}},{"$f":"IF(AND(C22-シート!$C$87>=0,シート!$X$87-C22>=0),1,0)","v":{"$error":"#VALUE!"}},{"$error":"#N/A"},{"$error":"#N/A"},{"$f":"IF(AND(C22-シート!$CP$87>=0,シート!$DK$87-C22>=0),1,0)","v":{"$error":"#VALUE!"}},{"$error":"#N/A"},{"$error":"#N/A"},"1900-01-19"]
[21,2,"1900-01-20",{"$f":"+IF(AND(C23-シート!$BV$67>=0,シート!$AI$19-C23>=0),1,0)","v":{"$error":"#N/A"}},{"$f":"IF(AND(C23-シート!$C$87>=0,シート!$X$87-C23>=0),1,0)","v":{"$error":"#VALUE!"}},{"$error":"#N/A"},{"$error":"#N/A"},{"$f":"IF(AND(C23-シート!$CP$87>=0,シート!$DK$87-C23>=0),1,0)","v":{"$error":"#VALUE!"}},{"$error":"#N/A"},{"$error":"#N/A"},"1900-01-20"]
[22,3,"1900-01-21",{"$f":"+IF(AND(C24-シート!$BV$67>=0,シート!$AI$19-C24>=0),1,0)","v":{"$error":"#N/A"}},{"$f":"IF(AND(C24-シート!$C$87>=0,シート!$X$87-C24>=0),1,0)","v":{"$error":"#VALUE!"}},{"$error":"#N/A"},{"$error":"#N/A"},{"$f":"IF(AND(C24-シート!$CP$87>=0,シート!$DK$87-C24>=0),1,0)","v":{"$error":"#VALUE!"}},{"$error":"#N/A"},{"$error":"#N/A"},"1900-01-21"]
[23,3,"1900-01-22",{"$f":"+IF(AND(C25-シート!$BV$67>=0,シート!$AI$19-C25>=0),1,0)","v":{"$error":"#N/A"}},{"$f":"IF(AND(C25-シート!$C$87>=0,シート!$X$87-C25>=0),1,0)","v":{"$error":"#VALUE!"}},{"$error":"#N/A"},{"$error":"#N/A"},{"$f":"IF(AND(C25-シート!$CP$87>=0,シート!$DK$87-C25>=0),1,0)","v":{"$error":"#VALUE!"}},{"$error":"#N/A"},{"$error":"#N/A"},"1900-01-22"]
[24,3,"1900-01-23",{"$f":"+IF(AND(C26-シート!$BV$67>=0,シート!$AI$19-C26>=0),1,0)","v":{"$error":"#N/A"}},{"$f":"IF(AND(C26-シート!$C$87>=0,シート!$X$87-C26>=0),1,0)","v":{"$error":"#VALUE!"}},{"$error":"#N/A"},{"$error":"#N/A"},{"$f":"IF(AND(C26-シート!$CP$87>=0,シート!$DK$87-C26>=0),1,0)","v":{"$error":"#VALUE!"}},{"$error":"#N/A"},{"$error":"#N/A"},"1900-01-23"]
[25,3,"1900-01-24",{"$f":"+IF(AND(C27-シート!$BV$67>=0,シート!$AI$19-C27>=0),1,0)","v":{"$error":"#N/A"}},{"$f":"IF(AND(C27-シート!$C$87>=0,シート!$X$87-C27>=0),1,0)","v":{"$error":"#VALUE!"}},{"$error":"#N/A"},{"$error":"#N/A"},{"$f":"IF(AND(C27-シート!$CP$87>=0,シート!$DK$87-C27>=0),1,0)","v":{"$error":"#VALUE!"}},{"$error":"#N/A"},{"$error":"#N/A"},"1900-01-24"]
[26,3,"1900-01-25",{"$f":"+IF(AND(C28-シート!$BV$67>=0,シート!$AI$19-C28>=0),1,0)","v":{"$error":"#N/A"}},{"$f":"IF(AND(C28-シート!$C$87>=0,シート!$X$87-C28>=0),1,0)","v":{"$error":"#VALUE!"}},{"$error":"#N/A"},{"$error":"#N/A"},{"$f":"IF(AND(C28-シート!$CP$87>=0,シート!$DK$87-C28>=0),1,0)","v":{"$error":"#VALUE!"}},{"$error":"#N/A"},{"$error":"#N/A"},"1900-01-25"]
[27,3,"1900-01-26",{"$f":"+IF(AND(C29-シート!$BV$67>=0,シート!$AI$19-C29>=0),1,0)","v":{"$error":"#N/A"}},{"$f":"IF(AND(C29-シート!$C$87>=0,シート!$X$87-C29>=0),1,0)","v":{"$error":"#VALUE!"}},{"$error":"#N/A"},{"$error":"#N/A"},{"$f":"IF(AND(C29-シート!$CP$87>=0,シート!$DK$87-C29>=0),1,0)","v":{"$error":"#VALUE!"}},{"$error":"#N/A"},{"$error":"#N/A"},"1900-01-26"]
[28,3,"1900-01-27",{"$f":"+IF(AND(C30-シート!$BV$67>=0,シート!$AI$19-C30>=0),1,0)","v":{"$error":"#N/A"}},{"$f":"IF(AND(C30-シート!$C$87>=0,シート!$X$87-C30>=0),1,0)","v":{"$error":"#VALUE!"}},{"$error":"#N/A"},{"$error":"#N/A"},{"$f":"IF(AND(C30-シート!$CP$87>=0,シート!$DK$87-C30>=0),1,0)","v":{"$error":"#VALUE!"}},{"$error":"#N/A"},{"$error":"#N/A"},"1900-01-27"]
[29,3,"1900-01-28",{"$f":"+IF(AND(C31-シート!$BV$67>=0,シート!$AI$19-C31>=0),1,0)","v":{"$error":"#N/A"}},{"$f":"IF(AND(C31-シート!$C$87>=0,シート!$X$87-C31>=0),1,0)","v":{"$error":"#VALUE!"}},{"$error":"#N/A"},{"$error":"#N/A"},{"$f":"IF(AND(C31-シート!$CP$87>=0,シート!$DK$87-C31>=0),1,0)","v":{"$error":"#VALUE!"}},{"$error":"#N/A"},{"$error":"#N/A"},"1900-01-28"]
[30,3,"1900-01-29",{"$f":"+IF(AND(C32-シート!$BV$67>=0,シート!$AI$19-C32>=0),1,0)","v":{"$error":"#N/A"}},{"$f":"IF(AND(C32-シート!$C$87>=0,シート!$X$87-C32>=0),1,0)","v":{"$error":"#VALUE!"}},{"$error":"#N/A"},{"$error":"#N/A"},{"$f":"IF(AND(C32-シート!$CP$87>=0,シート!$DK$87-C32>=0),1,0)","v":{"$error":"#VALUE!"}},{"$error":"#N/A"},{"$error":"#N/A"},"1900-01-29"]
[31,3,"1900-01-30",{"$f":"+IF(AND(C33-シート!$BV$67>=0,シート!$AI$19-C33>=0),1,0)","v":{"$error":"#N/A"}},{"$f":"IF(AND(C33-シート!$C$87>=0,シート!$X$87-C33>=0),1,0)","v":{"$error":"#VALUE!"}},{"$error":"#N/A"},{"$error":"#N/A"},{"$f":"IF(AND(C33-シート!$CP$87>=0,シート!$DK$87-C33>=0),1,0)","v":{"$error":"#VALUE!"}},{"$error":"#N/A"},{"$error":"#N/A"},"1900-01-30"]
[32,4,"1900-01-31",{"$f":"+IF(AND(C34-シート!$BV$67>=0,シート!$AI$19-C34>=0),1,0)","v":{"$error":"#N/A"}},{"$f":"IF(AND(C34-シート!$C$87>=0,シート!$X$87-C34>=0),1,0)","v":{"$error":"#VALUE!"}},{"$error":"#N/A"},{"$error":"#N/A"},{"$f":"IF(AND(C34-シート!$CP$87>=0,シート!$DK$87-C34>=0),1,0)","v":{"$error":"#VALUE!"}},{"$error":"#N/A"},{"$error":"#N/A"},"1900-01-31"]
[33,4,"1900-02-01",{"$f":"+IF(AND(C35-シート!$BV$67>=0,シート!$AI$19-C35>=0),1,0)","v":{"$error":"#N/A"}},{"$f":"IF(AND(C35-シート!$C$87>=0,シート!$X$87-C35>=0),1,0)","v":{"$error":"#VALUE!"}},{"$error":"#N/A"},{"$error":"#N/A"},{"$f":"IF(AND(C35-シート!$CP$87>=0,シート!$DK$87-C35>=0),1,0)","v":{"$error":"#VALUE!"}},{"$error":"#N/A"},{"$error":"#N/A"},"1900-02-01"]
[34,4,"1900-02-02",{"$f":"+IF(AND(C36-シート!$BV$67>=0,シート!$AI$19-C36>=0),1,0)","v":{"$error":"#N/A"}},{"$f":"IF(AND(C36-シート!$C$87>=0,シート!$X$87-C36>=0),1,0)","v":{"$error":"#VALUE!"}},{"$error":"#N/A"},{"$error":"#N/A"},{"$f":"IF(AND(C36-シート!$CP$87>=0,シート!$DK$87-C36>=0),1,0)","v":{"$error":"#VALUE!"}},{"$error":"#N/A"},{"$error":"#N/A"},"1900-02-02"]
[35,4,"1900-02-03",{"$f":"+IF(AND(C37-シート!$BV$67>=0,シート!$AI$19-C37>=0),1,0)","v":{"$error":"#N/A"}},{"$f":"IF(AND(C37-シート!$C$87>=0,シート!$X$87-C37>=0),1,0)","v":{"$error":"#VALUE!"}},{"$error":"#N/A"},{"$error":"#N/A"},{"$f":"IF(AND(C37-シート!$CP$87>=0,シート!$DK$87-C37>=0),1,0)","v":{"$error":"#VALUE!"}},{"$error":"#N/A"},{"$error":"#N/A"},"1900-02-03"]
[36,4,"1900-02-04",{"$f":"+IF(AND(C38-シート!$BV$67>=0,シート!$AI$19-C38>=0),1,0)","v":{"$error":"#N/A"}},{"$f":"IF(AND(C38-シート!$C$87>=0,シート!$X$87-C38>=0),1,0)","v":{"$error":"#VALUE!"}},{"$error":"#N/A"},{"$error":"#N/A"},{"$f":"IF(AND(C38-シート!$CP$87>=0,シート!$DK$87-C38>=0),1,0)","v":{"$error":"#VALUE!"}},{"$error":"#N/A"},{"$error":"#N/A"},"1900-02-04"]
[37,4,"1900-02-05",{"$f":"+IF(AND(C39-シート!$BV$67>=0,シート!$AI$19-C39>=0),1,0)","v":{"$error":"#N/A"}},{"$f":"IF(AND(C39-シート!$C$87>=0,シート!$X$87-C39>=0),1,0)","v":{"$error":"#VALUE!"}},{"$error":"#N/A"},{"$error":"#N/A"},{"$f":"IF(AND(C39-シート!$CP$87>=0,シート!$DK$87-C39>=0),1,0)","v":{"$error":"#VALUE!"}},{"$error":"#N/A"},{"$error":"#N/A"},"1900-02-05"]
[38,4,"1900-02-06",{"$f":"+IF(AND(C40-シート!$BV$67>=0,シート!$AI$19-C40>=0),1,0)","v":{"$error":"#N/A"}},{"$f":"IF(AND(C40-シート!$C$87>=0,シート!$X$87-C40>=0),1,0)","v":{"$error":"#VALUE!"}},{"$error":"#N/A"},{"$error":"#N/A"},{"$f":"IF(AND(C40-シート!$CP$87>=0,シート!$DK$87-C40>=0),1,0)","v":{"$error":"#VALUE!"}},{"$error":"#N/A"},{"$error":"#N/A"},"1900-02-06"]
[39,4,"1900-02-07",{"$f":"+IF(AND(C41-シート!$BV$67>=0,シート!$AI$19-C41>=0),1,0)","v":{"$error":"#N/A"}},{"$f":"IF(AND(C41-シート!$C$87>=0,シート!$X$87-C41>=0),1,0)","v":{"$error":"#VALUE!"}},{"$error":"#N/A"},{"$error":"#N/A"},{"$f":"IF(AND(C41-シート!$CP$87>=0,シート!$DK$87-C41>=0),1,0)","v":{"$error":"#VALUE!"}},{"$error":"#N/A"},{"$error":"#N/A"},"1900-02-07"]
[40,4,"1900-02-08",{"$f":"+IF(AND(C42-シート!$BV$67>=0,シート!$AI$19-C42>=0),1,0)","v":{"$error":"#N/A"}},{"$f":"IF(AND(C42-シート!$C$87>=0,シート!$X$87-C42>=0),1,0)","v":{"$error":"#VALUE!"}},{"$error":"#N/A"},{"$error":"#N/A"},{"$f":"IF(AND(C42-シート!$CP$87>=0,シート!$DK$87-C42>=0),1,0)","v":{"$error":"#VALUE!"}},{"$error":"#N/A"},{"$error":"#N/A"},"1900-02-08"]
[41,4,"1900-02-09",{"$f":"+IF(AND(C43-シート!$BV$67>=0,シート!$AI$19-C43>=0),1,0)","v":{"$error":"#N/A"}},{"$f":"IF(AND(C43-シート!$C$87>=0,シート!$X$87-C43>=0),1,0)","v":{"$error":"#VALUE!"}},{"$error":"#N/A"},{"$error":"#N/A"},{"$f":"IF(AND(C43-シート!$CP$87>=0,シート!$DK$87-C43>=0),1,0)","v":{"$error":"#VALUE!"}},{"$error":"#N/A"},{"$error":"#N/A"},"1900-02-09"]
[42,5,"1900-02-10",{"$f":"+IF(AND(C44-シート!$BV$67>=0,シート!$AI$19-C44>=0),1,0)","v":{"$error":"#N/A"}},{"$f":"IF(AND(C44-シート!$C$87>=0,シート!$X$87-C44>=0),1,0)","v":{"$error":"#VALUE!"}},{"$error":"#N/A"},{"$error":"#N/A"},{"$f":"IF(AND(C44-シート!$CP$87>=0,シート!$DK$87-C44>=0),1,0)","v":{"$error":"#VALUE!"}},{"$error":"#N/A"},{"$error":"#N/A"},"1900-02-10"]
[43,5,"1900-02-11",{"$f":"+IF(AND(C45-シート!$BV$67>=0,シート!$AI$19-C45>=0),1,0)","v":{"$error":"#N/A"}},{"$f":"IF(AND(C45-シート!$C$87>=0,シート!$X$87-C45>=0),1,0)","v":{"$error":"#VALUE!"}},{"$error":"#N/A"},{"$error":"#N/A"},{"$f":"IF(AND(C45-シート!$CP$87>=0,シート!$DK$87-C45>=0),1,0)","v":{"$error":"#VALUE!"}},{"$error":"#N/A"},{"$error":"#N/A"},"1900-02-11"]
[44,5,"1900-02-12",{"$f":"+IF(AND(C46-シート!$BV$67>=0,シート!$AI$19-C46>=0),1,0)","v":{"$error":"#N/A"}},{"$f":"IF(AND(C46-シート!$C$87>=0,シート!$X$87-C46>=0),1,0)","v":{"$error":"#VALUE!"}},{"$error":"#N/A"},{"$error":"#N/A"},{"$f":"IF(AND(C46-シート!$CP$87>=0,シート!$DK$87-C46>=0),1,0)","v":{"$error":"#VALUE!"}},{"$error":"#N/A"},{"$error":"#N/A"},"1900-02-12"]
[45,5,"1900-02-13",{"$f":"+IF(AND(C47-シート!$BV$67>=0,シート!$AI$19-C47>=0),1,0)","v":{"$error":"#N/A"}},{"$f":"IF(AND(C47-シート!$C$87>=0,シート!$X$87-C47>=0),1,0)","v":{"$error":"#VALUE!"}},{"$error":"#N/A"},{"$error":"#N/A"},{"$f":"IF(AND(C47-シート!$CP$87>=0,シート!$DK$87-C47>=0),1,0)","v":{"$error":"#VALUE!"}},{"$error":"#N/A"},{"$error":"#N/A"},"1900-02-13"]
[46,5,"1900-02-14",{"$f":"+IF(AND(C48-シート!$BV$67>=0,シート!$AI$19-C48>=0),1,0)","v":{"$error":"#N/A"}},{"$f":"IF(AND(C48-シート!$C$87>=0,シート!$X$87-C48>=0),1,0)","v":{"$error":"#VALUE!"}},{"$error":"#N/A"},{"$error":"#N/A"},{"$f":"IF(AND(C48-シート!$CP$87>=0,シート!$DK$87-C48>=0),1,0)","v":{"$error":"#VALUE!"}},{"$error":"#N/A"},{"$error":"#N/A"},"1900-02-14"]
[47,5,"1900-02-15",{"$f":"+IF(AND(C49-シート!$BV$67>=0,シート!$AI$19-C49>=0),1,0)","v":{"$error":"#N/A"}},{"$f":"IF(AND(C49-シート!$C$87>=0,シート!$X$87-C49>=0),1,0)","v":{"$error":"#VALUE!"}},{"$error":"#N/A"},{"$error":"#N/A"},{"$f":"IF(AND(C49-シート!$CP$87>=0,シート!$DK$87-C49>=0),1,0)","v":{"$error":"#VALUE!"}},{"$error":"#N/A"},{"$error":"#N/A"},"1900-02-15"]
[48,5,"1900-02-16",{"$f":"+IF(AND(C50-シート!$BV$67>=0,シート!$AI$19-C50>=0),1,0)","v":{"$error":"#N/A"}},{"$f":"IF(AND(C50-シート!$C$87>=0,シート!$X$87-C50>=0),1,0)","v":{"$error":"#VALUE!"}},{"$error":"#N/A"},{"$error":"#N/A"},{"$f":"IF(AND(C50-シート!$CP$87>=0,シート!$DK$87-C50>=0),1,0)","v":{"$error":"#VALUE!"}},{"$error":"#N/A"},{"$error":"#N/A"},"1900-02-16"]
[49,5,"1900-02-17",{"$f":"+IF(AND(C51-シート!$BV$67>=0,シート!$AI$19-C51>=0),1,0)","v":{"$error":"#N/A"}},{"$f":"IF(AND(C51-シート!$C$87>=0,シート!$X$87-C51>=0),1,0)","v":{"$error":"#VALUE!"}},{"$error":"#N/A"},{"$error":"#N/A"},{"$f":"IF(AND(C51-シート!$CP$87>=0,シート!$DK$87-C51>=0),1,0)","v":{"$error":"#VALUE!"}},{"$error":"#N/A"},{"$error":"#N/A"},"1900-02-17"]
[50,5,"1900-02-18",{"$f":"+IF(AND(C52-シート!$BV$67>=0,シート!$AI$19-C52>=0),1,0)","v":{"$error":"#N/A"}},{"$f":"IF(AND(C52-シート!$C$87>=0,シート!$X$87-C52>=0),1,0)","v":{"$error":"#VALUE!"}},{"$error":"#N/A"},{"$error":"#N/A"},{"$f":"IF(AND(C52-シート!$CP$87>=0,シート!$DK$87-C52>=0),1,0)","v":{"$error":"#VALUE!"}},{"$error":"#N/A"},{"$error":"#N/A"},"1900-02-18"]
[51,5,"1900-02-19",{"$f":"+IF(AND(C53-シート!$BV$67>=0,シート!$AI$19-C53>=0),1,0)","v":{"$error":"#N/A"}},{"$f":"IF(AND(C53-シート!$C$87>=0,シート!$X$87-C53>=0),1,0)","v":{"$error":"#VALUE!"}},{"$error":"#N/A"},{"$error":"#N/A"},{"$f":"IF(AND(C53-シート!$CP$87>=0,シート!$DK$87-C53>=0),1,0)","v":{"$error":"#VALUE!"}},{"$error":"#N/A"},{"$error":"#N/A"},"1900-02-19"]
[52,6,"1900-02-20",{"$f":"+IF(AND(C54-シート!$BV$67>=0,シート!$AI$19-C54>=0),1,0)","v":{"$error":"#N/A"}},{"$f":"IF(AND(C54-シート!$C$87>=0,シート!$X$87-C54>=0),1,0)","v":{"$error":"#VALUE!"}},{"$error":"#N/A"},{"$error":"#N/A"},{"$f":"IF(AND(C54-シート!$CP$87>=0,シート!$DK$87-C54>=0),1,0)","v":{"$error":"#VALUE!"}},{"$error":"#N/A"},{"$error":"#N/A"},"1900-02-20"]
[53,6,"1900-02-21",{"$f":"+IF(AND(C55-シート!$BV$67>=0,シート!$AI$19-C55>=0),1,0)","v":{"$error":"#N/A"}},{"$f":"IF(AND(C55-シート!$C$87>=0,シート!$X$87-C55>=0),1,0)","v":{"$error":"#VALUE!"}},{"$error":"#N/A"},{"$error":"#N/A"},{"$f":"IF(AND(C55-シート!$CP$87>=0,シート!$DK$87-C55>=0),1,0)","v":{"$error":"#VALUE!"}},{"$error":"#N/A"},{"$error":"#N/A"},"1900-02-21"]
[54,6,"1900-02-22",{"$f":"+IF(AND(C56-シート!$BV$67>=0,シート!$AI$19-C56>=0),1,0)","v":{"$error":"#N/A"}},{"$f":"IF(AND(C56-シート!$C$87>=0,シート!$X$87-C56>=0),1,0)","v":{"$error":"#VALUE!"}},{"$error":"#N/A"},{"$error":"#N/A"},{"$f":"IF(AND(C56-シート!$CP$87>=0,シート!$DK$87-C56>=0),1,0)","v":{"$error":"#VALUE!"}},{"$error":"#N/A"},{"$error":"#N/A"},"1900-02-22"]
[55,6,"1900-02-23",{"$f":"+IF(AND(C57-シート!$BV$67>=0,シート!$AI$19-C57>=0),1,0)","v":{"$error":"#N/A"}},{"$f":"IF(AND(C57-シート!$C$87>=0,シート!$X$87-C57>=0),1,0)","v":{"$error":"#VALUE!"}},{"$error":"#N/A"},{"$error":"#N/A"},{"$f":"IF(AND(C57-シート!$CP$87>=0,シート!$DK$87-C57>=0),1,0)","v":{"$error":"#VALUE!"}},{"$error":"#N/A"},{"$error":"#N/A"},"1900-02-23"]
[56,6,"1900-02-24",{"$f":"+IF(AND(C58-シート!$BV$67>=0,シート!$AI$19-C58>=0),1,0)","v":{"$error":"#N/A"}},{"$f":"IF(AND(C58-シート!$C$87>=0,シート!$X$87-C58>=0),1,0)","v":{"$error":"#VALUE!"}},{"$error":"#N/A"},{"$error":"#N/A"},{"$f":"IF(AND(C58-シート!$CP$87>=0,シート!$DK$87-C58>=0),1,0)","v":{"$error":"#VALUE!"}},{"$error":"#N/A"},{"$error":"#N/A"},"1900-02-24"]
[57,6,"1900-02-25",{"$f":"+IF(AND(C59-シート!$BV$67>=0,シート!$AI$19-C59>=0),1,0)","v":{"$error":"#N/A"}},{"$f":"IF(AND(C59-シート!$C$87>=0,シート!$X$87-C59>=0),1,0)","v":{"$error":"#VALUE!"}},{"$error":"#N/A"},{"$error":"#N/A"},{"$f":"IF(AND(C59-シート!$CP$87>=0,シート!$DK$87-C59>=0),1,0)","v":{"$error":"#VALUE!"}},{"$error":"#N/A"},{"$error":"#N/A"},"1900-02-25"]
[58,6,"1900-02-26",{"$f":"+IF(AND(C60-シート!$BV$67>=0,シート!$AI$19-C60>=0),1,0)","v":{"$error":"#N/A"}},{"$f":"IF(AND(C60-シート!$C$87>=0,シート!$X$87-C60>=0),1,0)","v":{"$error":"#VALUE!"}},{"$error":"#N/A"},{"$error":"#N/A"},{"$f":"IF(AND(C60-シート!$CP$87>=0,シート!$DK$87-C60>=0),1,0)","v":{"$error":"#VALUE!"}},{"$error":"#N/A"},{"$error":"#N/A"},"1900-02-26"]
[59,6,"1900-02-27",{"$f":"+IF(AND(C61-シート!$BV$67>=0,シート!$AI$19-C61>=0),1,0)","v":{"$error":"#N/A"}},{"$f":"IF(AND(C61-シート!$C$87>=0,シート!$X$87-C61>=0),1,0)","v":{"$error":"#VALUE!"}},{"$error":"#N/A"},{"$error":"#N/A"},{"$f":"IF(AND(C61-シート!$CP$87>=0,シート!$DK$87-C61>=0),1,0)","v":{"$error":"#VALUE!"}},{"$error":"#N/A"},{"$error":"#N/A"},"1900-02-27"]
[60,6,"1900-02-28",{"$f":"+IF(AND(C62-シート!$BV$67>=0,シート!$AI$19-C62>=0),1,0)","v":{"$error":"#N/A"}},{"$f":"IF(AND(C62-シート!$C$87>=0,シート!$X$87-C62>=0),1,0)","v":{"$error":"#VALUE!"}},{"$error":"#N/A"},{"$error":"#N/A"},{"$f":"IF(AND(C62-シート!$CP$87>=0,シート!$DK$87-C62>=0),1,0)","v":{"$error":"#VALUE!"}},{"$error":"#N/A"},{"$error":"#N/A"},"1900-02-28"]
[61,6,60,{"$f":"+IF(AND(C63-シート!$BV$67>=0,シート!$AI$19-C63>=0),1,0)","v":{"$error":"#N/A"}},{"$f":"IF(AND(C63-シート!$C$87>=0,シート!$X$87-C63>=0),1,0)","v":{"$error":"#VALUE!"}},{"$error":"#N/A"},{"$error":"#N/A"},{"$f":"IF(AND(C63-シート!$CP$87>=0,シート!$DK$87-C63>=0),1,0)","v":{"$error":"#VALUE!"}},{"$error":"#N/A"},{"$error":"#N/A"},60]
[62,7,"1900-03-01",{"$f":"+IF(AND(C64-シート!$BV$67>=0,シート!$AI$19-C64>=0),1,0)","v":{"$error":"#N/A"}},{"$f":"IF(AND(C64-シート!$C$87>=0,シート!$X$87-C64>=0),1,0)","v":{"$error":"#VALUE!"}},{"$error":"#N/A"},{"$error":"#N/A"},{"$f":"IF(AND(C64-シート!$CP$87>=0,シート!$DK$87-C64>=0),1,0)","v":{"$error":"#VALUE!"}},{"$error":"#N/A"},{"$error":"#N/A"},"1900-03-01"]
[63,7,"1900-03-02",{"$f":"+IF(AND(C65-シート!$BV$67>=0,シート!$AI$19-C65>=0),1,0)","v":{"$error":"#N/A"}},{"$f":"IF(AND(C65-シート!$C$87>=0,シート!$X$87-C65>=0),1,0)","v":{"$error":"#VALUE!"}},{"$error":"#N/A"},{"$error":"#N/A"},{"$f":"IF(AND(C65-シート!$CP$87>=0,シート!$DK$87-C65>=0),1,0)","v":{"$error":"#VALUE!"}},{"$error":"#N/A"},{"$error":"#N/A"},"1900-03-02"]
[64,7,"1900-03-03",{"$f":"+IF(AND(C66-シート!$BV$67>=0,シート!$AI$19-C66>=0),1,0)","v":{"$error":"#N/A"}},{"$f":"IF(AND(C66-シート!$C$87>=0,シート!$X$87-C66>=0),1,0)","v":{"$error":"#VALUE!"}},{"$error":"#N/A"},{"$error":"#N/A"},{"$f":"IF(AND(C66-シート!$CP$87>=0,シート!$DK$87-C66>=0),1,0)","v":{"$error":"#VALUE!"}},{"$error":"#N/A"},{"$error":"#N/A"},"1900-03-03"]
[65,7,"1900-03-04",{"$f":"+IF(AND(C67-シート!$BV$67>=0,シート!$AI$19-C67>=0),1,0)","v":{"$error":"#N/A"}},{"$f":"IF(AND(C67-シート!$C$87>=0,シート!$X$87-C67>=0),1,0)","v":{"$error":"#VALUE!"}},{"$error":"#N/A"},{"$error":"#N/A"},{"$f":"IF(AND(C67-シート!$CP$87>=0,シート!$DK$87-C67>=0),1,0)","v":{"$error":"#VALUE!"}},{"$error":"#N/A"},{"$error":"#N/A"},"1900-03-04"]
[66,7,"1900-03-05",{"$f":"+IF(AND(C68-シート!$BV$67>=0,シート!$AI$19-C68>=0),1,0)","v":{"$error":"#N/A"}},{"$f":"IF(AND(C68-シート!$C$87>=0,シート!$X$87-C68>=0),1,0)","v":{"$error":"#VALUE!"}},{"$f":"IF(+D68+E68=2,1,0)","v":{"$error":"#N/A"}},{"$error":"#N/A"},{"$f":"IF(AND(C68-シート!$CP$87>=0,シート!$DK$87-C68>=0),1,0)","v":{"$error":"#VALUE!"}},{"$f":"IF(+D68+H68=2,1,0)","v":{"$error":"#N/A"}},{"$error":"#N/A"},{"$f":"+C68","v":"1900-03-05"}]
[{"$f":"+A68+1","v":67},7,{"$f":"+C68+1","v":"1900-03-06"},{"$f":"+IF(AND(C69-シート!$BV$67>=0,シート!$AI$19-C69>=0),1,0)","v":{"$error":"#N/A"}},{"$f":"IF(AND(C69-シート!$C$87>=0,シート!$X$87-C69>=0),1,0)","v":{"$error":"#VALUE!"}},{"$error":"#N/A"},{"$f":"+G68+F69","v":{"$error":"#N/A"}},{"$f":"IF(AND(C69-シート!$CP$87>=0,シート!$DK$87-C69>=0),1,0)","v":{"$error":"#VALUE!"}},{"$error":"#N/A"},{"$f":"+J68+I69","v":{"$error":"#N/A"}},"1900-03-06"]
[68,7,"1900-03-07",{"$f":"+IF(AND(C70-シート!$BV$67>=0,シート!$AI$19-C70>=0),1,0)","v":{"$error":"#N/A"}},{"$f":"IF(AND(C70-シート!$C$87>=0,シート!$X$87-C70>=0),1,0)","v":{"$error":"#VALUE!"}},{"$error":"#N/A"},{"$error":"#N/A"},{"$f":"IF(AND(C70-シート!$CP$87>=0,シート!$DK$87-C70>=0),1,0)","v":{"$error":"#VALUE!"}},{"$error":"#N/A"},{"$error":"#N/A"},"1900-03-07"]
[69,7,"1900-03-08",{"$f":"+IF(AND(C71-シート!$BV$67>=0,シート!$AI$19-C71>=0),1,0)","v":{"$error":"#N/A"}},{"$f":"IF(AND(C71-シート!$C$87>=0,シート!$X$87-C71>=0),1,0)","v":{"$error":"#VALUE!"}},{"$error":"#N/A"},{"$error":"#N/A"},{"$f":"IF(AND(C71-シート!$CP$87>=0,シート!$DK$87-C71>=0),1,0)","v":{"$error":"#VALUE!"}},{"$error":"#N/A"},{"$error":"#N/A"},"1900-03-08"]
[70,7,"1900-03-09",{"$f":"+IF(AND(C72-シート!$BV$67>=0,シート!$AI$19-C72>=0),1,0)","v":{"$error":"#N/A"}},{"$f":"IF(AND(C72-シート!$C$87>=0,シート!$X$87-C72>=0),1,0)","v":{"$error":"#VALUE!"}},{"$error":"#N/A"},{"$error":"#N/A"},{"$f":"IF(AND(C72-シート!$CP$87>=0,シート!$DK$87-C72>=0),1,0)","v":{"$error":"#VALUE!"}},{"$error":"#N/A"},{"$error":"#N/A"},"1900-03-09"]
[71,7,"1900-03-10",{"$f":"+IF(AND(C73-シート!$BV$67>=0,シート!$AI$19-C73>=0),1,0)","v":{"$error":"#N/A"}},{"$f":"IF(AND(C73-シート!$C$87>=0,シート!$X$87-C73>=0),1,0)","v":{"$error":"#VALUE!"}},{"$error":"#N/A"},{"$error":"#N/A"},{"$f":"IF(AND(C73-シート!$CP$87>=0,シート!$DK$87-C73>=0),1,0)","v":{"$error":"#VALUE!"}},{"$error":"#N/A"},{"$error":"#N/A"},"1900-03-10"]
[72,8,"1900-03-11",{"$f":"+IF(AND(C74-シート!$BV$67>=0,シート!$AI$19-C74>=0),1,0)","v":{"$error":"#N/A"}},{"$f":"IF(AND(C74-シート!$C$87>=0,シート!$X$87-C74>=0),1,0)","v":{"$error":"#VALUE!"}},{"$error":"#N/A"},{"$error":"#N/A"},{"$f":"IF(AND(C74-シート!$CP$87>=0,シート!$DK$87-C74>=0),1,0)","v":{"$error":"#VALUE!"}},{"$error":"#N/A"},{"$error":"#N/A"},"1900-03-11"]
[73,8,"1900-03-12",{"$f":"+IF(AND(C75-シート!$BV$67>=0,シート!$AI$19-C75>=0),1,0)","v":{"$error":"#N/A"}},{"$f":"IF(AND(C75-シート!$C$87>=0,シート!$X$87-C75>=0),1,0)","v":{"$error":"#VALUE!"}},{"$error":"#N/A"},{"$error":"#N/A"},{"$f":"IF(AND(C75-シート!$CP$87>=0,シート!$DK$87-C75>=0),1,0)","v":{"$error":"#VALUE!"}},{"$error":"#N/A"},{"$error":"#N/A"},"1900-03-12"]
[74,8,"1900-03-13",{"$f":"+IF(AND(C76-シート!$BV$67>=0,シート!$AI$19-C76>=0),1,0)","v":{"$error":"#N/A"}},{"$f":"IF(AND(C76-シート!$C$87>=0,シート!$X$87-C76>=0),1,0)","v":{"$error":"#VALUE!"}},{"$error":"#N/A"},{"$error":"#N/A"},{"$f":"IF(AND(C76-シート!$CP$87>=0,シート!$DK$87-C76>=0),1,0)","v":{"$error":"#VALUE!"}},{"$error":"#N/A"},{"$error":"#N/A"},"1900-03-13"]
[75,8,"1900-03-14",{"$f":"+IF(AND(C77-シート!$BV$67>=0,シート!$AI$19-C77>=0),1,0)","v":{"$error":"#N/A"}},{"$f":"IF(AND(C77-シート!$C$87>=0,シート!$X$87-C77>=0),1,0)","v":{"$error":"#VALUE!"}},{"$error":"#N/A"},{"$error":"#N/A"},{"$f":"IF(AND(C77-シート!$CP$87>=0,シート!$DK$87-C77>=0),1,0)","v":{"$error":"#VALUE!"}},{"$error":"#N/A"},{"$error":"#N/A"},"1900-03-14"]
[76,8,"1900-03-15",{"$f":"+IF(AND(C78-シート!$BV$67>=0,シート!$AI$19-C78>=0),1,0)","v":{"$error":"#N/A"}},{"$f":"IF(AND(C78-シート!$C$87>=0,シート!$X$87-C78>=0),1,0)","v":{"$error":"#VALUE!"}},{"$error":"#N/A"},{"$error":"#N/A"},{"$f":"IF(AND(C78-シート!$CP$87>=0,シート!$DK$87-C78>=0),1,0)","v":{"$error":"#VALUE!"}},{"$error":"#N/A"},{"$error":"#N/A"},"1900-03-15"]
[77,8,"1900-03-16",{"$f":"+IF(AND(C79-シート!$BV$67>=0,シート!$AI$19-C79>=0),1,0)","v":{"$error":"#N/A"}},{"$f":"IF(AND(C79-シート!$C$87>=0,シート!$X$87-C79>=0),1,0)","v":{"$error":"#VALUE!"}},{"$error":"#N/A"},{"$error":"#N/A"},{"$f":"IF(AND(C79-シート!$CP$87>=0,シート!$DK$87-C79>=0),1,0)","v":{"$error":"#VALUE!"}},{"$error":"#N/A"},{"$error":"#N/A"},"1900-03-16"]
[78,8,"1900-03-17",{"$f":"+IF(AND(C80-シート!$BV$67>=0,シート!$AI$19-C80>=0),1,0)","v":{"$error":"#N/A"}},{"$f":"IF(AND(C80-シート!$C$87>=0,シート!$X$87-C80>=0),1,0)","v":{"$error":"#VALUE!"}},{"$error":"#N/A"},{"$error":"#N/A"},{"$f":"IF(AND(C80-シート!$CP$87>=0,シート!$DK$87-C80>=0),1,0)","v":{"$error":"#VALUE!"}},{"$error":"#N/A"},{"$error":"#N/A"},"1900-03-17"]
[79,8,"1900-03-18",{"$f":"+IF(AND(C81-シート!$BV$67>=0,シート!$AI$19-C81>=0),1,0)","v":{"$error":"#N/A"}},{"$f":"IF(AND(C81-シート!$C$87>=0,シート!$X$87-C81>=0),1,0)","v":{"$error":"#VALUE!"}},{"$error":"#N/A"},{"$error":"#N/A"},{"$f":"IF(AND(C81-シート!$CP$87>=0,シート!$DK$87-C81>=0),1,0)","v":{"$error":"#VALUE!"}},{"$error":"#N/A"},{"$error":"#N/A"},"1900-03-18"]
[80,8,"1900-03-19",{"$f":"+IF(AND(C82-シート!$BV$67>=0,シート!$AI$19-C82>=0),1,0)","v":{"$error":"#N/A"}},{"$f":"IF(AND(C82-シート!$C$87>=0,シート!$X$87-C82>=0),1,0)","v":{"$error":"#VALUE!"}},{"$error":"#N/A"},{"$error":"#N/A"},{"$f":"IF(AND(C82-シート!$CP$87>=0,シート!$DK$87-C82>=0),1,0)","v":{"$error":"#VALUE!"}},{"$error":"#N/A"},{"$error":"#N/A"},"1900-03-19"]
[81,8,"1900-03-20",{"$f":"+IF(AND(C83-シート!$BV$67>=0,シート!$AI$19-C83>=0),1,0)","v":{"$error":"#N/A"}},{"$f":"IF(AND(C83-シート!$C$87>=0,シート!$X$87-C83>=0),1,0)","v":{"$error":"#VALUE!"}},{"$error":"#N/A"},{"$error":"#N/A"},{"$f":"IF(AND(C83-シート!$CP$87>=0,シート!$DK$87-C83>=0),1,0)","v":{"$error":"#VALUE!"}},{"$error":"#N/A"},{"$error":"#N/A"},"1900-03-20"]
[82,8,"1900-03-21",{"$f":"+IF(AND(C84-シート!$BV$67>=0,シート!$AI$19-C84>=0),1,0)","v":{"$error":"#N/A"}},{"$f":"IF(AND(C84-シート!$C$87>=0,シート!$X$87-C84>=0),1,0)","v":{"$error":"#VALUE!"}},{"$error":"#N/A"},{"$error":"#N/A"},{"$f":"IF(AND(C84-シート!$CP$87>=0,シート!$DK$87-C84>=0),1,0)","v":{"$error":"#VALUE!"}},{"$error":"#N/A"},{"$error":"#N/A"},"1900-03-21"]
[83,9,"1900-03-22",{"$f":"+IF(AND(C85-シート!$BV$67>=0,シート!$AI$19-C85>=0),1,0)","v":{"$error":"#N/A"}},{"$f":"IF(AND(C85-シート!$C$87>=0,シート!$X$87-C85>=0),1,0)","v":{"$error":"#VALUE!"}},{"$error":"#N/A"},{"$error":"#N/A"},{"$f":"IF(AND(C85-シート!$CP$87>=0,シート!$DK$87-C85>=0),1,0)","v":{"$error":"#VALUE!"}},{"$error":"#N/A"},{"$error":"#N/A"},"1900-03-22"]
[84,9,"1900-03-23",{"$f":"+IF(AND(C86-シート!$BV$67>=0,シート!$AI$19-C86>=0),1,0)","v":{"$error":"#N/A"}},{"$f":"IF(AND(C86-シート!$C$87>=0,シート!$X$87-C86>=0),1,0)","v":{"$error":"#VALUE!"}},{"$error":"#N/A"},{"$error":"#N/A"},{"$f":"IF(AND(C86-シート!$CP$87>=0,シート!$DK$87-C86>=0),1,0)","v":{"$error":"#VALUE!"}},{"$error":"#N/A"},{"$error":"#N/A"},"1900-03-23"]
[85,9,"1900-03-24",{"$f":"+IF(AND(C87-シート!$BV$67>=0,シート!$AI$19-C87>=0),1,0)","v":{"$error":"#N/A"}},{"$f":"IF(AND(C87-シート!$C$87>=0,シート!$X$87-C87>=0),1,0)","v":{"$error":"#VALUE!"}},{"$error":"#N/A"},{"$error":"#N/A"},{"$f":"IF(AND(C87-シート!$CP$87>=0,シート!$DK$87-C87>=0),1,0)","v":{"$error":"#VALUE!"}},{"$error":"#N/A"},{"$error":"#N/A"},"1900-03-24"]
[86,9,"1900-03-25",{"$f":"+IF(AND(C88-シート!$BV$67>=0,シート!$AI$19-C88>=0),1,0)","v":{"$error":"#N/A"}},{"$f":"IF(AND(C88-シート!$C$87>=0,シート!$X$87-C88>=0),1,0)","v":{"$error":"#VALUE!"}},{"$error":"#N/A"},{"$error":"#N/A"},{"$f":"IF(AND(C88-シート!$CP$87>=0,シート!$DK$87-C88>=0),1,0)","v":{"$error":"#VALUE!"}},{"$error":"#N/A"},{"$error":"#N/A"},"1900-03-25"]
[87,9,"1900-03-26",{"$f":"+IF(AND(C89-シート!$BV$67>=0,シート!$AI$19-C89>=0),1,0)","v":{"$error":"#N/A"}},{"$f":"IF(AND(C89-シート!$C$87>=0,シート!$X$87-C89>=0),1,0)","v":{"$error":"#VALUE!"}},{"$error":"#N/A"},{"$error":"#N/A"},{"$f":"IF(AND(C89-シート!$CP$87>=0,シート!$DK$87-C89>=0),1,0)","v":{"$error":"#VALUE!"}},{"$error":"#N/A"},{"$error":"#N/A"},"1900-03-26"]
[88,9,"1900-03-27",{"$f":"+IF(AND(C90-シート!$BV$67>=0,シート!$AI$19-C90>=0),1,0)","v":{"$error":"#N/A"}},{"$f":"IF(AND(C90-シート!$C$87>=0,シート!$X$87-C90>=0),1,0)","v":{"$error":"#VALUE!"}},{"$error":"#N/A"},{"$error":"#N/A"},{"$f":"IF(AND(C90-シート!$CP$87>=0,シート!$DK$87-C90>=0),1,0)","v":{"$error":"#VALUE!"}},{"$error":"#N/A"},{"$error":"#N/A"},"1900-03-27"]
[89,9,"1900-03-28",{"$f":"+IF(AND(C91-シート!$BV$67>=0,シート!$AI$19-C91>=0),1,0)","v":{"$error":"#N/A"}},{"$f":"IF(AND(C91-シート!$C$87>=0,シート!$X$87-C91>=0),1,0)","v":{"$error":"#VALUE!"}},{"$error":"#N/A"},{"$error":"#N/A"},{"$f":"IF(AND(C91-シート!$CP$87>=0,シート!$DK$87-C91>=0),1,0)","v":{"$error":"#VALUE!"}},{"$error":"#N/A"},{"$error":"#N/A"},"1900-03-28"]
[90,9,"1900-03-29",{"$f":"+IF(AND(C92-シート!$BV$67>=0,シート!$AI$19-C92>=0),1,0)","v":{"$error":"#N/A"}},{"$f":"IF(AND(C92-シート!$C$87>=0,シート!$X$87-C92>=0),1,0)","v":{"$error":"#VALUE!"}},{"$error":"#N/A"},{"$error":"#N/A"},{"$f":"IF(AND(C92-シート!$CP$87>=0,シート!$DK$87-C92>=0),1,0)","v":{"$error":"#VALUE!"}},{"$error":"#N/A"},{"$error":"#N/A"},"1900-03-29"]
[91,9,"1900-03-30",{"$f":"+IF(AND(C93-シート!$BV$67>=0,シート!$AI$19-C93>=0),1,0)","v":{"$error":"#N/A"}},{"$f":"IF(AND(C93-シート!$C$87>=0,シート!$X$87-C93>=0),1,0)","v":{"$error":"#VALUE!"}},{"$error":"#N/A"},{"$error":"#N/A"},{"$f":"IF(AND(C93-シート!$CP$87>=0,シート!$DK$87-C93>=0),1,0)","v":{"$error":"#VALUE!"}},{"$error":"#N/A"},{"$error":"#N/A"},"1900-03-30"]
[92,9,"1900-03-31",{"$f":"+IF(AND(C94-シート!$BV$67>=0,シート!$AI$19-C94>=0),1,0)","v":{"$error":"#N/A"}},{"$f":"IF(AND(C94-シート!$C$87>=0,シート!$X$87-C94>=0),1,0)","v":{"$error":"#VALUE!"}},{"$error":"#N/A"},{"$error":"#N/A"},{"$f":"IF(AND(C94-シート!$CP$87>=0,シート!$DK$87-C94>=0),1,0)","v":{"$error":"#VALUE!"}},{"$error":"#N/A"},{"$error":"#N/A"},"1900-03-31"]
[93,10,"1900-04-01",{"$f":"+IF(AND(C95-シート!$BV$67>=0,シート!$AI$19-C95>=0),1,0)","v":{"$error":"#N/A"}},{"$f":"IF(AND(C95-シート!$C$87>=0,シート!$X$87-C95>=0),1,0)","v":{"$error":"#VALUE!"}},{"$error":"#N/A"},{"$error":"#N/A"},{"$f":"IF(AND(C95-シート!$CP$87>=0,シート!$DK$87-C95>=0),1,0)","v":{"$error":"#VALUE!"}},{"$error":"#N/A"},{"$error":"#N/A"},"1900-04-01"]
[94,10,"1900-04-02",{"$f":"+IF(AND(C96-シート!$BV$67>=0,シート!$AI$19-C96>=0),1,0)","v":{"$error":"#N/A"}},{"$f":"IF(AND(C96-シート!$C$87>=0,シート!$X$87-C96>=0),1,0)","v":{"$error":"#VALUE!"}},{"$error":"#N/A"},{"$error":"#N/A"},{"$f":"IF(AND(C96-シート!$CP$87>=0,シート!$DK$87-C96>=0),1,0)","v":{"$error":"#VALUE!"}},{"$error":"#N/A"},{"$error":"#N/A"},"1900-04-02"]
[95,10,"1900-04-03",{"$f":"+IF(AND(C97-シート!$BV$67>=0,シート!$AI$19-C97>=0),1,0)","v":{"$error":"#N/A"}},{"$f":"IF(AND(C97-シート!$C$87>=0,シート!$X$87-C97>=0),1,0)","v":{"$error":"#VALUE!"}},{"$error":"#N/A"},{"$error":"#N/A"},{"$f":"IF(AND(C97-シート!$CP$87>=0,シート!$DK$87-C97>=0),1,0)","v":{"$error":"#VALUE!"}},{"$error":"#N/A"},{"$error":"#N/A"},"1900-04-03"]
[96,10,"1900-04-04",{"$f":"+IF(AND(C98-シート!$BV$67>=0,シート!$AI$19-C98>=0),1,0)","v":{"$error":"#N/A"}},{"$f":"IF(AND(C98-シート!$C$87>=0,シート!$X$87-C98>=0),1,0)","v":{"$error":"#VALUE!"}},{"$error":"#N/A"},{"$error":"#N/A"},{"$f":"IF(AND(C98-シート!$CP$87>=0,シート!$DK$87-C98>=0),1,0)","v":{"$error":"#VALUE!"}},{"$error":"#N/A"},{"$error":"#N/A"},"1900-04-04"]
[97,10,"1900-04-05",{"$f":"+IF(AND(C99-シート!$BV$67>=0,シート!$AI$19-C99>=0),1,0)","v":{"$error":"#N/A"}},{"$f":"IF(AND(C99-シート!$C$87>=0,シート!$X$87-C99>=0),1,0)","v":{"$error":"#VALUE!"}},{"$error":"#N/A"},{"$error":"#N/A"},{"$f":"IF(AND(C99-シート!$CP$87>=0,シート!$DK$87-C99>=0),1,0)","v":{"$error":"#VALUE!"}},{"$error":"#N/A"},{"$error":"#N/A"},"1900-04-05"]
[98,10,"1900-04-06",{"$f":"+IF(AND(C100-シート!$BV$67>=0,シート!$AI$19-C100>=0),1,0)","v":{"$error":"#N/A"}},{"$f":"IF(AND(C100-シート!$C$87>=0,シート!$X$87-C100>=0),1,0)","v":{"$error":"#VALUE!"}},{"$error":"#N/A"},{"$error":"#N/A"},{"$f":"IF(AND(C100-シート!$CP$87>=0,シート!$DK$87-C100>=0),1,0)","v":{"$error":"#VALUE!"}},{"$error":"#N/A"},{"$error":"#N/A"},"1900-04-06"]
[99,10,"1900-04-07",{"$f":"+IF(AND(C101-シート!$BV$67>=0,シート!$AI$19-C101>=0),1,0)","v":{"$error":"#N/A"}},{"$f":"IF(AND(C101-シート!$C$87>=0,シート!$X$87-C101>=0),1,0)","v":{"$error":"#VALUE!"}},{"$error":"#N/A"},{"$error":"#N/A"},{"$f":"IF(AND(C101-シート!$CP$87>=0,シート!$DK$87-C101>=0),1,0)","v":{"$error":"#VALUE!"}},{"$error":"#N/A"},{"$error":"#N/A"},"1900-04-07"]
[100,10,"1900-04-08",{"$f":"+IF(AND(C102-シート!$BV$67>=0,シート!$AI$19-C102>=0),1,0)","v":{"$error":"#N/A"}},{"$f":"IF(AND(C102-シート!$C$87>=0,シート!$X$87-C102>=0),1,0)","v":{"$error":"#VALUE!"}},{"$error":"#N/A"},{"$error":"#N/A"},{"$f":"IF(AND(C102-シート!$CP$87>=0,シート!$DK$87-C102>=0),1,0)","v":{"$error":"#VALUE!"}},{"$error":"#N/A"},{"$error":"#N/A"},"1900-04-08"]
[101,10,"1900-04-09",{"$f":"+IF(AND(C103-シート!$BV$67>=0,シート!$AI$19-C103>=0),1,0)","v":{"$error":"#N/A"}},{"$f":"IF(AND(C103-シート!$C$87>=0,シート!$X$87-C103>=0),1,0)","v":{"$error":"#VALUE!"}},{"$error":"#N/A"},{"$error":"#N/A"},{"$f":"IF(AND(C103-シート!$CP$87>=0,シート!$DK$87-C103>=0),1,0)","v":{"$error":"#VALUE!"}},{"$error":"#N/A"},{"$error":"#N/A"},"1900-04-09"]
[102,10,"1900-04-10",{"$f":"+IF(AND(C104-シート!$BV$67>=0,シート!$AI$19-C104>=0),1,0)","v":{"$error":"#N/A"}},{"$f":"IF(AND(C104-シート!$C$87>=0,シート!$X$87-C104>=0),1,0)","v":{"$error":"#VALUE!"}},{"$error":"#N/A"},{"$error":"#N/A"},{"$f":"IF(AND(C104-シート!$CP$87>=0,シート!$DK$87-C104>=0),1,0)","v":{"$error":"#VALUE!"}},{"$error":"#N/A"},{"$error":"#N/A"},"1900-04-10"]
[103,11,"1900-04-11",{"$f":"+IF(AND(C105-シート!$BV$67>=0,シート!$AI$19-C105>=0),1,0)","v":{"$error":"#N/A"}},{"$f":"IF(AND(C105-シート!$C$87>=0,シート!$X$87-C105>=0),1,0)","v":{"$error":"#VALUE!"}},{"$error":"#N/A"},{"$error":"#N/A"},{"$f":"IF(AND(C105-シート!$CP$87>=0,シート!$DK$87-C105>=0),1,0)","v":{"$error":"#VALUE!"}},{"$error":"#N/A"},{"$error":"#N/A"},"1900-04-11"]
[104,11,"1900-04-12",{"$f":"+IF(AND(C106-シート!$BV$67>=0,シート!$AI$19-C106>=0),1,0)","v":{"$error":"#N/A"}},{"$f":"IF(AND(C106-シート!$C$87>=0,シート!$X$87-C106>=0),1,0)","v":{"$error":"#VALUE!"}},{"$error":"#N/A"},{"$error":"#N/A"},{"$f":"IF(AND(C106-シート!$CP$87>=0,シート!$DK$87-C106>=0),1,0)","v":{"$error":"#VALUE!"}},{"$error":"#N/A"},{"$error":"#N/A"},"1900-04-12"]
[105,11,"1900-04-13",{"$f":"+IF(AND(C107-シート!$BV$67>=0,シート!$AI$19-C107>=0),1,0)","v":{"$error":"#N/A"}},{"$f":"IF(AND(C107-シート!$C$87>=0,シート!$X$87-C107>=0),1,0)","v":{"$error":"#VALUE!"}},{"$error":"#N/A"},{"$error":"#N/A"},{"$f":"IF(AND(C107-シート!$CP$87>=0,シート!$DK$87-C107>=0),1,0)","v":{"$error":"#VALUE!"}},{"$error":"#N/A"},{"$error":"#N/A"},"1900-04-13"]
[106,11,"1900-04-14",{"$f":"+IF(AND(C108-シート!$BV$67>=0,シート!$AI$19-C108>=0),1,0)","v":{"$error":"#N/A"}},{"$f":"IF(AND(C108-シート!$C$87>=0,シート!$X$87-C108>=0),1,0)","v":{"$error":"#VALUE!"}},{"$error":"#N/A"},{"$error":"#N/A"},{"$f":"IF(AND(C108-シート!$CP$87>=0,シート!$DK$87-C108>=0),1,0)","v":{"$error":"#VALUE!"}},{"$error":"#N/A"},{"$error":"#N/A"},"1900-04-14"]
[107,11,"1900-04-15",{"$f":"+IF(AND(C109-シート!$BV$67>=0,シート!$AI$19-C109>=0),1,0)","v":{"$error":"#N/A"}},{"$f":"IF(AND(C109-シート!$C$87>=0,シート!$X$87-C109>=0),1,0)","v":{"$error":"#VALUE!"}},{"$error":"#N/A"},{"$error":"#N/A"},{"$f":"IF(AND(C109-シート!$CP$87>=0,シート!$DK$87-C109>=0),1,0)","v":{"$error":"#VALUE!"}},{"$error":"#N/A"},{"$error":"#N/A"},"1900-04-15"]
[108,11,"1900-04-16",{"$f":"+IF(AND(C110-シート!$BV$67>=0,シート!$AI$19-C110>=0),1,0)","v":{"$error":"#N/A"}},{"$f":"IF(AND(C110-シート!$C$87>=0,シート!$X$87-C110>=0),1,0)","v":{"$error":"#VALUE!"}},{"$error":"#N/A"},{"$error":"#N/A"},{"$f":"IF(AND(C110-シート!$CP$87>=0,シート!$DK$87-C110>=0),1,0)","v":{"$error":"#VALUE!"}},{"$error":"#N/A"},{"$error":"#N/A"},"1900-04-16"]
[109,11,"1900-04-17",{"$f":"+IF(AND(C111-シート!$BV$67>=0,シート!$AI$19-C111>=0),1,0)","v":{"$error":"#N/A"}},{"$f":"IF(AND(C111-シート!$C$87>=0,シート!$X$87-C111>=0),1,0)","v":{"$error":"#VALUE!"}},{"$error":"#N/A"},{"$error":"#N/A"},{"$f":"IF(AND(C111-シート!$CP$87>=0,シート!$DK$87-C111>=0),1,0)","v":{"$error":"#VALUE!"}},{"$error":"#N/A"},{"$error":"#N/A"},"1900-04-17"]
[110,11,"1900-04-18",{"$f":"+IF(AND(C112-シート!$BV$67>=0,シート!$AI$19-C112>=0),1,0)","v":{"$error":"#N/A"}},{"$f":"IF(AND(C112-シート!$C$87>=0,シート!$X$87-C112>=0),1,0)","v":{"$error":"#VALUE!"}},{"$error":"#N/A"},{"$error":"#N/A"},{"$f":"IF(AND(C112-シート!$CP$87>=0,シート!$DK$87-C112>=0),1,0)","v":{"$error":"#VALUE!"}},{"$error":"#N/A"},{"$error":"#N/A"},"1900-04-18"]
[111,11,"1900-04-19",{"$f":"+IF(AND(C113-シート!$BV$67>=0,シート!$AI$19-C113>=0),1,0)","v":{"$error":"#N/A"}},{"$f":"IF(AND(C113-シート!$C$87>=0,シート!$X$87-C113>=0),1,0)","v":{"$error":"#VALUE!"}},{"$error":"#N/A"},{"$error":"#N/A"},{"$f":"IF(AND(C113-シート!$CP$87>=0,シート!$DK$87-C113>=0),1,0)","v":{"$error":"#VALUE!"}},{"$error":"#N/A"},{"$error":"#N/A"},"1900-04-19"]
[112,11,"1900-04-20",{"$f":"+IF(AND(C114-シート!$BV$67>=0,シート!$AI$19-C114>=0),1,0)","v":{"$error":"#N/A"}},{"$f":"IF(AND(C114-シート!$C$87>=0,シート!$X$87-C114>=0),1,0)","v":{"$error":"#VALUE!"}},{"$error":"#N/A"},{"$error":"#N/A"},{"$f":"IF(AND(C114-シート!$CP$87>=0,シート!$DK$87-C114>=0),1,0)","v":{"$error":"#VALUE!"}},{"$error":"#N/A"},{"$error":"#N/A"},"1900-04-20"]
[113,12,"1900-04-21",{"$f":"+IF(AND(C115-シート!$BV$67>=0,シート!$AI$19-C115>=0),1,0)","v":{"$error":"#N/A"}},{"$f":"IF(AND(C115-シート!$C$87>=0,シート!$X$87-C115>=0),1,0)","v":{"$error":"#VALUE!"}},{"$error":"#N/A"},{"$error":"#N/A"},{"$f":"IF(AND(C115-シート!$CP$87>=0,シート!$DK$87-C115>=0),1,0)","v":{"$error":"#VALUE!"}},{"$error":"#N/A"},{"$error":"#N/A"},"1900-04-21"]
[114,12,"1900-04-22",{"$f":"+IF(AND(C116-シート!$BV$67>=0,シート!$AI$19-C116>=0),1,0)","v":{"$error":"#N/A"}},{"$f":"IF(AND(C116-シート!$C$87>=0,シート!$X$87-C116>=0),1,0)","v":{"$error":"#VALUE!"}},{"$error":"#N/A"},{"$error":"#N/A"},{"$f":"IF(AND(C116-シート!$CP$87>=0,シート!$DK$87-C116>=0),1,0)","v":{"$error":"#VALUE!"}},{"$error":"#N/A"},{"$error":"#N/A"},"1900-04-22"]
[115,12,"1900-04-23",{"$f":"+IF(AND(C117-シート!$BV$67>=0,シート!$AI$19-C117>=0),1,0)","v":{"$error":"#N/A"}},{"$f":"IF(AND(C117-シート!$C$87>=0,シート!$X$87-C117>=0),1,0)","v":{"$error":"#VALUE!"}},{"$error":"#N/A"},{"$error":"#N/A"},{"$f":"IF(AND(C117-シート!$CP$87>=0,シート!$DK$87-C117>=0),1,0)","v":{"$error":"#VALUE!"}},{"$error":"#N/A"},{"$error":"#N/A"},"1900-04-23"]
[116,12,"1900-04-24",{"$f":"+IF(AND(C118-シート!$BV$67>=0,シート!$AI$19-C118>=0),1,0)","v":{"$error":"#N/A"}},{"$f":"IF(AND(C118-シート!$C$87>=0,シート!$X$87-C118>=0),1,0)","v":{"$error":"#VALUE!"}},{"$error":"#N/A"},{"$error":"#N/A"},{"$f":"IF(AND(C118-シート!$CP$87>=0,シート!$DK$87-C118>=0),1,0)","v":{"$error":"#VALUE!"}},{"$error":"#N/A"},{"$error":"#N/A"},"1900-04-24"]
[117,12,"1900-04-25",{"$f":"+IF(AND(C119-シート!$BV$67>=0,シート!$AI$19-C119>=0),1,0)","v":{"$error":"#N/A"}},{"$f":"IF(AND(C119-シート!$C$87>=0,シート!$X$87-C119>=0),1,0)","v":{"$error":"#VALUE!"}},{"$error":"#N/A"},{"$error":"#N/A"},{"$f":"IF(AND(C119-シート!$CP$87>=0,シート!$DK$87-C119>=0),1,0)","v":{"$error":"#VALUE!"}},{"$error":"#N/A"},{"$error":"#N/A"},"1900-04-25"]
[118,12,"1900-04-26",{"$f":"+IF(AND(C120-シート!$BV$67>=0,シート!$AI$19-C120>=0),1,0)","v":{"$error":"#N/A"}},{"$f":"IF(AND(C120-シート!$C$87>=0,シート!$X$87-C120>=0),1,0)","v":{"$error":"#VALUE!"}},{"$error":"#N/A"},{"$error":"#N/A"},{"$f":"IF(AND(C120-シート!$CP$87>=0,シート!$DK$87-C120>=0),1,0)","v":{"$error":"#VALUE!"}},{"$error":"#N/A"},{"$error":"#N/A"},"1900-04-26"]
[119,12,"1900-04-27",{"$f":"+IF(AND(C121-シート!$BV$67>=0,シート!$AI$19-C121>=0),1,0)","v":{"$error":"#N/A"}},{"$f":"IF(AND(C121-シート!$C$87>=0,シート!$X$87-C121>=0),1,0)","v":{"$error":"#VALUE!"}},{"$error":"#N/A"},{"$error":"#N/A"},{"$f":"IF(AND(C121-シート!$CP$87>=0,シート!$DK$87-C121>=0),1,0)","v":{"$error":"#VALUE!"}},{"$error":"#N/A"},{"$error":"#N/A"},"1900-04-27"]
[120,12,"1900-04-28",{"$f":"+IF(AND(C122-シート!$BV$67>=0,シート!$AI$19-C122>=0),1,0)","v":{"$error":"#N/A"}},{"$f":"IF(AND(C122-シート!$C$87>=0,シート!$X$87-C122>=0),1,0)","v":{"$error":"#VALUE!"}},{"$error":"#N/A"},{"$error":"#N/A"},{"$f":"IF(AND(C122-シート!$CP$87>=0,シート!$DK$87-C122>=0),1,0)","v":{"$error":"#VALUE!"}},{"$error":"#N/A"},{"$error":"#N/A"},"1900-04-28"]
[121,12,"1900-04-29",{"$f":"+IF(AND(C123-シート!$BV$67>=0,シート!$AI$19-C123>=0),1,0)","v":{"$error":"#N/A"}},{"$f":"IF(AND(C123-シート!$C$87>=0,シート!$X$87-C123>=0),1,0)","v":{"$error":"#VALUE!"}},{"$error":"#N/A"},{"$error":"#N/A"},{"$f":"IF(AND(C123-シート!$CP$87>=0,シート!$DK$87-C123>=0),1,0)","v":{"$error":"#VALUE!"}},{"$error":"#N/A"},{"$error":"#N/A"},"1900-04-29"]
[122,12,"1900-04-30",{"$f":"+IF(AND(C124-シート!$BV$67>=0,シート!$AI$19-C124>=0),1,0)","v":{"$error":"#N/A"}},{"$f":"IF(AND(C124-シート!$C$87>=0,シート!$X$87-C124>=0),1,0)","v":{"$error":"#VALUE!"}},{"$error":"#N/A"},{"$error":"#N/A"},{"$f":"IF(AND(C124-シート!$CP$87>=0,シート!$DK$87-C124>=0),1,0)","v":{"$error":"#VALUE!"}},{"$error":"#N/A"},{"$error":"#N/A"},"1900-04-30"]
[123,13,"1900-05-01",{"$f":"+IF(AND(C125-シート!$BV$67>=0,シート!$AI$19-C125>=0),1,0)","v":{"$error":"#N/A"}},{"$f":"IF(AND(C125-シート!$C$87>=0,シート!$X$87-C125>=0),1,0)","v":{"$error":"#VALUE!"}},{"$error":"#N/A"},{"$error":"#N/A"},{"$f":"IF(AND(C125-シート!$CP$87>=0,シート!$DK$87-C125>=0),1,0)","v":{"$error":"#VALUE!"}},{"$error":"#N/A"},{"$error":"#N/A"},"1900-05-01"]
[124,13,"1900-05-02",{"$f":"+IF(AND(C126-シート!$BV$67>=0,シート!$AI$19-C126>=0),1,0)","v":{"$error":"#N/A"}},{"$f":"IF(AND(C126-シート!$C$87>=0,シート!$X$87-C126>=0),1,0)","v":{"$error":"#VALUE!"}},{"$error":"#N/A"},{"$error":"#N/A"},{"$f":"IF(AND(C126-シート!$CP$87>=0,シート!$DK$87-C126>=0),1,0)","v":{"$error":"#VALUE!"}},{"$error":"#N/A"},{"$error":"#N/A"},"1900-05-02"]
[125,13,"1900-05-03",{"$f":"+IF(AND(C127-シート!$BV$67>=0,シート!$AI$19-C127>=0),1,0)","v":{"$error":"#N/A"}},{"$f":"IF(AND(C127-シート!$C$87>=0,シート!$X$87-C127>=0),1,0)","v":{"$error":"#VALUE!"}},{"$error":"#N/A"},{"$error":"#N/A"},{"$f":"IF(AND(C127-シート!$CP$87>=0,シート!$DK$87-C127>=0),1,0)","v":{"$error":"#VALUE!"}},{"$error":"#N/A"},{"$error":"#N/A"},"1900-05-03"]
[126,13,"1900-05-04",{"$f":"+IF(AND(C128-シート!$BV$67>=0,シート!$AI$19-C128>=0),1,0)","v":{"$error":"#N/A"}},{"$f":"IF(AND(C128-シート!$C$87>=0,シート!$X$87-C128>=0),1,0)","v":{"$error":"#VALUE!"}},{"$error":"#N/A"},{"$error":"#N/A"},{"$f":"IF(AND(C128-シート!$CP$87>=0,シート!$DK$87-C128>=0),1,0)","v":{"$error":"#VALUE!"}},{"$error":"#N/A"},{"$error":"#N/A"},"1900-05-04"]
[127,13,"1900-05-05",{"$f":"+IF(AND(C129-シート!$BV$67>=0,シート!$AI$19-C129>=0),1,0)","v":{"$error":"#N/A"}},{"$f":"IF(AND(C129-シート!$C$87>=0,シート!$X$87-C129>=0),1,0)","v":{"$error":"#VALUE!"}},{"$error":"#N/A"},{"$error":"#N/A"},{"$f":"IF(AND(C129-シート!$CP$87>=0,シート!$DK$87-C129>=0),1,0)","v":{"$error":"#VALUE!"}},{"$error":"#N/A"},{"$error":"#N/A"},"1900-05-05"]
[128,13,"1900-05-06",{"$f":"+IF(AND(C130-シート!$BV$67>=0,シート!$AI$19-C130>=0),1,0)","v":{"$error":"#N/A"}},{"$f":"IF(AND(C130-シート!$C$87>=0,シート!$X$87-C130>=0),1,0)","v":{"$error":"#VALUE!"}},{"$error":"#N/A"},{"$error":"#N/A"},{"$f":"IF(AND(C130-シート!$CP$87>=0,シート!$DK$87-C130>=0),1,0)","v":{"$error":"#VALUE!"}},{"$error":"#N/A"},{"$error":"#N/A"},"1900-05-06"]
[129,13,"1900-05-07",{"$f":"+IF(AND(C131-シート!$BV$67>=0,シート!$AI$19-C131>=0),1,0)","v":{"$error":"#N/A"}},{"$f":"IF(AND(C131-シート!$C$87>=0,シート!$X$87-C131>=0),1,0)","v":{"$error":"#VALUE!"}},{"$error":"#N/A"},{"$error":"#N/A"},{"$f":"IF(AND(C131-シート!$CP$87>=0,シート!$DK$87-C131>=0),1,0)","v":{"$error":"#VALUE!"}},{"$error":"#N/A"},{"$error":"#N/A"},"1900-05-07"]
[130,13,"1900-05-08",{"$f":"+IF(AND(C132-シート!$BV$67>=0,シート!$AI$19-C132>=0),1,0)","v":{"$error":"#N/A"}},{"$f":"IF(AND(C132-シート!$C$87>=0,シート!$X$87-C132>=0),1,0)","v":{"$error":"#VALUE!"}},{"$f":"IF(+D132+E132=2,1,0)","v":{"$error":"#N/A"}},{"$error":"#N/A"},{"$f":"IF(AND(C132-シート!$CP$87>=0,シート!$DK$87-C132>=0),1,0)","v":{"$error":"#VALUE!"}},{"$f":"IF(+D132+H132=2,1,0)","v":{"$error":"#N/A"}},{"$error":"#N/A"},{"$f":"+C132","v":"1900-05-08"}]
[{"$f":"+A132+1","v":131},13,{"$f":"+C132+1","v":"1900-05-09"},{"$f":"+IF(AND(C133-シート!$BV$67>=0,シート!$AI$19-C133>=0),1,0)","v":{"$error":"#N/A"}},{"$f":"IF(AND(C133-シート!$C$87>=0,シート!$X$87-C133>=0),1,0)","v":{"$error":"#VALUE!"}},{"$error":"#N/A"},{"$f":"+G132+F133","v":{"$error":"#N/A"}},{"$f":"IF(AND(C133-シート!$CP$87>=0,シート!$DK$87-C133>=0),1,0)","v":{"$error":"#VALUE!"}},{"$error":"#N/A"},{"$f":"+J132+I133","v":{"$error":"#N/A"}},"1900-05-09"]
[132,13,"1900-05-10",{"$f":"+IF(AND(C134-シート!$BV$67>=0,シート!$AI$19-C134>=0),1,0)","v":{"$error":"#N/A"}},{"$f":"IF(AND(C134-シート!$C$87>=0,シート!$X$87-C134>=0),1,0)","v":{"$error":"#VALUE!"}},{"$error":"#N/A"},{"$error":"#N/A"},{"$f":"IF(AND(C134-シート!$CP$87>=0,シート!$DK$87-C134>=0),1,0)","v":{"$error":"#VALUE!"}},{"$error":"#N/A"},{"$error":"#N/A"},"1900-05-10"]
[133,14,"1900-05-11",{"$f":"+IF(AND(C135-シート!$BV$67>=0,シート!$AI$19-C135>=0),1,0)","v":{"$error":"#N/A"}},{"$f":"IF(AND(C135-シート!$C$87>=0,シート!$X$87-C135>=0),1,0)","v":{"$error":"#VALUE!"}},{"$error":"#N/A"},{"$error":"#N/A"},{"$f":"IF(AND(C135-シート!$CP$87>=0,シート!$DK$87-C135>=0),1,0)","v":{"$error":"#VALUE!"}},{"$error":"#N/A"},{"$error":"#N/A"},"1900-05-11"]
[134,14,"1900-05-12",{"$f":"+IF(AND(C136-シート!$BV$67>=0,シート!$AI$19-C136>=0),1,0)","v":{"$error":"#N/A"}},{"$f":"IF(AND(C136-シート!$C$87>=0,シート!$X$87-C136>=0),1,0)","v":{"$error":"#VALUE!"}},{"$error":"#N/A"},{"$error":"#N/A"},{"$f":"IF(AND(C136-シート!$CP$87>=0,シート!$DK$87-C136>=0),1,0)","v":{"$error":"#VALUE!"}},{"$error":"#N/A"},{"$error":"#N/A"},"1900-05-12"]
[135,14,"1900-05-13",{"$f":"+IF(AND(C137-シート!$BV$67>=0,シート!$AI$19-C137>=0),1,0)","v":{"$error":"#N/A"}},{"$f":"IF(AND(C137-シート!$C$87>=0,シート!$X$87-C137>=0),1,0)","v":{"$error":"#VALUE!"}},{"$error":"#N/A"},{"$error":"#N/A"},{"$f":"IF(AND(C137-シート!$CP$87>=0,シート!$DK$87-C137>=0),1,0)","v":{"$error":"#VALUE!"}},{"$error":"#N/A"},{"$error":"#N/A"},"1900-05-13"]
[136,14,"1900-05-14",{"$f":"+IF(AND(C138-シート!$BV$67>=0,シート!$AI$19-C138>=0),1,0)","v":{"$error":"#N/A"}},{"$f":"IF(AND(C138-シート!$C$87>=0,シート!$X$87-C138>=0),1,0)","v":{"$error":"#VALUE!"}},{"$error":"#N/A"},{"$error":"#N/A"},{"$f":"IF(AND(C138-シート!$CP$87>=0,シート!$DK$87-C138>=0),1,0)","v":{"$error":"#VALUE!"}},{"$error":"#N/A"},{"$error":"#N/A"},"1900-05-14"]
[137,14,"1900-05-15",{"$f":"+IF(AND(C139-シート!$BV$67>=0,シート!$AI$19-C139>=0),1,0)","v":{"$error":"#N/A"}},{"$f":"IF(AND(C139-シート!$C$87>=0,シート!$X$87-C139>=0),1,0)","v":{"$error":"#VALUE!"}},{"$error":"#N/A"},{"$error":"#N/A"},{"$f":"IF(AND(C139-シート!$CP$87>=0,シート!$DK$87-C139>=0),1,0)","v":{"$error":"#VALUE!"}},{"$error":"#N/A"},{"$error":"#N/A"},"1900-05-15"]
[138,14,"1900-05-16",{"$f":"+IF(AND(C140-シート!$BV$67>=0,シート!$AI$19-C140>=0),1,0)","v":{"$error":"#N/A"}},{"$f":"IF(AND(C140-シート!$C$87>=0,シート!$X$87-C140>=0),1,0)","v":{"$error":"#VALUE!"}},{"$error":"#N/A"},{"$error":"#N/A"},{"$f":"IF(AND(C140-シート!$CP$87>=0,シート!$DK$87-C140>=0),1,0)","v":{"$error":"#VALUE!"}},{"$error":"#N/A"},{"$error":"#N/A"},"1900-05-16"]
[139,14,"1900-05-17",{"$f":"+IF(AND(C141-シート!$BV$67>=0,シート!$AI$19-C141>=0),1,0)","v":{"$error":"#N/A"}},{"$f":"IF(AND(C141-シート!$C$87>=0,シート!$X$87-C141>=0),1,0)","v":{"$error":"#VALUE!"}},{"$error":"#N/A"},{"$error":"#N/A"},{"$f":"IF(AND(C141-シート!$CP$87>=0,シート!$DK$87-C141>=0),1,0)","v":{"$error":"#VALUE!"}},{"$error":"#N/A"},{"$error":"#N/A"},"1900-05-17"]
[140,14,"1900-05-18",{"$f":"+IF(AND(C142-シート!$BV$67>=0,シート!$AI$19-C142>=0),1,0)","v":{"$error":"#N/A"}},{"$f":"IF(AND(C142-シート!$C$87>=0,シート!$X$87-C142>=0),1,0)","v":{"$error":"#VALUE!"}},{"$error":"#N/A"},{"$error":"#N/A"},{"$f":"IF(AND(C142-シート!$CP$87>=0,シート!$DK$87-C142>=0),1,0)","v":{"$error":"#VALUE!"}},{"$error":"#N/A"},{"$error":"#N/A"},"1900-05-18"]
[141,14,"1900-05-19",{"$f":"+IF(AND(C143-シート!$BV$67>=0,シート!$AI$19-C143>=0),1,0)","v":{"$error":"#N/A"}},{"$f":"IF(AND(C143-シート!$C$87>=0,シート!$X$87-C143>=0),1,0)","v":{"$error":"#VALUE!"}},{"$error":"#N/A"},{"$error":"#N/A"},{"$f":"IF(AND(C143-シート!$CP$87>=0,シート!$DK$87-C143>=0),1,0)","v":{"$error":"#VALUE!"}},{"$error":"#N/A"},{"$error":"#N/A"},"1900-05-19"]
[142,14,"1900-05-20",{"$f":"+IF(AND(C144-シート!$BV$67>=0,シート!$AI$19-C144>=0),1,0)","v":{"$error":"#N/A"}},{"$f":"IF(AND(C144-シート!$C$87>=0,シート!$X$87-C144>=0),1,0)","v":{"$error":"#VALUE!"}},{"$error":"#N/A"},{"$error":"#N/A"},{"$f":"IF(AND(C144-シート!$CP$87>=0,シート!$DK$87-C144>=0),1,0)","v":{"$error":"#VALUE!"}},{"$error":"#N/A"},{"$error":"#N/A"},"1900-05-20"]
[143,14,"1900-05-21",{"$f":"+IF(AND(C145-シート!$BV$67>=0,シート!$AI$19-C145>=0),1,0)","v":{"$error":"#N/A"}},{"$f":"IF(AND(C145-シート!$C$87>=0,シート!$X$87-C145>=0),1,0)","v":{"$error":"#VALUE!"}},{"$error":"#N/A"},{"$error":"#N/A"},{"$f":"IF(AND(C145-シート!$CP$87>=0,シート!$DK$87-C145>=0),1,0)","v":{"$error":"#VALUE!"}},{"$error":"#N/A"},{"$error":"#N/A"},"1900-05-21"]
[144,15,"1900-05-22",{"$f":"+IF(AND(C146-シート!$BV$67>=0,シート!$AI$19-C146>=0),1,0)","v":{"$error":"#N/A"}},{"$f":"IF(AND(C146-シート!$C$87>=0,シート!$X$87-C146>=0),1,0)","v":{"$error":"#VALUE!"}},{"$error":"#N/A"},{"$error":"#N/A"},{"$f":"IF(AND(C146-シート!$CP$87>=0,シート!$DK$87-C146>=0),1,0)","v":{"$error":"#VALUE!"}},{"$error":"#N/A"},{"$error":"#N/A"},"1900-05-22"]
[145,15,"1900-05-23",{"$f":"+IF(AND(C147-シート!$BV$67>=0,シート!$AI$19-C147>=0),1,0)","v":{"$error":"#N/A"}},{"$f":"IF(AND(C147-シート!$C$87>=0,シート!$X$87-C147>=0),1,0)","v":{"$error":"#VALUE!"}},{"$error":"#N/A"},{"$error":"#N/A"},{"$f":"IF(AND(C147-シート!$CP$87>=0,シート!$DK$87-C147>=0),1,0)","v":{"$error":"#VALUE!"}},{"$error":"#N/A"},{"$error":"#N/A"},"1900-05-23"]
[146,15,"1900-05-24",{"$f":"+IF(AND(C148-シート!$BV$67>=0,シート!$AI$19-C148>=0),1,0)","v":{"$error":"#N/A"}},{"$f":"IF(AND(C148-シート!$C$87>=0,シート!$X$87-C148>=0),1,0)","v":{"$error":"#VALUE!"}},{"$error":"#N/A"},{"$error":"#N/A"},{"$f":"IF(AND(C148-シート!$CP$87>=0,シート!$DK$87-C148>=0),1,0)","v":{"$error":"#VALUE!"}},{"$error":"#N/A"},{"$error":"#N/A"},"1900-05-24"]
[147,15,"1900-05-25",{"$f":"+IF(AND(C149-シート!$BV$67>=0,シート!$AI$19-C149>=0),1,0)","v":{"$error":"#N/A"}},{"$f":"IF(AND(C149-シート!$C$87>=0,シート!$X$87-C149>=0),1,0)","v":{"$error":"#VALUE!"}},{"$error":"#N/A"},{"$error":"#N/A"},{"$f":"IF(AND(C149-シート!$CP$87>=0,シート!$DK$87-C149>=0),1,0)","v":{"$error":"#VALUE!"}},{"$error":"#N/A"},{"$error":"#N/A"},"1900-05-25"]
[148,15,"1900-05-26",{"$f":"+IF(AND(C150-シート!$BV$67>=0,シート!$AI$19-C150>=0),1,0)","v":{"$error":"#N/A"}},{"$f":"IF(AND(C150-シート!$C$87>=0,シート!$X$87-C150>=0),1,0)","v":{"$error":"#VALUE!"}},{"$error":"#N/A"},{"$error":"#N/A"},{"$f":"IF(AND(C150-シート!$CP$87>=0,シート!$DK$87-C150>=0),1,0)","v":{"$error":"#VALUE!"}},{"$error":"#N/A"},{"$error":"#N/A"},"1900-05-26"]
[149,15,"1900-05-27",{"$f":"+IF(AND(C151-シート!$BV$67>=0,シート!$AI$19-C151>=0),1,0)","v":{"$error":"#N/A"}},{"$f":"IF(AND(C151-シート!$C$87>=0,シート!$X$87-C151>=0),1,0)","v":{"$error":"#VALUE!"}},{"$error":"#N/A"},{"$error":"#N/A"},{"$f":"IF(AND(C151-シート!$CP$87>=0,シート!$DK$87-C151>=0),1,0)","v":{"$error":"#VALUE!"}},{"$error":"#N/A"},{"$error":"#N/A"},"1900-05-27"]
[150,15,"1900-05-28",{"$f":"+IF(AND(C152-シート!$BV$67>=0,シート!$AI$19-C152>=0),1,0)","v":{"$error":"#N/A"}},{"$f":"IF(AND(C152-シート!$C$87>=0,シート!$X$87-C152>=0),1,0)","v":{"$error":"#VALUE!"}},{"$error":"#N/A"},{"$error":"#N/A"},{"$f":"IF(AND(C152-シート!$CP$87>=0,シート!$DK$87-C152>=0),1,0)","v":{"$error":"#VALUE!"}},{"$error":"#N/A"},{"$error":"#N/A"},"1900-05-28"]
[151,15,"1900-05-29",{"$f":"+IF(AND(C153-シート!$BV$67>=0,シート!$AI$19-C153>=0),1,0)","v":{"$error":"#N/A"}},{"$f":"IF(AND(C153-シート!$C$87>=0,シート!$X$87-C153>=0),1,0)","v":{"$error":"#VALUE!"}},{"$error":"#N/A"},{"$error":"#N/A"},{"$f":"IF(AND(C153-シート!$CP$87>=0,シート!$DK$87-C153>=0),1,0)","v":{"$error":"#VALUE!"}},{"$error":"#N/A"},{"$error":"#N/A"},"1900-05-29"]
[152,15,"1900-05-30",{"$f":"+IF(AND(C154-シート!$BV$67>=0,シート!$AI$19-C154>=0),1,0)","v":{"$error":"#N/A"}},{"$f":"IF(AND(C154-シート!$C$87>=0,シート!$X$87-C154>=0),1,0)","v":{"$error":"#VALUE!"}},{"$error":"#N/A"},{"$error":"#N/A"},{"$f":"IF(AND(C154-シート!$CP$87>=0,シート!$DK$87-C154>=0),1,0)","v":{"$error":"#VALUE!"}},{"$error":"#N/A"},{"$error":"#N/A"},"1900-05-30"]
[153,15,"1900-05-31",{"$f":"+IF(AND(C155-シート!$BV$67>=0,シート!$AI$19-C155>=0),1,0)","v":{"$error":"#N/A"}},{"$f":"IF(AND(C155-シート!$C$87>=0,シート!$X$87-C155>=0),1,0)","v":{"$error":"#VALUE!"}},{"$error":"#N/A"},{"$error":"#N/A"},{"$f":"IF(AND(C155-シート!$CP$87>=0,シート!$DK$87-C155>=0),1,0)","v":{"$error":"#VALUE!"}},{"$error":"#N/A"},{"$error":"#N/A"},"1900-05-31"]
[154,16,"1900-06-01",{"$f":"+IF(AND(C156-シート!$BV$67>=0,シート!$AI$19-C156>=0),1,0)","v":{"$error":"#N/A"}},{"$f":"IF(AND(C156-シート!$C$87>=0,シート!$X$87-C156>=0),1,0)","v":{"$error":"#VALUE!"}},{"$error":"#N/A"},{"$error":"#N/A"},{"$f":"IF(AND(C156-シート!$CP$87>=0,シート!$DK$87-C156>=0),1,0)","v":{"$error":"#VALUE!"}},{"$error":"#N/A"},{"$error":"#N/A"},"1900-06-01"]
[155,16,"1900-06-02",{"$f":"+IF(AND(C157-シート!$BV$67>=0,シート!$AI$19-C157>=0),1,0)","v":{"$error":"#N/A"}},{"$f":"IF(AND(C157-シート!$C$87>=0,シート!$X$87-C157>=0),1,0)","v":{"$error":"#VALUE!"}},{"$error":"#N/A"},{"$error":"#N/A"},{"$f":"IF(AND(C157-シート!$CP$87>=0,シート!$DK$87-C157>=0),1,0)","v":{"$error":"#VALUE!"}},{"$error":"#N/A"},{"$error":"#N/A"},"1900-06-02"]
[156,16,"1900-06-03",{"$f":"+IF(AND(C158-シート!$BV$67>=0,シート!$AI$19-C158>=0),1,0)","v":{"$error":"#N/A"}},{"$f":"IF(AND(C158-シート!$C$87>=0,シート!$X$87-C158>=0),1,0)","v":{"$error":"#VALUE!"}},{"$error":"#N/A"},{"$error":"#N/A"},{"$f":"IF(AND(C158-シート!$CP$87>=0,シート!$DK$87-C158>=0),1,0)","v":{"$error":"#VALUE!"}},{"$error":"#N/A"},{"$error":"#N/A"},"1900-06-03"]
[157,16,"1900-06-04",{"$f":"+IF(AND(C159-シート!$BV$67>=0,シート!$AI$19-C159>=0),1,0)","v":{"$error":"#N/A"}},{"$f":"IF(AND(C159-シート!$C$87>=0,シート!$X$87-C159>=0),1,0)","v":{"$error":"#VALUE!"}},{"$error":"#N/A"},{"$error":"#N/A"},{"$f":"IF(AND(C159-シート!$CP$87>=0,シート!$DK$87-C159>=0),1,0)","v":{"$error":"#VALUE!"}},{"$error":"#N/A"},{"$error":"#N/A"},"1900-06-04"]
[158,16,"1900-06-05",{"$f":"+IF(AND(C160-シート!$BV$67>=0,シート!$AI$19-C160>=0),1,0)","v":{"$error":"#N/A"}},{"$f":"IF(AND(C160-シート!$C$87>=0,シート!$X$87-C160>=0),1,0)","v":{"$error":"#VALUE!"}},{"$error":"#N/A"},{"$error":"#N/A"},{"$f":"IF(AND(C160-シート!$CP$87>=0,シート!$DK$87-C160>=0),1,0)","v":{"$error":"#VALUE!"}},{"$error":"#N/A"},{"$error":"#N/A"},"1900-06-05"]
[159,16,"1900-06-06",{"$f":"+IF(AND(C161-シート!$BV$67>=0,シート!$AI$19-C161>=0),1,0)","v":{"$error":"#N/A"}},{"$f":"IF(AND(C161-シート!$C$87>=0,シート!$X$87-C161>=0),1,0)","v":{"$error":"#VALUE!"}},{"$error":"#N/A"},{"$error":"#N/A"},{"$f":"IF(AND(C161-シート!$CP$87>=0,シート!$DK$87-C161>=0),1,0)","v":{"$error":"#VALUE!"}},{"$error":"#N/A"},{"$error":"#N/A"},"1900-06-06"]
[160,16,"1900-06-07",{"$f":"+IF(AND(C162-シート!$BV$67>=0,シート!$AI$19-C162>=0),1,0)","v":{"$error":"#N/A"}},{"$f":"IF(AND(C162-シート!$C$87>=0,シート!$X$87-C162>=0),1,0)","v":{"$error":"#VALUE!"}},{"$error":"#N/A"},{"$error":"#N/A"},{"$f":"IF(AND(C162-シート!$CP$87>=0,シート!$DK$87-C162>=0),1,0)","v":{"$error":"#VALUE!"}},{"$error":"#N/A"},{"$error":"#N/A"},"1900-06-07"]
[161,16,"1900-06-08",{"$f":"+IF(AND(C163-シート!$BV$67>=0,シート!$AI$19-C163>=0),1,0)","v":{"$error":"#N/A"}},{"$f":"IF(AND(C163-シート!$C$87>=0,シート!$X$87-C163>=0),1,0)","v":{"$error":"#VALUE!"}},{"$error":"#N/A"},{"$error":"#N/A"},{"$f":"IF(AND(C163-シート!$CP$87>=0,シート!$DK$87-C163>=0),1,0)","v":{"$error":"#VALUE!"}},{"$error":"#N/A"},{"$error":"#N/A"},"1900-06-08"]
[162,16,"1900-06-09",{"$f":"+IF(AND(C164-シート!$BV$67>=0,シート!$AI$19-C164>=0),1,0)","v":{"$error":"#N/A"}},{"$f":"IF(AND(C164-シート!$C$87>=0,シート!$X$87-C164>=0),1,0)","v":{"$error":"#VALUE!"}},{"$error":"#N/A"},{"$error":"#N/A"},{"$f":"IF(AND(C164-シート!$CP$87>=0,シート!$DK$87-C164>=0),1,0)","v":{"$error":"#VALUE!"}},{"$error":"#N/A"},{"$error":"#N/A"},"1900-06-09"]
[163,16,"1900-06-10",{"$f":"+IF(AND(C165-シート!$BV$67>=0,シート!$AI$19-C165>=0),1,0)","v":{"$error":"#N/A"}},{"$f":"IF(AND(C165-シート!$C$87>=0,シート!$X$87-C165>=0),1,0)","v":{"$error":"#VALUE!"}},{"$error":"#N/A"},{"$error":"#N/A"},{"$f":"IF(AND(C165-シート!$CP$87>=0,シート!$DK$87-C165>=0),1,0)","v":{"$error":"#VALUE!"}},{"$error":"#N/A"},{"$error":"#N/A"},"1900-06-10"]
[164,17,"1900-06-11",{"$f":"+IF(AND(C166-シート!$BV$67>=0,シート!$AI$19-C166>=0),1,0)","v":{"$error":"#N/A"}},{"$f":"IF(AND(C166-シート!$C$87>=0,シート!$X$87-C166>=0),1,0)","v":{"$error":"#VALUE!"}},{"$error":"#N/A"},{"$error":"#N/A"},{"$f":"IF(AND(C166-シート!$CP$87>=0,シート!$DK$87-C166>=0),1,0)","v":{"$error":"#VALUE!"}},{"$error":"#N/A"},{"$error":"#N/A"},"1900-06-11"]
[165,17,"1900-06-12",{"$f":"+IF(AND(C167-シート!$BV$67>=0,シート!$AI$19-C167>=0),1,0)","v":{"$error":"#N/A"}},{"$f":"IF(AND(C167-シート!$C$87>=0,シート!$X$87-C167>=0),1,0)","v":{"$error":"#VALUE!"}},{"$error":"#N/A"},{"$error":"#N/A"},{"$f":"IF(AND(C167-シート!$CP$87>=0,シート!$DK$87-C167>=0),1,0)","v":{"$error":"#VALUE!"}},{"$error":"#N/A"},{"$error":"#N/A"},"1900-06-12"]
[166,17,"1900-06-13",{"$f":"+IF(AND(C168-シート!$BV$67>=0,シート!$AI$19-C168>=0),1,0)","v":{"$error":"#N/A"}},{"$f":"IF(AND(C168-シート!$C$87>=0,シート!$X$87-C168>=0),1,0)","v":{"$error":"#VALUE!"}},{"$error":"#N/A"},{"$error":"#N/A"},{"$f":"IF(AND(C168-シート!$CP$87>=0,シート!$DK$87-C168>=0),1,0)","v":{"$error":"#VALUE!"}},{"$error":"#N/A"},{"$error":"#N/A"},"1900-06-13"]
[167,17,"1900-06-14",{"$f":"+IF(AND(C169-シート!$BV$67>=0,シート!$AI$19-C169>=0),1,0)","v":{"$error":"#N/A"}},{"$f":"IF(AND(C169-シート!$C$87>=0,シート!$X$87-C169>=0),1,0)","v":{"$error":"#VALUE!"}},{"$error":"#N/A"},{"$error":"#N/A"},{"$f":"IF(AND(C169-シート!$CP$87>=0,シート!$DK$87-C169>=0),1,0)","v":{"$error":"#VALUE!"}},{"$error":"#N/A"},{"$error":"#N/A"},"1900-06-14"]
[168,17,"1900-06-15",{"$f":"+IF(AND(C170-シート!$BV$67>=0,シート!$AI$19-C170>=0),1,0)","v":{"$error":"#N/A"}},{"$f":"IF(AND(C170-シート!$C$87>=0,シート!$X$87-C170>=0),1,0)","v":{"$error":"#VALUE!"}},{"$error":"#N/A"},{"$error":"#N/A"},{"$f":"IF(AND(C170-シート!$CP$87>=0,シート!$DK$87-C170>=0),1,0)","v":{"$error":"#VALUE!"}},{"$error":"#N/A"},{"$error":"#N/A"},"1900-06-15"]
[169,17,"1900-06-16",{"$f":"+IF(AND(C171-シート!$BV$67>=0,シート!$AI$19-C171>=0),1,0)","v":{"$error":"#N/A"}},{"$f":"IF(AND(C171-シート!$C$87>=0,シート!$X$87-C171>=0),1,0)","v":{"$error":"#VALUE!"}},{"$error":"#N/A"},{"$error":"#N/A"},{"$f":"IF(AND(C171-シート!$CP$87>=0,シート!$DK$87-C171>=0),1,0)","v":{"$error":"#VALUE!"}},{"$error":"#N/A"},{"$error":"#N/A"},"1900-06-16"]
[170,17,"1900-06-17",{"$f":"+IF(AND(C172-シート!$BV$67>=0,シート!$AI$19-C172>=0),1,0)","v":{"$error":"#N/A"}},{"$f":"IF(AND(C172-シート!$C$87>=0,シート!$X$87-C172>=0),1,0)","v":{"$error":"#VALUE!"}},{"$error":"#N/A"},{"$error":"#N/A"},{"$f":"IF(AND(C172-シート!$CP$87>=0,シート!$DK$87-C172>=0),1,0)","v":{"$error":"#VALUE!"}},{"$error":"#N/A"},{"$error":"#N/A"},"1900-06-17"]
[171,17,"1900-06-18",{"$f":"+IF(AND(C173-シート!$BV$67>=0,シート!$AI$19-C173>=0),1,0)","v":{"$error":"#N/A"}},{"$f":"IF(AND(C173-シート!$C$87>=0,シート!$X$87-C173>=0),1,0)","v":{"$error":"#VALUE!"}},{"$error":"#N/A"},{"$error":"#N/A"},{"$f":"IF(AND(C173-シート!$CP$87>=0,シート!$DK$87-C173>=0),1,0)","v":{"$error":"#VALUE!"}},{"$error":"#N/A"},{"$error":"#N/A"},"1900-06-18"]
[172,17,"1900-06-19",{"$f":"+IF(AND(C174-シート!$BV$67>=0,シート!$AI$19-C174>=0),1,0)","v":{"$error":"#N/A"}},{"$f":"IF(AND(C174-シート!$C$87>=0,シート!$X$87-C174>=0),1,0)","v":{"$error":"#VALUE!"}},{"$error":"#N/A"},{"$error":"#N/A"},{"$f":"IF(AND(C174-シート!$CP$87>=0,シート!$DK$87-C174>=0),1,0)","v":{"$error":"#VALUE!"}},{"$error":"#N/A"},{"$error":"#N/A"},"1900-06-19"]
[173,17,"1900-06-20",{"$f":"+IF(AND(C175-シート!$BV$67>=0,シート!$AI$19-C175>=0),1,0)","v":{"$error":"#N/A"}},{"$f":"IF(AND(C175-シート!$C$87>=0,シート!$X$87-C175>=0),1,0)","v":{"$error":"#VALUE!"}},{"$error":"#N/A"},{"$error":"#N/A"},{"$f":"IF(AND(C175-シート!$CP$87>=0,シート!$DK$87-C175>=0),1,0)","v":{"$error":"#VALUE!"}},{"$error":"#N/A"},{"$error":"#N/A"},"1900-06-20"]
[174,18,"1900-06-21",{"$f":"+IF(AND(C176-シート!$BV$67>=0,シート!$AI$19-C176>=0),1,0)","v":{"$error":"#N/A"}},{"$f":"IF(AND(C176-シート!$C$87>=0,シート!$X$87-C176>=0),1,0)","v":{"$error":"#VALUE!"}},{"$error":"#N/A"},{"$error":"#N/A"},{"$f":"IF(AND(C176-シート!$CP$87>=0,シート!$DK$87-C176>=0),1,0)","v":{"$error":"#VALUE!"}},{"$error":"#N/A"},{"$error":"#N/A"},"1900-06-21"]
[175,18,"1900-06-22",{"$f":"+IF(AND(C177-シート!$BV$67>=0,シート!$AI$19-C177>=0),1,0)","v":{"$error":"#N/A"}},{"$f":"IF(AND(C177-シート!$C$87>=0,シート!$X$87-C177>=0),1,0)","v":{"$error":"#VALUE!"}},{"$error":"#N/A"},{"$error":"#N/A"},{"$f":"IF(AND(C177-シート!$CP$87>=0,シート!$DK$87-C177>=0),1,0)","v":{"$error":"#VALUE!"}},{"$error":"#N/A"},{"$error":"#N/A"},"1900-06-22"]
[176,18,"1900-06-23",{"$f":"+IF(AND(C178-シート!$BV$67>=0,シート!$AI$19-C178>=0),1,0)","v":{"$error":"#N/A"}},{"$f":"IF(AND(C178-シート!$C$87>=0,シート!$X$87-C178>=0),1,0)","v":{"$error":"#VALUE!"}},{"$error":"#N/A"},{"$error":"#N/A"},{"$f":"IF(AND(C178-シート!$CP$87>=0,シート!$DK$87-C178>=0),1,0)","v":{"$error":"#VALUE!"}},{"$error":"#N/A"},{"$error":"#N/A"},"1900-06-23"]
[177,18,"1900-06-24",{"$f":"+IF(AND(C179-シート!$BV$67>=0,シート!$AI$19-C179>=0),1,0)","v":{"$error":"#N/A"}},{"$f":"IF(AND(C179-シート!$C$87>=0,シート!$X$87-C179>=0),1,0)","v":{"$error":"#VALUE!"}},{"$error":"#N/A"},{"$error":"#N/A"},{"$f":"IF(AND(C179-シート!$CP$87>=0,シート!$DK$87-C179>=0),1,0)","v":{"$error":"#VALUE!"}},{"$error":"#N/A"},{"$error":"#N/A"},"1900-06-24"]
[178,18,"1900-06-25",{"$f":"+IF(AND(C180-シート!$BV$67>=0,シート!$AI$19-C180>=0),1,0)","v":{"$error":"#N/A"}},{"$f":"IF(AND(C180-シート!$C$87>=0,シート!$X$87-C180>=0),1,0)","v":{"$error":"#VALUE!"}},{"$error":"#N/A"},{"$error":"#N/A"},{"$f":"IF(AND(C180-シート!$CP$87>=0,シート!$DK$87-C180>=0),1,0)","v":{"$error":"#VALUE!"}},{"$error":"#N/A"},{"$error":"#N/A"},"1900-06-25"]
[179,18,"1900-06-26",{"$f":"+IF(AND(C181-シート!$BV$67>=0,シート!$AI$19-C181>=0),1,0)","v":{"$error":"#N/A"}},{"$f":"IF(AND(C181-シート!$C$87>=0,シート!$X$87-C181>=0),1,0)","v":{"$error":"#VALUE!"}},{"$error":"#N/A"},{"$error":"#N/A"},{"$f":"IF(AND(C181-シート!$CP$87>=0,シート!$DK$87-C181>=0),1,0)","v":{"$error":"#VALUE!"}},{"$error":"#N/A"},{"$error":"#N/A"},"1900-06-26"]
[180,18,"1900-06-27",{"$f":"+IF(AND(C182-シート!$BV$67>=0,シート!$AI$19-C182>=0),1,0)","v":{"$error":"#N/A"}},{"$f":"IF(AND(C182-シート!$C$87>=0,シート!$X$87-C182>=0),1,0)","v":{"$error":"#VALUE!"}},{"$error":"#N/A"},{"$error":"#N/A"},{"$f":"IF(AND(C182-シート!$CP$87>=0,シート!$DK$87-C182>=0),1,0)","v":{"$error":"#VALUE!"}},{"$error":"#N/A"},{"$error":"#N/A"},"1900-06-27"]
[181,18,"1900-06-28",{"$f":"+IF(AND(C183-シート!$BV$67>=0,シート!$AI$19-C183>=0),1,0)","v":{"$error":"#N/A"}},{"$f":"IF(AND(C183-シート!$C$87>=0,シート!$X$87-C183>=0),1,0)","v":{"$error":"#VALUE!"}},{"$error":"#N/A"},{"$error":"#N/A"},{"$f":"IF(AND(C183-シート!$CP$87>=0,シート!$DK$87-C183>=0),1,0)","v":{"$error":"#VALUE!"}},{"$error":"#N/A"},{"$error":"#N/A"},"1900-06-28"]
[182,18,"1900-06-29",{"$f":"+IF(AND(C184-シート!$BV$67>=0,シート!$AI$19-C184>=0),1,0)","v":{"$error":"#N/A"}},{"$f":"IF(AND(C184-シート!$C$87>=0,シート!$X$87-C184>=0),1,0)","v":{"$error":"#VALUE!"}},{"$error":"#N/A"},{"$error":"#N/A"},{"$f":"IF(AND(C184-シート!$CP$87>=0,シート!$DK$87-C184>=0),1,0)","v":{"$error":"#VALUE!"}},{"$error":"#N/A"},{"$error":"#N/A"},"1900-06-29"]
[183,18,"1900-06-30",{"$f":"+IF(AND(C185-シート!$BV$67>=0,シート!$AI$19-C185>=0),1,0)","v":{"$error":"#N/A"}},{"$f":"IF(AND(C185-シート!$C$87>=0,シート!$X$87-C185>=0),1,0)","v":{"$error":"#VALUE!"}},{"$error":"#N/A"},{"$error":"#N/A"},{"$f":"IF(AND(C185-シート!$CP$87>=0,シート!$DK$87-C185>=0),1,0)","v":{"$error":"#VALUE!"}},{"$error":"#N/A"},{"$error":"#N/A"},"1900-06-30"]
[184,19,"1900-07-01",{"$f":"+IF(AND(C186-シート!$BV$67>=0,シート!$AI$19-C186>=0),1,0)","v":{"$error":"#N/A"}},{"$f":"IF(AND(C186-シート!$C$87>=0,シート!$X$87-C186>=0),1,0)","v":{"$error":"#VALUE!"}},{"$error":"#N/A"},{"$error":"#N/A"},{"$f":"IF(AND(C186-シート!$CP$87>=0,シート!$DK$87-C186>=0),1,0)","v":{"$error":"#VALUE!"}},{"$error":"#N/A"},{"$error":"#N/A"},"1900-07-01"]
[185,19,"1900-07-02",{"$f":"+IF(AND(C187-シート!$BV$67>=0,シート!$AI$19-C187>=0),1,0)","v":{"$error":"#N/A"}},{"$f":"IF(AND(C187-シート!$C$87>=0,シート!$X$87-C187>=0),1,0)","v":{"$error":"#VALUE!"}},{"$error":"#N/A"},{"$error":"#N/A"},{"$f":"IF(AND(C187-シート!$CP$87>=0,シート!$DK$87-C187>=0),1,0)","v":{"$error":"#VALUE!"}},{"$error":"#N/A"},{"$error":"#N/A"},"1900-07-02"]
[186,19,"1900-07-03",{"$f":"+IF(AND(C188-シート!$BV$67>=0,シート!$AI$19-C188>=0),1,0)","v":{"$error":"#N/A"}},{"$f":"IF(AND(C188-シート!$C$87>=0,シート!$X$87-C188>=0),1,0)","v":{"$error":"#VALUE!"}},{"$error":"#N/A"},{"$error":"#N/A"},{"$f":"IF(AND(C188-シート!$CP$87>=0,シート!$DK$87-C188>=0),1,0)","v":{"$error":"#VALUE!"}},{"$error":"#N/A"},{"$error":"#N/A"},"1900-07-03"]
[187,19,"1900-07-04",{"$f":"+IF(AND(C189-シート!$BV$67>=0,シート!$AI$19-C189>=0),1,0)","v":{"$error":"#N/A"}},{"$f":"IF(AND(C189-シート!$C$87>=0,シート!$X$87-C189>=0),1,0)","v":{"$error":"#VALUE!"}},{"$error":"#N/A"},{"$error":"#N/A"},{"$f":"IF(AND(C189-シート!$CP$87>=0,シート!$DK$87-C189>=0),1,0)","v":{"$error":"#VALUE!"}},{"$error":"#N/A"},{"$error":"#N/A"},"1900-07-04"]
[188,19,"1900-07-05",{"$f":"+IF(AND(C190-シート!$BV$67>=0,シート!$AI$19-C190>=0),1,0)","v":{"$error":"#N/A"}},{"$f":"IF(AND(C190-シート!$C$87>=0,シート!$X$87-C190>=0),1,0)","v":{"$error":"#VALUE!"}},{"$error":"#N/A"},{"$error":"#N/A"},{"$f":"IF(AND(C190-シート!$CP$87>=0,シート!$DK$87-C190>=0),1,0)","v":{"$error":"#VALUE!"}},{"$error":"#N/A"},{"$error":"#N/A"},"1900-07-05"]
[189,19,"1900-07-06",{"$f":"+IF(AND(C191-シート!$BV$67>=0,シート!$AI$19-C191>=0),1,0)","v":{"$error":"#N/A"}},{"$f":"IF(AND(C191-シート!$C$87>=0,シート!$X$87-C191>=0),1,0)","v":{"$error":"#VALUE!"}},{"$error":"#N/A"},{"$error":"#N/A"},{"$f":"IF(AND(C191-シート!$CP$87>=0,シート!$DK$87-C191>=0),1,0)","v":{"$error":"#VALUE!"}},{"$error":"#N/A"},{"$error":"#N/A"},"1900-07-06"]
[190,19,"1900-07-07",{"$f":"+IF(AND(C192-シート!$BV$67>=0,シート!$AI$19-C192>=0),1,0)","v":{"$error":"#N/A"}},{"$f":"IF(AND(C192-シート!$C$87>=0,シート!$X$87-C192>=0),1,0)","v":{"$error":"#VALUE!"}},{"$error":"#N/A"},{"$error":"#N/A"},{"$f":"IF(AND(C192-シート!$CP$87>=0,シート!$DK$87-C192>=0),1,0)","v":{"$error":"#VALUE!"}},{"$error":"#N/A"},{"$error":"#N/A"},"1900-07-07"]
[191,19,"1900-07-08",{"$f":"+IF(AND(C193-シート!$BV$67>=0,シート!$AI$19-C193>=0),1,0)","v":{"$error":"#N/A"}},{"$f":"IF(AND(C193-シート!$C$87>=0,シート!$X$87-C193>=0),1,0)","v":{"$error":"#VALUE!"}},{"$error":"#N/A"},{"$error":"#N/A"},{"$f":"IF(AND(C193-シート!$CP$87>=0,シート!$DK$87-C193>=0),1,0)","v":{"$error":"#VALUE!"}},{"$error":"#N/A"},{"$error":"#N/A"},"1900-07-08"]
[192,19,"1900-07-09",{"$f":"+IF(AND(C194-シート!$BV$67>=0,シート!$AI$19-C194>=0),1,0)","v":{"$error":"#N/A"}},{"$f":"IF(AND(C194-シート!$C$87>=0,シート!$X$87-C194>=0),1,0)","v":{"$error":"#VALUE!"}},{"$error":"#N/A"},{"$error":"#N/A"},{"$f":"IF(AND(C194-シート!$CP$87>=0,シート!$DK$87-C194>=0),1,0)","v":{"$error":"#VALUE!"}},{"$error":"#N/A"},{"$error":"#N/A"},"1900-07-09"]
[193,19,"1900-07-10",{"$f":"+IF(AND(C195-シート!$BV$67>=0,シート!$AI$19-C195>=0),1,0)","v":{"$error":"#N/A"}},{"$f":"IF(AND(C195-シート!$C$87>=0,シート!$X$87-C195>=0),1,0)","v":{"$error":"#VALUE!"}},{"$error":"#N/A"},{"$error":"#N/A"},{"$f":"IF(AND(C195-シート!$CP$87>=0,シート!$DK$87-C195>=0),1,0)","v":{"$error":"#VALUE!"}},{"$error":"#N/A"},{"$error":"#N/A"},"1900-07-10"]
[194,20,"1900-07-11",{"$f":"+IF(AND(C196-シート!$BV$67>=0,シート!$AI$19-C196>=0),1,0)","v":{"$error":"#N/A"}},{"$f":"IF(AND(C196-シート!$C$87>=0,シート!$X$87-C196>=0),1,0)","v":{"$error":"#VALUE!"}},{"$f":"IF(+D196+E196=2,1,0)","v":{"$error":"#N/A"}},{"$error":"#N/A"},{"$f":"IF(AND(C196-シート!$CP$87>=0,シート!$DK$87-C196>=0),1,0)","v":{"$error":"#VALUE!"}},{"$f":"IF(+D196+H196=2,1,0)","v":{"$error":"#N/A"}},{"$error":"#N/A"},{"$f":"+C196","v":"1900-07-11"}]
[{"$f":"+A196+1","v":195},20,{"$f":"+C196+1","v":"1900-07-12"},{"$f":"+IF(AND(C197-シート!$BV$67>=0,シート!$AI$19-C197>=0),1,0)","v":{"$error":"#N/A"}},{"$f":"IF(AND(C197-シート!$C$87>=0,シート!$X$87-C197>=0),1,0)","v":{"$error":"#VALUE!"}},{"$error":"#N/A"},{"$f":"+G196+F197","v":{"$error":"#N/A"}},{"$f":"IF(AND(C197-シート!$CP$87>=0,シート!$DK$87-C197>=0),1,0)","v":{"$error":"#VALUE!"}},{"$error":"#N/A"},{"$f":"+J196+I197","v":{"$error":"#N/A"}},"1900-07-12"]
[196,20,"1900-07-13",{"$f":"+IF(AND(C198-シート!$BV$67>=0,シート!$AI$19-C198>=0),1,0)","v":{"$error":"#N/A"}},{"$f":"IF(AND(C198-シート!$C$87>=0,シート!$X$87-C198>=0),1,0)","v":{"$error":"#VALUE!"}},{"$error":"#N/A"},{"$error":"#N/A"},{"$f":"IF(AND(C198-シート!$CP$87>=0,シート!$DK$87-C198>=0),1,0)","v":{"$error":"#VALUE!"}},{"$error":"#N/A"},{"$error":"#N/A"},"1900-07-13"]
[197,20,"1900-07-14",{"$f":"+IF(AND(C199-シート!$BV$67>=0,シート!$AI$19-C199>=0),1,0)","v":{"$error":"#N/A"}},{"$f":"IF(AND(C199-シート!$C$87>=0,シート!$X$87-C199>=0),1,0)","v":{"$error":"#VALUE!"}},{"$error":"#N/A"},{"$error":"#N/A"},{"$f":"IF(AND(C199-シート!$CP$87>=0,シート!$DK$87-C199>=0),1,0)","v":{"$error":"#VALUE!"}},{"$error":"#N/A"},{"$error":"#N/A"},"1900-07-14"]
[198,20,"1900-07-15",{"$f":"+IF(AND(C200-シート!$BV$67>=0,シート!$AI$19-C200>=0),1,0)","v":{"$error":"#N/A"}},{"$f":"IF(AND(C200-シート!$C$87>=0,シート!$X$87-C200>=0),1,0)","v":{"$error":"#VALUE!"}},{"$error":"#N/A"},{"$error":"#N/A"},{"$f":"IF(AND(C200-シート!$CP$87>=0,シート!$DK$87-C200>=0),1,0)","v":{"$error":"#VALUE!"}},{"$error":"#N/A"},{"$error":"#N/A"},"1900-07-15"]
[199,20,"1900-07-16",{"$f":"+IF(AND(C201-シート!$BV$67>=0,シート!$AI$19-C201>=0),1,0)","v":{"$error":"#N/A"}},{"$f":"IF(AND(C201-シート!$C$87>=0,シート!$X$87-C201>=0),1,0)","v":{"$error":"#VALUE!"}},{"$error":"#N/A"},{"$error":"#N/A"},{"$f":"IF(AND(C201-シート!$CP$87>=0,シート!$DK$87-C201>=0),1,0)","v":{"$error":"#VALUE!"}},{"$error":"#N/A"},{"$error":"#N/A"},"1900-07-16"]
[200,20,"1900-07-17",{"$f":"+IF(AND(C202-シート!$BV$67>=0,シート!$AI$19-C202>=0),1,0)","v":{"$error":"#N/A"}},{"$f":"IF(AND(C202-シート!$C$87>=0,シート!$X$87-C202>=0),1,0)","v":{"$error":"#VALUE!"}},{"$error":"#N/A"},{"$error":"#N/A"},{"$f":"IF(AND(C202-シート!$CP$87>=0,シート!$DK$87-C202>=0),1,0)","v":{"$error":"#VALUE!"}},{"$error":"#N/A"},{"$error":"#N/A"},"1900-07-17"]
[201,20,"1900-07-18",{"$f":"+IF(AND(C203-シート!$BV$67>=0,シート!$AI$19-C203>=0),1,0)","v":{"$error":"#N/A"}},{"$f":"IF(AND(C203-シート!$C$87>=0,シート!$X$87-C203>=0),1,0)","v":{"$error":"#VALUE!"}},{"$error":"#N/A"},{"$error":"#N/A"},{"$f":"IF(AND(C203-シート!$CP$87>=0,シート!$DK$87-C203>=0),1,0)","v":{"$error":"#VALUE!"}},{"$error":"#N/A"},{"$error":"#N/A"},"1900-07-18"]
[202,20,"1900-07-19",{"$f":"+IF(AND(C204-シート!$BV$67>=0,シート!$AI$19-C204>=0),1,0)","v":{"$error":"#N/A"}},{"$f":"IF(AND(C204-シート!$C$87>=0,シート!$X$87-C204>=0),1,0)","v":{"$error":"#VALUE!"}},{"$error":"#N/A"},{"$error":"#N/A"},{"$f":"IF(AND(C204-シート!$CP$87>=0,シート!$DK$87-C204>=0),1,0)","v":{"$error":"#VALUE!"}},{"$error":"#N/A"},{"$error":"#N/A"},"1900-07-19"]
[203,20,"1900-07-20",{"$f":"+IF(AND(C205-シート!$BV$67>=0,シート!$AI$19-C205>=0),1,0)","v":{"$error":"#N/A"}},{"$f":"IF(AND(C205-シート!$C$87>=0,シート!$X$87-C205>=0),1,0)","v":{"$error":"#VALUE!"}},{"$error":"#N/A"},{"$error":"#N/A"},{"$f":"IF(AND(C205-シート!$CP$87>=0,シート!$DK$87-C205>=0),1,0)","v":{"$error":"#VALUE!"}},{"$error":"#N/A"},{"$error":"#N/A"},"1900-07-20"]
[204,20,"1900-07-21",{"$f":"+IF(AND(C206-シート!$BV$67>=0,シート!$AI$19-C206>=0),1,0)","v":{"$error":"#N/A"}},{"$f":"IF(AND(C206-シート!$C$87>=0,シート!$X$87-C206>=0),1,0)","v":{"$error":"#VALUE!"}},{"$error":"#N/A"},{"$error":"#N/A"},{"$f":"IF(AND(C206-シート!$CP$87>=0,シート!$DK$87-C206>=0),1,0)","v":{"$error":"#VALUE!"}},{"$error":"#N/A"},{"$error":"#N/A"},"1900-07-21"]
[205,21,"1900-07-22",{"$f":"+IF(AND(C207-シート!$BV$67>=0,シート!$AI$19-C207>=0),1,0)","v":{"$error":"#N/A"}},{"$f":"IF(AND(C207-シート!$C$87>=0,シート!$X$87-C207>=0),1,0)","v":{"$error":"#VALUE!"}},{"$error":"#N/A"},{"$error":"#N/A"},{"$f":"IF(AND(C207-シート!$CP$87>=0,シート!$DK$87-C207>=0),1,0)","v":{"$error":"#VALUE!"}},{"$error":"#N/A"},{"$error":"#N/A"},"1900-07-22"]
[206,21,"1900-07-23",{"$f":"+IF(AND(C208-シート!$BV$67>=0,シート!$AI$19-C208>=0),1,0)","v":{"$error":"#N/A"}},{"$f":"IF(AND(C208-シート!$C$87>=0,シート!$X$87-C208>=0),1,0)","v":{"$error":"#VALUE!"}},{"$error":"#N/A"},{"$error":"#N/A"},{"$f":"IF(AND(C208-シート!$CP$87>=0,シート!$DK$87-C208>=0),1,0)","v":{"$error":"#VALUE!"}},{"$error":"#N/A"},{"$error":"#N/A"},"1900-07-23"]
[207,21,"1900-07-24",{"$f":"+IF(AND(C209-シート!$BV$67>=0,シート!$AI$19-C209>=0),1,0)","v":{"$error":"#N/A"}},{"$f":"IF(AND(C209-シート!$C$87>=0,シート!$X$87-C209>=0),1,0)","v":{"$error":"#VALUE!"}},{"$error":"#N/A"},{"$error":"#N/A"},{"$f":"IF(AND(C209-シート!$CP$87>=0,シート!$DK$87-C209>=0),1,0)","v":{"$error":"#VALUE!"}},{"$error":"#N/A"},{"$error":"#N/A"},"1900-07-24"]
[208,21,"1900-07-25",{"$f":"+IF(AND(C210-シート!$BV$67>=0,シート!$AI$19-C210>=0),1,0)","v":{"$error":"#N/A"}},{"$f":"IF(AND(C210-シート!$C$87>=0,シート!$X$87-C210>=0),1,0)","v":{"$error":"#VALUE!"}},{"$error":"#N/A"},{"$error":"#N/A"},{"$f":"IF(AND(C210-シート!$CP$87>=0,シート!$DK$87-C210>=0),1,0)","v":{"$error":"#VALUE!"}},{"$error":"#N/A"},{"$error":"#N/A"},"1900-07-25"]
[209,21,"1900-07-26",{"$f":"+IF(AND(C211-シート!$BV$67>=0,シート!$AI$19-C211>=0),1,0)","v":{"$error":"#N/A"}},{"$f":"IF(AND(C211-シート!$C$87>=0,シート!$X$87-C211>=0),1,0)","v":{"$error":"#VALUE!"}},{"$error":"#N/A"},{"$error":"#N/A"},{"$f":"IF(AND(C211-シート!$CP$87>=0,シート!$DK$87-C211>=0),1,0)","v":{"$error":"#VALUE!"}},{"$error":"#N/A"},{"$error":"#N/A"},"1900-07-26"]
[210,21,"1900-07-27",{"$f":"+IF(AND(C212-シート!$BV$67>=0,シート!$AI$19-C212>=0),1,0)","v":{"$error":"#N/A"}},{"$f":"IF(AND(C212-シート!$C$87>=0,シート!$X$87-C212>=0),1,0)","v":{"$error":"#VALUE!"}},{"$error":"#N/A"},{"$error":"#N/A"},{"$f":"IF(AND(C212-シート!$CP$87>=0,シート!$DK$87-C212>=0),1,0)","v":{"$error":"#VALUE!"}},{"$error":"#N/A"},{"$error":"#N/A"},"1900-07-27"]
[211,21,"1900-07-28",{"$f":"+IF(AND(C213-シート!$BV$67>=0,シート!$AI$19-C213>=0),1,0)","v":{"$error":"#N/A"}},{"$f":"IF(AND(C213-シート!$C$87>=0,シート!$X$87-C213>=0),1,0)","v":{"$error":"#VALUE!"}},{"$error":"#N/A"},{"$error":"#N/A"},{"$f":"IF(AND(C213-シート!$CP$87>=0,シート!$DK$87-C213>=0),1,0)","v":{"$error":"#VALUE!"}},{"$error":"#N/A"},{"$error":"#N/A"},"1900-07-28"]
[212,21,"1900-07-29",{"$f":"+IF(AND(C214-シート!$BV$67>=0,シート!$AI$19-C214>=0),1,0)","v":{"$error":"#N/A"}},{"$f":"IF(AND(C214-シート!$C$87>=0,シート!$X$87-C214>=0),1,0)","v":{"$error":"#VALUE!"}},{"$error":"#N/A"},{"$error":"#N/A"},{"$f":"IF(AND(C214-シート!$CP$87>=0,シート!$DK$87-C214>=0),1,0)","v":{"$error":"#VALUE!"}},{"$error":"#N/A"},{"$error":"#N/A"},"1900-07-29"]
[213,21,"1900-07-30",{"$f":"+IF(AND(C215-シート!$BV$67>=0,シート!$AI$19-C215>=0),1,0)","v":{"$error":"#N/A"}},{"$f":"IF(AND(C215-シート!$C$87>=0,シート!$X$87-C215>=0),1,0)","v":{"$error":"#VALUE!"}},{"$error":"#N/A"},{"$error":"#N/A"},{"$f":"IF(AND(C215-シート!$CP$87>=0,シート!$DK$87-C215>=0),1,0)","v":{"$error":"#VALUE!"}},{"$error":"#N/A"},{"$error":"#N/A"},"1900-07-30"]
[214,21,"1900-07-31",{"$f":"+IF(AND(C216-シート!$BV$67>=0,シート!$AI$19-C216>=0),1,0)","v":{"$error":"#N/A"}},{"$f":"IF(AND(C216-シート!$C$87>=0,シート!$X$87-C216>=0),1,0)","v":{"$error":"#VALUE!"}},{"$error":"#N/A"},{"$error":"#N/A"},{"$f":"IF(AND(C216-シート!$CP$87>=0,シート!$DK$87-C216>=0),1,0)","v":{"$error":"#VALUE!"}},{"$error":"#N/A"},{"$error":"#N/A"},"1900-07-31"]
[215,22,"1900-08-01",{"$f":"+IF(AND(C217-シート!$BV$67>=0,シート!$AI$19-C217>=0),1,0)","v":{"$error":"#N/A"}},{"$f":"IF(AND(C217-シート!$C$87>=0,シート!$X$87-C217>=0),1,0)","v":{"$error":"#VALUE!"}},{"$error":"#N/A"},{"$error":"#N/A"},{"$f":"IF(AND(C217-シート!$CP$87>=0,シート!$DK$87-C217>=0),1,0)","v":{"$error":"#VALUE!"}},{"$error":"#N/A"},{"$error":"#N/A"},"1900-08-01"]
[216,22,"1900-08-02",{"$f":"+IF(AND(C218-シート!$BV$67>=0,シート!$AI$19-C218>=0),1,0)","v":{"$error":"#N/A"}},{"$f":"IF(AND(C218-シート!$C$87>=0,シート!$X$87-C218>=0),1,0)","v":{"$error":"#VALUE!"}},{"$error":"#N/A"},{"$error":"#N/A"},{"$f":"IF(AND(C218-シート!$CP$87>=0,シート!$DK$87-C218>=0),1,0)","v":{"$error":"#VALUE!"}},{"$error":"#N/A"},{"$error":"#N/A"},"1900-08-02"]
[217,22,"1900-08-03",{"$f":"+IF(AND(C219-シート!$BV$67>=0,シート!$AI$19-C219>=0),1,0)","v":{"$error":"#N/A"}},{"$f":"IF(AND(C219-シート!$C$87>=0,シート!$X$87-C219>=0),1,0)","v":{"$error":"#VALUE!"}},{"$error":"#N/A"},{"$error":"#N/A"},{"$f":"IF(AND(C219-シート!$CP$87>=0,シート!$DK$87-C219>=0),1,0)","v":{"$error":"#VALUE!"}},{"$error":"#N/A"},{"$error":"#N/A"},"1900-08-03"]
[218,22,"1900-08-04",{"$f":"+IF(AND(C220-シート!$BV$67>=0,シート!$AI$19-C220>=0),1,0)","v":{"$error":"#N/A"}},{"$f":"IF(AND(C220-シート!$C$87>=0,シート!$X$87-C220>=0),1,0)","v":{"$error":"#VALUE!"}},{"$error":"#N/A"},{"$error":"#N/A"},{"$f":"IF(AND(C220-シート!$CP$87>=0,シート!$DK$87-C220>=0),1,0)","v":{"$error":"#VALUE!"}},{"$error":"#N/A"},{"$error":"#N/A"},"1900-08-04"]
[219,22,"1900-08-05",{"$f":"+IF(AND(C221-シート!$BV$67>=0,シート!$AI$19-C221>=0),1,0)","v":{"$error":"#N/A"}},{"$f":"IF(AND(C221-シート!$C$87>=0,シート!$X$87-C221>=0),1,0)","v":{"$error":"#VALUE!"}},{"$error":"#N/A"},{"$error":"#N/A"},{"$f":"IF(AND(C221-シート!$CP$87>=0,シート!$DK$87-C221>=0),1,0)","v":{"$error":"#VALUE!"}},{"$error":"#N/A"},{"$error":"#N/A"},"1900-08-05"]
[220,22,"1900-08-06",{"$f":"+IF(AND(C222-シート!$BV$67>=0,シート!$AI$19-C222>=0),1,0)","v":{"$error":"#N/A"}},{"$f":"IF(AND(C222-シート!$C$87>=0,シート!$X$87-C222>=0),1,0)","v":{"$error":"#VALUE!"}},{"$error":"#N/A"},{"$error":"#N/A"},{"$f":"IF(AND(C222-シート!$CP$87>=0,シート!$DK$87-C222>=0),1,0)","v":{"$error":"#VALUE!"}},{"$error":"#N/A"},{"$error":"#N/A"},"1900-08-06"]
[221,22,"1900-08-07",{"$f":"+IF(AND(C223-シート!$BV$67>=0,シート!$AI$19-C223>=0),1,0)","v":{"$error":"#N/A"}},{"$f":"IF(AND(C223-シート!$C$87>=0,シート!$X$87-C223>=0),1,0)","v":{"$error":"#VALUE!"}},{"$error":"#N/A"},{"$error":"#N/A"},{"$f":"IF(AND(C223-シート!$CP$87>=0,シート!$DK$87-C223>=0),1,0)","v":{"$error":"#VALUE!"}},{"$error":"#N/A"},{"$error":"#N/A"},"1900-08-07"]
[222,22,"1900-08-08",{"$f":"+IF(AND(C224-シート!$BV$67>=0,シート!$AI$19-C224>=0),1,0)","v":{"$error":"#N/A"}},{"$f":"IF(AND(C224-シート!$C$87>=0,シート!$X$87-C224>=0),1,0)","v":{"$error":"#VALUE!"}},{"$error":"#N/A"},{"$error":"#N/A"},{"$f":"IF(AND(C224-シート!$CP$87>=0,シート!$DK$87-C224>=0),1,0)","v":{"$error":"#VALUE!"}},{"$error":"#N/A"},{"$error":"#N/A"},"1900-08-08"]
[223,22,"1900-08-09",{"$f":"+IF(AND(C225-シート!$BV$67>=0,シート!$AI$19-C225>=0),1,0)","v":{"$error":"#N/A"}},{"$f":"IF(AND(C225-シート!$C$87>=0,シート!$X$87-C225>=0),1,0)","v":{"$error":"#VALUE!"}},{"$error":"#N/A"},{"$error":"#N/A"},{"$f":"IF(AND(C225-シート!$CP$87>=0,シート!$DK$87-C225>=0),1,0)","v":{"$error":"#VALUE!"}},{"$error":"#N/A"},{"$error":"#N/A"},"1900-08-09"]
[224,22,"1900-08-10",{"$f":"+IF(AND(C226-シート!$BV$67>=0,シート!$AI$19-C226>=0),1,0)","v":{"$error":"#N/A"}},{"$f":"IF(AND(C226-シート!$C$87>=0,シート!$X$87-C226>=0),1,0)","v":{"$error":"#VALUE!"}},{"$error":"#N/A"},{"$error":"#N/A"},{"$f":"IF(AND(C226-シート!$CP$87>=0,シート!$DK$87-C226>=0),1,0)","v":{"$error":"#VALUE!"}},{"$error":"#N/A"},{"$error":"#N/A"},"1900-08-10"]
[225,23,"1900-08-11",{"$f":"+IF(AND(C227-シート!$BV$67>=0,シート!$AI$19-C227>=0),1,0)","v":{"$error":"#N/A"}},{"$f":"IF(AND(C227-シート!$C$87>=0,シート!$X$87-C227>=0),1,0)","v":{"$error":"#VALUE!"}},{"$error":"#N/A"},{"$error":"#N/A"},{"$f":"IF(AND(C227-シート!$CP$87>=0,シート!$DK$87-C227>=0),1,0)","v":{"$error":"#VALUE!"}},{"$error":"#N/A"},{"$error":"#N/A"},"1900-08-11"]
[226,23,"1900-08-12",{"$f":"+IF(AND(C228-シート!$BV$67>=0,シート!$AI$19-C228>=0),1,0)","v":{"$error":"#N/A"}},{"$f":"IF(AND(C228-シート!$C$87>=0,シート!$X$87-C228>=0),1,0)","v":{"$error":"#VALUE!"}},{"$error":"#N/A"},{"$error":"#N/A"},{"$f":"IF(AND(C228-シート!$CP$87>=0,シート!$DK$87-C228>=0),1,0)","v":{"$error":"#VALUE!"}},{"$error":"#N/A"},{"$error":"#N/A"},"1900-08-12"]
[227,23,"1900-08-13",{"$f":"+IF(AND(C229-シート!$BV$67>=0,シート!$AI$19-C229>=0),1,0)","v":{"$error":"#N/A"}},{"$f":"IF(AND(C229-シート!$C$87>=0,シート!$X$87-C229>=0),1,0)","v":{"$error":"#VALUE!"}},{"$error":"#N/A"},{"$error":"#N/A"},{"$f":"IF(AND(C229-シート!$CP$87>=0,シート!$DK$87-C229>=0),1,0)","v":{"$error":"#VALUE!"}},{"$error":"#N/A"},{"$error":"#N/A"},"1900-08-13"]
[228,23,"1900-08-14",{"$f":"+IF(AND(C230-シート!$BV$67>=0,シート!$AI$19-C230>=0),1,0)","v":{"$error":"#N/A"}},{"$f":"IF(AND(C230-シート!$C$87>=0,シート!$X$87-C230>=0),1,0)","v":{"$error":"#VALUE!"}},{"$error":"#N/A"},{"$error":"#N/A"},{"$f":"IF(AND(C230-シート!$CP$87>=0,シート!$DK$87-C230>=0),1,0)","v":{"$error":"#VALUE!"}},{"$error":"#N/A"},{"$error":"#N/A"},"1900-08-14"]
[229,23,"1900-08-15",{"$f":"+IF(AND(C231-シート!$BV$67>=0,シート!$AI$19-C231>=0),1,0)","v":{"$error":"#N/A"}},{"$f":"IF(AND(C231-シート!$C$87>=0,シート!$X$87-C231>=0),1,0)","v":{"$error":"#VALUE!"}},{"$error":"#N/A"},{"$error":"#N/A"},{"$f":"IF(AND(C231-シート!$CP$87>=0,シート!$DK$87-C231>=0),1,0)","v":{"$error":"#VALUE!"}},{"$error":"#N/A"},{"$error":"#N/A"},"1900-08-15"]
[230,23,"1900-08-16",{"$f":"+IF(AND(C232-シート!$BV$67>=0,シート!$AI$19-C232>=0),1,0)","v":{"$error":"#N/A"}},{"$f":"IF(AND(C232-シート!$C$87>=0,シート!$X$87-C232>=0),1,0)","v":{"$error":"#VALUE!"}},{"$error":"#N/A"},{"$error":"#N/A"},{"$f":"IF(AND(C232-シート!$CP$87>=0,シート!$DK$87-C232>=0),1,0)","v":{"$error":"#VALUE!"}},{"$error":"#N/A"},{"$error":"#N/A"},"1900-08-16"]
[231,23,"1900-08-17",{"$f":"+IF(AND(C233-シート!$BV$67>=0,シート!$AI$19-C233>=0),1,0)","v":{"$error":"#N/A"}},{"$f":"IF(AND(C233-シート!$C$87>=0,シート!$X$87-C233>=0),1,0)","v":{"$error":"#VALUE!"}},{"$error":"#N/A"},{"$error":"#N/A"},{"$f":"IF(AND(C233-シート!$CP$87>=0,シート!$DK$87-C233>=0),1,0)","v":{"$error":"#VALUE!"}},{"$error":"#N/A"},{"$error":"#N/A"},"1900-08-17"]
[232,23,"1900-08-18",{"$f":"+IF(AND(C234-シート!$BV$67>=0,シート!$AI$19-C234>=0),1,0)","v":{"$error":"#N/A"}},{"$f":"IF(AND(C234-シート!$C$87>=0,シート!$X$87-C234>=0),1,0)","v":{"$error":"#VALUE!"}},{"$error":"#N/A"},{"$error":"#N/A"},{"$f":"IF(AND(C234-シート!$CP$87>=0,シート!$DK$87-C234>=0),1,0)","v":{"$error":"#VALUE!"}},{"$error":"#N/A"},{"$error":"#N/A"},"1900-08-18"]
[233,23,"1900-08-19",{"$f":"+IF(AND(C235-シート!$BV$67>=0,シート!$AI$19-C235>=0),1,0)","v":{"$error":"#N/A"}},{"$f":"IF(AND(C235-シート!$C$87>=0,シート!$X$87-C235>=0),1,0)","v":{"$error":"#VALUE!"}},{"$error":"#N/A"},{"$error":"#N/A"},{"$f":"IF(AND(C235-シート!$CP$87>=0,シート!$DK$87-C235>=0),1,0)","v":{"$error":"#VALUE!"}},{"$error":"#N/A"},{"$error":"#N/A"},"1900-08-19"]
[234,23,"1900-08-20",{"$f":"+IF(AND(C236-シート!$BV$67>=0,シート!$AI$19-C236>=0),1,0)","v":{"$error":"#N/A"}},{"$f":"IF(AND(C236-シート!$C$87>=0,シート!$X$87-C236>=0),1,0)","v":{"$error":"#VALUE!"}},{"$error":"#N/A"},{"$error":"#N/A"},{"$f":"IF(AND(C236-シート!$CP$87>=0,シート!$DK$87-C236>=0),1,0)","v":{"$error":"#VALUE!"}},{"$error":"#N/A"},{"$error":"#N/A"},"1900-08-20"]
[235,24,"1900-08-21",{"$f":"+IF(AND(C237-シート!$BV$67>=0,シート!$AI$19-C237>=0),1,0)","v":{"$error":"#N/A"}},{"$f":"IF(AND(C237-シート!$C$87>=0,シート!$X$87-C237>=0),1,0)","v":{"$error":"#VALUE!"}},{"$error":"#N/A"},{"$error":"#N/A"},{"$f":"IF(AND(C237-シート!$CP$87>=0,シート!$DK$87-C237>=0),1,0)","v":{"$error":"#VALUE!"}},{"$error":"#N/A"},{"$error":"#N/A"},"1900-08-21"]
[236,24,"1900-08-22",{"$f":"+IF(AND(C238-シート!$BV$67>=0,シート!$AI$19-C238>=0),1,0)","v":{"$error":"#N/A"}},{"$f":"IF(AND(C238-シート!$C$87>=0,シート!$X$87-C238>=0),1,0)","v":{"$error":"#VALUE!"}},{"$error":"#N/A"},{"$error":"#N/A"},{"$f":"IF(AND(C238-シート!$CP$87>=0,シート!$DK$87-C238>=0),1,0)","v":{"$error":"#VALUE!"}},{"$error":"#N/A"},{"$error":"#N/A"},"1900-08-22"]
[237,24,"1900-08-23",{"$f":"+IF(AND(C239-シート!$BV$67>=0,シート!$AI$19-C239>=0),1,0)","v":{"$error":"#N/A"}},{"$f":"IF(AND(C239-シート!$C$87>=0,シート!$X$87-C239>=0),1,0)","v":{"$error":"#VALUE!"}},{"$error":"#N/A"},{"$error":"#N/A"},{"$f":"IF(AND(C239-シート!$CP$87>=0,シート!$DK$87-C239>=0),1,0)","v":{"$error":"#VALUE!"}},{"$error":"#N/A"},{"$error":"#N/A"},"1900-08-23"]
[238,24,"1900-08-24",{"$f":"+IF(AND(C240-シート!$BV$67>=0,シート!$AI$19-C240>=0),1,0)","v":{"$error":"#N/A"}},{"$f":"IF(AND(C240-シート!$C$87>=0,シート!$X$87-C240>=0),1,0)","v":{"$error":"#VALUE!"}},{"$error":"#N/A"},{"$error":"#N/A"},{"$f":"IF(AND(C240-シート!$CP$87>=0,シート!$DK$87-C240>=0),1,0)","v":{"$error":"#VALUE!"}},{"$error":"#N/A"},{"$error":"#N/A"},"1900-08-24"]
[239,24,"1900-08-25",{"$f":"+IF(AND(C241-シート!$BV$67>=0,シート!$AI$19-C241>=0),1,0)","v":{"$error":"#N/A"}},{"$f":"IF(AND(C241-シート!$C$87>=0,シート!$X$87-C241>=0),1,0)","v":{"$error":"#VALUE!"}},{"$error":"#N/A"},{"$error":"#N/A"},{"$f":"IF(AND(C241-シート!$CP$87>=0,シート!$DK$87-C241>=0),1,0)","v":{"$error":"#VALUE!"}},{"$error":"#N/A"},{"$error":"#N/A"},"1900-08-25"]
[240,24,"1900-08-26",{"$f":"+IF(AND(C242-シート!$BV$67>=0,シート!$AI$19-C242>=0),1,0)","v":{"$error":"#N/A"}},{"$f":"IF(AND(C242-シート!$C$87>=0,シート!$X$87-C242>=0),1,0)","v":{"$error":"#VALUE!"}},{"$error":"#N/A"},{"$error":"#N/A"},{"$f":"IF(AND(C242-シート!$CP$87>=0,シート!$DK$87-C242>=0),1,0)","v":{"$error":"#VALUE!"}},{"$error":"#N/A"},{"$error":"#N/A"},"1900-08-26"]
[241,24,"1900-08-27",{"$f":"+IF(AND(C243-シート!$BV$67>=0,シート!$AI$19-C243>=0),1,0)","v":{"$error":"#N/A"}},{"$f":"IF(AND(C243-シート!$C$87>=0,シート!$X$87-C243>=0),1,0)","v":{"$error":"#VALUE!"}},{"$error":"#N/A"},{"$error":"#N/A"},{"$f":"IF(AND(C243-シート!$CP$87>=0,シート!$DK$87-C243>=0),1,0)","v":{"$error":"#VALUE!"}},{"$error":"#N/A"},{"$error":"#N/A"},"1900-08-27"]
[242,24,"1900-08-28",{"$f":"+IF(AND(C244-シート!$BV$67>=0,シート!$AI$19-C244>=0),1,0)","v":{"$error":"#N/A"}},{"$f":"IF(AND(C244-シート!$C$87>=0,シート!$X$87-C244>=0),1,0)","v":{"$error":"#VALUE!"}},{"$error":"#N/A"},{"$error":"#N/A"},{"$f":"IF(AND(C244-シート!$CP$87>=0,シート!$DK$87-C244>=0),1,0)","v":{"$error":"#VALUE!"}},{"$error":"#N/A"},{"$error":"#N/A"},"1900-08-28"]
[243,24,"1900-08-29",{"$f":"+IF(AND(C245-シート!$BV$67>=0,シート!$AI$19-C245>=0),1,0)","v":{"$error":"#N/A"}},{"$f":"IF(AND(C245-シート!$C$87>=0,シート!$X$87-C245>=0),1,0)","v":{"$error":"#VALUE!"}},{"$error":"#N/A"},{"$error":"#N/A"},{"$f":"IF(AND(C245-シート!$CP$87>=0,シート!$DK$87-C245>=0),1,0)","v":{"$error":"#VALUE!"}},{"$error":"#N/A"},{"$error":"#N/A"},"1900-08-29"]
[244,24,"1900-08-30",{"$f":"+IF(AND(C246-シート!$BV$67>=0,シート!$AI$19-C246>=0),1,0)","v":{"$error":"#N/A"}},{"$f":"IF(AND(C246-シート!$C$87>=0,シート!$X$87-C246>=0),1,0)","v":{"$error":"#VALUE!"}},{"$error":"#N/A"},{"$error":"#N/A"},{"$f":"IF(AND(C246-シート!$CP$87>=0,シート!$DK$87-C246>=0),1,0)","v":{"$error":"#VALUE!"}},{"$error":"#N/A"},{"$error":"#N/A"},"1900-08-30"]
[245,25,"1900-08-31",{"$f":"+IF(AND(C247-シート!$BV$67>=0,シート!$AI$19-C247>=0),1,0)","v":{"$error":"#N/A"}},{"$f":"IF(AND(C247-シート!$C$87>=0,シート!$X$87-C247>=0),1,0)","v":{"$error":"#VALUE!"}},{"$error":"#N/A"},{"$error":"#N/A"},{"$f":"IF(AND(C247-シート!$CP$87>=0,シート!$DK$87-C247>=0),1,0)","v":{"$error":"#VALUE!"}},{"$error":"#N/A"},{"$error":"#N/A"},"1900-08-31"]
[246,25,"1900-09-01",{"$f":"+IF(AND(C248-シート!$BV$67>=0,シート!$AI$19-C248>=0),1,0)","v":{"$error":"#N/A"}},{"$f":"IF(AND(C248-シート!$C$87>=0,シート!$X$87-C248>=0),1,0)","v":{"$error":"#VALUE!"}},{"$error":"#N/A"},{"$error":"#N/A"},{"$f":"IF(AND(C248-シート!$CP$87>=0,シート!$DK$87-C248>=0),1,0)","v":{"$error":"#VALUE!"}},{"$error":"#N/A"},{"$error":"#N/A"},"1900-09-01"]
[247,25,"1900-09-02",{"$f":"+IF(AND(C249-シート!$BV$67>=0,シート!$AI$19-C249>=0),1,0)","v":{"$error":"#N/A"}},{"$f":"IF(AND(C249-シート!$C$87>=0,シート!$X$87-C249>=0),1,0)","v":{"$error":"#VALUE!"}},{"$error":"#N/A"},{"$error":"#N/A"},{"$f":"IF(AND(C249-シート!$CP$87>=0,シート!$DK$87-C249>=0),1,0)","v":{"$error":"#VALUE!"}},{"$error":"#N/A"},{"$error":"#N/A"},"1900-09-02"]
[248,25,"1900-09-03",{"$f":"+IF(AND(C250-シート!$BV$67>=0,シート!$AI$19-C250>=0),1,0)","v":{"$error":"#N/A"}},{"$f":"IF(AND(C250-シート!$C$87>=0,シート!$X$87-C250>=0),1,0)","v":{"$error":"#VALUE!"}},{"$error":"#N/A"},{"$error":"#N/A"},{"$f":"IF(AND(C250-シート!$CP$87>=0,シート!$DK$87-C250>=0),1,0)","v":{"$error":"#VALUE!"}},{"$error":"#N/A"},{"$error":"#N/A"},"1900-09-03"]
[249,25,"1900-09-04",{"$f":"+IF(AND(C251-シート!$BV$67>=0,シート!$AI$19-C251>=0),1,0)","v":{"$error":"#N/A"}},{"$f":"IF(AND(C251-シート!$C$87>=0,シート!$X$87-C251>=0),1,0)","v":{"$error":"#VALUE!"}},{"$error":"#N/A"},{"$error":"#N/A"},{"$f":"IF(AND(C251-シート!$CP$87>=0,シート!$DK$87-C251>=0),1,0)","v":{"$error":"#VALUE!"}},{"$error":"#N/A"},{"$error":"#N/A"},"1900-09-04"]
[250,25,"1900-09-05",{"$f":"+IF(AND(C252-シート!$BV$67>=0,シート!$AI$19-C252>=0),1,0)","v":{"$error":"#N/A"}},{"$f":"IF(AND(C252-シート!$C$87>=0,シート!$X$87-C252>=0),1,0)","v":{"$error":"#VALUE!"}},{"$error":"#N/A"},{"$error":"#N/A"},{"$f":"IF(AND(C252-シート!$CP$87>=0,シート!$DK$87-C252>=0),1,0)","v":{"$error":"#VALUE!"}},{"$error":"#N/A"},{"$error":"#N/A"},"1900-09-05"]
[251,25,"1900-09-06",{"$f":"+IF(AND(C253-シート!$BV$67>=0,シート!$AI$19-C253>=0),1,0)","v":{"$error":"#N/A"}},{"$f":"IF(AND(C253-シート!$C$87>=0,シート!$X$87-C253>=0),1,0)","v":{"$error":"#VALUE!"}},{"$error":"#N/A"},{"$error":"#N/A"},{"$f":"IF(AND(C253-シート!$CP$87>=0,シート!$DK$87-C253>=0),1,0)","v":{"$error":"#VALUE!"}},{"$error":"#N/A"},{"$error":"#N/A"},"1900-09-06"]
[252,25,"1900-09-07",{"$f":"+IF(AND(C254-シート!$BV$67>=0,シート!$AI$19-C254>=0),1,0)","v":{"$error":"#N/A"}},{"$f":"IF(AND(C254-シート!$C$87>=0,シート!$X$87-C254>=0),1,0)","v":{"$error":"#VALUE!"}},{"$error":"#N/A"},{"$error":"#N/A"},{"$f":"IF(AND(C254-シート!$CP$87>=0,シート!$DK$87-C254>=0),1,0)","v":{"$error":"#VALUE!"}},{"$error":"#N/A"},{"$error":"#N/A"},"1900-09-07"]
[253,25,"1900-09-08",{"$f":"+IF(AND(C255-シート!$BV$67>=0,シート!$AI$19-C255>=0),1,0)","v":{"$error":"#N/A"}},{"$f":"IF(AND(C255-シート!$C$87>=0,シート!$X$87-C255>=0),1,0)","v":{"$error":"#VALUE!"}},{"$error":"#N/A"},{"$error":"#N/A"},{"$f":"IF(AND(C255-シート!$CP$87>=0,シート!$DK$87-C255>=0),1,0)","v":{"$error":"#VALUE!"}},{"$error":"#N/A"},{"$error":"#N/A"},"1900-09-08"]
[254,25,"1900-09-09",{"$f":"+IF(AND(C256-シート!$BV$67>=0,シート!$AI$19-C256>=0),1,0)","v":{"$error":"#N/A"}},{"$f":"IF(AND(C256-シート!$C$87>=0,シート!$X$87-C256>=0),1,0)","v":{"$error":"#VALUE!"}},{"$error":"#N/A"},{"$error":"#N/A"},{"$f":"IF(AND(C256-シート!$CP$87>=0,シート!$DK$87-C256>=0),1,0)","v":{"$error":"#VALUE!"}},{"$error":"#N/A"},{"$error":"#N/A"},"1900-09-09"]
[255,26,"1900-09-10",{"$f":"+IF(AND(C257-シート!$BV$67>=0,シート!$AI$19-C257>=0),1,0)","v":{"$error":"#N/A"}},{"$f":"IF(AND(C257-シート!$C$87>=0,シート!$X$87-C257>=0),1,0)","v":{"$error":"#VALUE!"}},{"$error":"#N/A"},{"$error":"#N/A"},{"$f":"IF(AND(C257-シート!$CP$87>=0,シート!$DK$87-C257>=0),1,0)","v":{"$error":"#VALUE!"}},{"$error":"#N/A"},{"$error":"#N/A"},"1900-09-10"]
[256,26,"1900-09-11",{"$f":"+IF(AND(C258-シート!$BV$67>=0,シート!$AI$19-C258>=0),1,0)","v":{"$error":"#N/A"}},{"$f":"IF(AND(C258-シート!$C$87>=0,シート!$X$87-C258>=0),1,0)","v":{"$error":"#VALUE!"}},{"$error":"#N/A"},{"$error":"#N/A"},{"$f":"IF(AND(C258-シート!$CP$87>=0,シート!$DK$87-C258>=0),1,0)","v":{"$error":"#VALUE!"}},{"$error":"#N/A"},{"$error":"#N/A"},"1900-09-11"]
[257,26,"1900-09-12",{"$f":"+IF(AND(C259-シート!$BV$67>=0,シート!$AI$19-C259>=0),1,0)","v":{"$error":"#N/A"}},{"$f":"IF(AND(C259-シート!$C$87>=0,シート!$X$87-C259>=0),1,0)","v":{"$error":"#VALUE!"}},{"$error":"#N/A"},{"$error":"#N/A"},{"$f":"IF(AND(C259-シート!$CP$87>=0,シート!$DK$87-C259>=0),1,0)","v":{"$error":"#VALUE!"}},{"$error":"#N/A"},{"$error":"#N/A"},"1900-09-12"]
[258,26,"1900-09-13",{"$f":"+IF(AND(C260-シート!$BV$67>=0,シート!$AI$19-C260>=0),1,0)","v":{"$error":"#N/A"}},{"$f":"IF(AND(C260-シート!$C$87>=0,シート!$X$87-C260>=0),1,0)","v":{"$error":"#VALUE!"}},{"$f":"IF(+D260+E260=2,1,0)","v":{"$error":"#N/A"}},{"$error":"#N/A"},{"$f":"IF(AND(C260-シート!$CP$87>=0,シート!$DK$87-C260>=0),1,0)","v":{"$error":"#VALUE!"}},{"$f":"IF(+D260+H260=2,1,0)","v":{"$error":"#N/A"}},{"$error":"#N/A"},{"$f":"+C260","v":"1900-09-13"}]
[{"$f":"+A260+1","v":259},26,{"$f":"+C260+1","v":"1900-09-14"},{"$f":"+IF(AND(C261-シート!$BV$67>=0,シート!$AI$19-C261>=0),1,0)","v":{"$error":"#N/A"}},{"$f":"IF(AND(C261-シート!$C$87>=0,シート!$X$87-C261>=0),1,0)","v":{"$error":"#VALUE!"}},{"$error":"#N/A"},{"$f":"+G260+F261","v":{"$error":"#N/A"}},{"$f":"IF(AND(C261-シート!$CP$87>=0,シート!$DK$87-C261>=0),1,0)","v":{"$error":"#VALUE!"}},{"$error":"#N/A"},{"$f":"+J260+I261","v":{"$error":"#N/A"}},"1900-09-14"]
[260,26,"1900-09-15",{"$f":"+IF(AND(C262-シート!$BV$67>=0,シート!$AI$19-C262>=0),1,0)","v":{"$error":"#N/A"}},{"$f":"IF(AND(C262-シート!$C$87>=0,シート!$X$87-C262>=0),1,0)","v":{"$error":"#VALUE!"}},{"$error":"#N/A"},{"$error":"#N/A"},{"$f":"IF(AND(C262-シート!$CP$87>=0,シート!$DK$87-C262>=0),1,0)","v":{"$error":"#VALUE!"}},{"$error":"#N/A"},{"$error":"#N/A"},"1900-09-15"]
[261,26,"1900-09-16",{"$f":"+IF(AND(C263-シート!$BV$67>=0,シート!$AI$19-C263>=0),1,0)","v":{"$error":"#N/A"}},{"$f":"IF(AND(C263-シート!$C$87>=0,シート!$X$87-C263>=0),1,0)","v":{"$error":"#VALUE!"}},{"$error":"#N/A"},{"$error":"#N/A"},{"$f":"IF(AND(C263-シート!$CP$87>=0,シート!$DK$87-C263>=0),1,0)","v":{"$error":"#VALUE!"}},{"$error":"#N/A"},{"$error":"#N/A"},"1900-09-16"]
[262,26,"1900-09-17",{"$f":"+IF(AND(C264-シート!$BV$67>=0,シート!$AI$19-C264>=0),1,0)","v":{"$error":"#N/A"}},{"$f":"IF(AND(C264-シート!$C$87>=0,シート!$X$87-C264>=0),1,0)","v":{"$error":"#VALUE!"}},{"$error":"#N/A"},{"$error":"#N/A"},{"$f":"IF(AND(C264-シート!$CP$87>=0,シート!$DK$87-C264>=0),1,0)","v":{"$error":"#VALUE!"}},{"$error":"#N/A"},{"$error":"#N/A"},"1900-09-17"]
[263,26,"1900-09-18",{"$f":"+IF(AND(C265-シート!$BV$67>=0,シート!$AI$19-C265>=0),1,0)","v":{"$error":"#N/A"}},{"$f":"IF(AND(C265-シート!$C$87>=0,シート!$X$87-C265>=0),1,0)","v":{"$error":"#VALUE!"}},{"$error":"#N/A"},{"$error":"#N/A"},{"$f":"IF(AND(C265-シート!$CP$87>=0,シート!$DK$87-C265>=0),1,0)","v":{"$error":"#VALUE!"}},{"$error":"#N/A"},{"$error":"#N/A"},"1900-09-18"]
[264,26,"1900-09-19",{"$f":"+IF(AND(C266-シート!$BV$67>=0,シート!$AI$19-C266>=0),1,0)","v":{"$error":"#N/A"}},{"$f":"IF(AND(C266-シート!$C$87>=0,シート!$X$87-C266>=0),1,0)","v":{"$error":"#VALUE!"}},{"$error":"#N/A"},{"$error":"#N/A"},{"$f":"IF(AND(C266-シート!$CP$87>=0,シート!$DK$87-C266>=0),1,0)","v":{"$error":"#VALUE!"}},{"$error":"#N/A"},{"$error":"#N/A"},"1900-09-19"]
[265,26,"1900-09-20",{"$f":"+IF(AND(C267-シート!$BV$67>=0,シート!$AI$19-C267>=0),1,0)","v":{"$error":"#N/A"}},{"$f":"IF(AND(C267-シート!$C$87>=0,シート!$X$87-C267>=0),1,0)","v":{"$error":"#VALUE!"}},{"$error":"#N/A"},{"$error":"#N/A"},{"$f":"IF(AND(C267-シート!$CP$87>=0,シート!$DK$87-C267>=0),1,0)","v":{"$error":"#VALUE!"}},{"$error":"#N/A"},{"$error":"#N/A"},"1900-09-20"]
[266,27,"1900-09-21",{"$f":"+IF(AND(C268-シート!$BV$67>=0,シート!$AI$19-C268>=0),1,0)","v":{"$error":"#N/A"}},{"$f":"IF(AND(C268-シート!$C$87>=0,シート!$X$87-C268>=0),1,0)","v":{"$error":"#VALUE!"}},{"$error":"#N/A"},{"$error":"#N/A"},{"$f":"IF(AND(C268-シート!$CP$87>=0,シート!$DK$87-C268>=0),1,0)","v":{"$error":"#VALUE!"}},{"$error":"#N/A"},{"$error":"#N/A"},"1900-09-21"]
[267,27,"1900-09-22",{"$f":"+IF(AND(C269-シート!$BV$67>=0,シート!$AI$19-C269>=0),1,0)","v":{"$error":"#N/A"}},{"$f":"IF(AND(C269-シート!$C$87>=0,シート!$X$87-C269>=0),1,0)","v":{"$error":"#VALUE!"}},{"$error":"#N/A"},{"$error":"#N/A"},{"$f":"IF(AND(C269-シート!$CP$87>=0,シート!$DK$87-C269>=0),1,0)","v":{"$error":"#VALUE!"}},{"$error":"#N/A"},{"$error":"#N/A"},"1900-09-22"]
[268,27,"1900-09-23",{"$f":"+IF(AND(C270-シート!$BV$67>=0,シート!$AI$19-C270>=0),1,0)","v":{"$error":"#N/A"}},{"$f":"IF(AND(C270-シート!$C$87>=0,シート!$X$87-C270>=0),1,0)","v":{"$error":"#VALUE!"}},{"$error":"#N/A"},{"$error":"#N/A"},{"$f":"IF(AND(C270-シート!$CP$87>=0,シート!$DK$87-C270>=0),1,0)","v":{"$error":"#VALUE!"}},{"$error":"#N/A"},{"$error":"#N/A"},"1900-09-23"]
[269,27,"1900-09-24",{"$f":"+IF(AND(C271-シート!$BV$67>=0,シート!$AI$19-C271>=0),1,0)","v":{"$error":"#N/A"}},{"$f":"IF(AND(C271-シート!$C$87>=0,シート!$X$87-C271>=0),1,0)","v":{"$error":"#VALUE!"}},{"$error":"#N/A"},{"$error":"#N/A"},{"$f":"IF(AND(C271-シート!$CP$87>=0,シート!$DK$87-C271>=0),1,0)","v":{"$error":"#VALUE!"}},{"$error":"#N/A"},{"$error":"#N/A"},"1900-09-24"]
[270,27,"1900-09-25",{"$f":"+IF(AND(C272-シート!$BV$67>=0,シート!$AI$19-C272>=0),1,0)","v":{"$error":"#N/A"}},{"$f":"IF(AND(C272-シート!$C$87>=0,シート!$X$87-C272>=0),1,0)","v":{"$error":"#VALUE!"}},{"$error":"#N/A"},{"$error":"#N/A"},{"$f":"IF(AND(C272-シート!$CP$87>=0,シート!$DK$87-C272>=0),1,0)","v":{"$error":"#VALUE!"}},{"$error":"#N/A"},{"$error":"#N/A"},"1900-09-25"]
[271,27,"1900-09-26",{"$f":"+IF(AND(C273-シート!$BV$67>=0,シート!$AI$19-C273>=0),1,0)","v":{"$error":"#N/A"}},{"$f":"IF(AND(C273-シート!$C$87>=0,シート!$X$87-C273>=0),1,0)","v":{"$error":"#VALUE!"}},{"$error":"#N/A"},{"$error":"#N/A"},{"$f":"IF(AND(C273-シート!$CP$87>=0,シート!$DK$87-C273>=0),1,0)","v":{"$error":"#VALUE!"}},{"$error":"#N/A"},{"$error":"#N/A"},"1900-09-26"]
[272,27,"1900-09-27",{"$f":"+IF(AND(C274-シート!$BV$67>=0,シート!$AI$19-C274>=0),1,0)","v":{"$error":"#N/A"}},{"$f":"IF(AND(C274-シート!$C$87>=0,シート!$X$87-C274>=0),1,0)","v":{"$error":"#VALUE!"}},{"$error":"#N/A"},{"$error":"#N/A"},{"$f":"IF(AND(C274-シート!$CP$87>=0,シート!$DK$87-C274>=0),1,0)","v":{"$error":"#VALUE!"}},{"$error":"#N/A"},{"$error":"#N/A"},"1900-09-27"]
[273,27,"1900-09-28",{"$f":"+IF(AND(C275-シート!$BV$67>=0,シート!$AI$19-C275>=0),1,0)","v":{"$error":"#N/A"}},{"$f":"IF(AND(C275-シート!$C$87>=0,シート!$X$87-C275>=0),1,0)","v":{"$error":"#VALUE!"}},{"$error":"#N/A"},{"$error":"#N/A"},{"$f":"IF(AND(C275-シート!$CP$87>=0,シート!$DK$87-C275>=0),1,0)","v":{"$error":"#VALUE!"}},{"$error":"#N/A"},{"$error":"#N/A"},"1900-09-28"]
[274,27,"1900-09-29",{"$f":"+IF(AND(C276-シート!$BV$67>=0,シート!$AI$19-C276>=0),1,0)","v":{"$error":"#N/A"}},{"$f":"IF(AND(C276-シート!$C$87>=0,シート!$X$87-C276>=0),1,0)","v":{"$error":"#VALUE!"}},{"$error":"#N/A"},{"$error":"#N/A"},{"$f":"IF(AND(C276-シート!$CP$87>=0,シート!$DK$87-C276>=0),1,0)","v":{"$error":"#VALUE!"}},{"$error":"#N/A"},{"$error":"#N/A"},"1900-09-29"]
[275,27,"1900-09-30",{"$f":"+IF(AND(C277-シート!$BV$67>=0,シート!$AI$19-C277>=0),1,0)","v":{"$error":"#N/A"}},{"$f":"IF(AND(C277-シート!$C$87>=0,シート!$X$87-C277>=0),1,0)","v":{"$error":"#VALUE!"}},{"$error":"#N/A"},{"$error":"#N/A"},{"$f":"IF(AND(C277-シート!$CP$87>=0,シート!$DK$87-C277>=0),1,0)","v":{"$error":"#VALUE!"}},{"$error":"#N/A"},{"$error":"#N/A"},"1900-09-30"]
[276,28,"1900-10-01",{"$f":"+IF(AND(C278-シート!$BV$67>=0,シート!$AI$19-C278>=0),1,0)","v":{"$error":"#N/A"}},{"$f":"IF(AND(C278-シート!$C$87>=0,シート!$X$87-C278>=0),1,0)","v":{"$error":"#VALUE!"}},{"$error":"#N/A"},{"$error":"#N/A"},{"$f":"IF(AND(C278-シート!$CP$87>=0,シート!$DK$87-C278>=0),1,0)","v":{"$error":"#VALUE!"}},{"$error":"#N/A"},{"$error":"#N/A"},"1900-10-01"]
[277,28,"1900-10-02",{"$f":"+IF(AND(C279-シート!$BV$67>=0,シート!$AI$19-C279>=0),1,0)","v":{"$error":"#N/A"}},{"$f":"IF(AND(C279-シート!$C$87>=0,シート!$X$87-C279>=0),1,0)","v":{"$error":"#VALUE!"}},{"$error":"#N/A"},{"$error":"#N/A"},{"$f":"IF(AND(C279-シート!$CP$87>=0,シート!$DK$87-C279>=0),1,0)","v":{"$error":"#VALUE!"}},{"$error":"#N/A"},{"$error":"#N/A"},"1900-10-02"]
[278,28,"1900-10-03",{"$f":"+IF(AND(C280-シート!$BV$67>=0,シート!$AI$19-C280>=0),1,0)","v":{"$error":"#N/A"}},{"$f":"IF(AND(C280-シート!$C$87>=0,シート!$X$87-C280>=0),1,0)","v":{"$error":"#VALUE!"}},{"$error":"#N/A"},{"$error":"#N/A"},{"$f":"IF(AND(C280-シート!$CP$87>=0,シート!$DK$87-C280>=0),1,0)","v":{"$error":"#VALUE!"}},{"$error":"#N/A"},{"$error":"#N/A"},"1900-10-03"]
[279,28,"1900-10-04",{"$f":"+IF(AND(C281-シート!$BV$67>=0,シート!$AI$19-C281>=0),1,0)","v":{"$error":"#N/A"}},{"$f":"IF(AND(C281-シート!$C$87>=0,シート!$X$87-C281>=0),1,0)","v":{"$error":"#VALUE!"}},{"$error":"#N/A"},{"$error":"#N/A"},{"$f":"IF(AND(C281-シート!$CP$87>=0,シート!$DK$87-C281>=0),1,0)","v":{"$error":"#VALUE!"}},{"$error":"#N/A"},{"$error":"#N/A"},"1900-10-04"]
[280,28,"1900-10-05",{"$f":"+IF(AND(C282-シート!$BV$67>=0,シート!$AI$19-C282>=0),1,0)","v":{"$error":"#N/A"}},{"$f":"IF(AND(C282-シート!$C$87>=0,シート!$X$87-C282>=0),1,0)","v":{"$error":"#VALUE!"}},{"$error":"#N/A"},{"$error":"#N/A"},{"$f":"IF(AND(C282-シート!$CP$87>=0,シート!$DK$87-C282>=0),1,0)","v":{"$error":"#VALUE!"}},{"$error":"#N/A"},{"$error":"#N/A"},"1900-10-05"]
[281,28,"1900-10-06",{"$f":"+IF(AND(C283-シート!$BV$67>=0,シート!$AI$19-C283>=0),1,0)","v":{"$error":"#N/A"}},{"$f":"IF(AND(C283-シート!$C$87>=0,シート!$X$87-C283>=0),1,0)","v":{"$error":"#VALUE!"}},{"$error":"#N/A"},{"$error":"#N/A"},{"$f":"IF(AND(C283-シート!$CP$87>=0,シート!$DK$87-C283>=0),1,0)","v":{"$error":"#VALUE!"}},{"$error":"#N/A"},{"$error":"#N/A"},"1900-10-06"]
[282,28,"1900-10-07",{"$f":"+IF(AND(C284-シート!$BV$67>=0,シート!$AI$19-C284>=0),1,0)","v":{"$error":"#N/A"}},{"$f":"IF(AND(C284-シート!$C$87>=0,シート!$X$87-C284>=0),1,0)","v":{"$error":"#VALUE!"}},{"$error":"#N/A"},{"$error":"#N/A"},{"$f":"IF(AND(C284-シート!$CP$87>=0,シート!$DK$87-C284>=0),1,0)","v":{"$error":"#VALUE!"}},{"$error":"#N/A"},{"$error":"#N/A"},"1900-10-07"]
[283,28,"1900-10-08",{"$f":"+IF(AND(C285-シート!$BV$67>=0,シート!$AI$19-C285>=0),1,0)","v":{"$error":"#N/A"}},{"$f":"IF(AND(C285-シート!$C$87>=0,シート!$X$87-C285>=0),1,0)","v":{"$error":"#VALUE!"}},{"$error":"#N/A"},{"$error":"#N/A"},{"$f":"IF(AND(C285-シート!$CP$87>=0,シート!$DK$87-C285>=0),1,0)","v":{"$error":"#VALUE!"}},{"$error":"#N/A"},{"$error":"#N/A"},"1900-10-08"]
[284,28,"1900-10-09",{"$f":"+IF(AND(C286-シート!$BV$67>=0,シート!$AI$19-C286>=0),1,0)","v":{"$error":"#N/A"}},{"$f":"IF(AND(C286-シート!$C$87>=0,シート!$X$87-C286>=0),1,0)","v":{"$error":"#VALUE!"}},{"$error":"#N/A"},{"$error":"#N/A"},{"$f":"IF(AND(C286-シート!$CP$87>=0,シート!$DK$87-C286>=0),1,0)","v":{"$error":"#VALUE!"}},{"$error":"#N/A"},{"$error":"#N/A"},"1900-10-09"]
[285,28,"1900-10-10",{"$f":"+IF(AND(C287-シート!$BV$67>=0,シート!$AI$19-C287>=0),1,0)","v":{"$error":"#N/A"}},{"$f":"IF(AND(C287-シート!$C$87>=0,シート!$X$87-C287>=0),1,0)","v":{"$error":"#VALUE!"}},{"$error":"#N/A"},{"$error":"#N/A"},{"$f":"IF(AND(C287-シート!$CP$87>=0,シート!$DK$87-C287>=0),1,0)","v":{"$error":"#VALUE!"}},{"$error":"#N/A"},{"$error":"#N/A"},"1900-10-10"]
[286,29,"1900-10-11",{"$f":"+IF(AND(C288-シート!$BV$67>=0,シート!$AI$19-C288>=0),1,0)","v":{"$error":"#N/A"}},{"$f":"IF(AND(C288-シート!$C$87>=0,シート!$X$87-C288>=0),1,0)","v":{"$error":"#VALUE!"}},{"$error":"#N/A"},{"$error":"#N/A"},{"$f":"IF(AND(C288-シート!$CP$87>=0,シート!$DK$87-C288>=0),1,0)","v":{"$error":"#VALUE!"}},{"$error":"#N/A"},{"$error":"#N/A"},"1900-10-11"]
[287,29,"1900-10-12",{"$f":"+IF(AND(C289-シート!$BV$67>=0,シート!$AI$19-C289>=0),1,0)","v":{"$error":"#N/A"}},{"$f":"IF(AND(C289-シート!$C$87>=0,シート!$X$87-C289>=0),1,0)","v":{"$error":"#VALUE!"}},{"$error":"#N/A"},{"$error":"#N/A"},{"$f":"IF(AND(C289-シート!$CP$87>=0,シート!$DK$87-C289>=0),1,0)","v":{"$error":"#VALUE!"}},{"$error":"#N/A"},{"$error":"#N/A"},"1900-10-12"]
[288,29,"1900-10-13",{"$f":"+IF(AND(C290-シート!$BV$67>=0,シート!$AI$19-C290>=0),1,0)","v":{"$error":"#N/A"}},{"$f":"IF(AND(C290-シート!$C$87>=0,シート!$X$87-C290>=0),1,0)","v":{"$error":"#VALUE!"}},{"$error":"#N/A"},{"$error":"#N/A"},{"$f":"IF(AND(C290-シート!$CP$87>=0,シート!$DK$87-C290>=0),1,0)","v":{"$error":"#VALUE!"}},{"$error":"#N/A"},{"$error":"#N/A"},"1900-10-13"]
[289,29,"1900-10-14",{"$f":"+IF(AND(C291-シート!$BV$67>=0,シート!$AI$19-C291>=0),1,0)","v":{"$error":"#N/A"}},{"$f":"IF(AND(C291-シート!$C$87>=0,シート!$X$87-C291>=0),1,0)","v":{"$error":"#VALUE!"}},{"$error":"#N/A"},{"$error":"#N/A"},{"$f":"IF(AND(C291-シート!$CP$87>=0,シート!$DK$87-C291>=0),1,0)","v":{"$error":"#VALUE!"}},{"$error":"#N/A"},{"$error":"#N/A"},"1900-10-14"]
[290,29,"1900-10-15",{"$f":"+IF(AND(C292-シート!$BV$67>=0,シート!$AI$19-C292>=0),1,0)","v":{"$error":"#N/A"}},{"$f":"IF(AND(C292-シート!$C$87>=0,シート!$X$87-C292>=0),1,0)","v":{"$error":"#VALUE!"}},{"$error":"#N/A"},{"$error":"#N/A"},{"$f":"IF(AND(C292-シート!$CP$87>=0,シート!$DK$87-C292>=0),1,0)","v":{"$error":"#VALUE!"}},{"$error":"#N/A"},{"$error":"#N/A"},"1900-10-15"]
[291,29,"1900-10-16",{"$f":"+IF(AND(C293-シート!$BV$67>=0,シート!$AI$19-C293>=0),1,0)","v":{"$error":"#N/A"}},{"$f":"IF(AND(C293-シート!$C$87>=0,シート!$X$87-C293>=0),1,0)","v":{"$error":"#VALUE!"}},{"$error":"#N/A"},{"$error":"#N/A"},{"$f":"IF(AND(C293-シート!$CP$87>=0,シート!$DK$87-C293>=0),1,0)","v":{"$error":"#VALUE!"}},{"$error":"#N/A"},{"$error":"#N/A"},"1900-10-16"]
[292,29,"1900-10-17",{"$f":"+IF(AND(C294-シート!$BV$67>=0,シート!$AI$19-C294>=0),1,0)","v":{"$error":"#N/A"}},{"$f":"IF(AND(C294-シート!$C$87>=0,シート!$X$87-C294>=0),1,0)","v":{"$error":"#VALUE!"}},{"$error":"#N/A"},{"$error":"#N/A"},{"$f":"IF(AND(C294-シート!$CP$87>=0,シート!$DK$87-C294>=0),1,0)","v":{"$error":"#VALUE!"}},{"$error":"#N/A"},{"$error":"#N/A"},"1900-10-17"]
[293,29,"1900-10-18",{"$f":"+IF(AND(C295-シート!$BV$67>=0,シート!$AI$19-C295>=0),1,0)","v":{"$error":"#N/A"}},{"$f":"IF(AND(C295-シート!$C$87>=0,シート!$X$87-C295>=0),1,0)","v":{"$error":"#VALUE!"}},{"$error":"#N/A"},{"$error":"#N/A"},{"$f":"IF(AND(C295-シート!$CP$87>=0,シート!$DK$87-C295>=0),1,0)","v":{"$error":"#VALUE!"}},{"$error":"#N/A"},{"$error":"#N/A"},"1900-10-18"]
[294,29,"1900-10-19",{"$f":"+IF(AND(C296-シート!$BV$67>=0,シート!$AI$19-C296>=0),1,0)","v":{"$error":"#N/A"}},{"$f":"IF(AND(C296-シート!$C$87>=0,シート!$X$87-C296>=0),1,0)","v":{"$error":"#VALUE!"}},{"$error":"#N/A"},{"$error":"#N/A"},{"$f":"IF(AND(C296-シート!$CP$87>=0,シート!$DK$87-C296>=0),1,0)","v":{"$error":"#VALUE!"}},{"$error":"#N/A"},{"$error":"#N/A"},"1900-10-19"]
[295,29,"1900-10-20",{"$f":"+IF(AND(C297-シート!$BV$67>=0,シート!$AI$19-C297>=0),1,0)","v":{"$error":"#N/A"}},{"$f":"IF(AND(C297-シート!$C$87>=0,シート!$X$87-C297>=0),1,0)","v":{"$error":"#VALUE!"}},{"$error":"#N/A"},{"$error":"#N/A"},{"$f":"IF(AND(C297-シート!$CP$87>=0,シート!$DK$87-C297>=0),1,0)","v":{"$error":"#VALUE!"}},{"$error":"#N/A"},{"$error":"#N/A"},"1900-10-20"]
[296,30,"1900-10-21",{"$f":"+IF(AND(C298-シート!$BV$67>=0,シート!$AI$19-C298>=0),1,0)","v":{"$error":"#N/A"}},{"$f":"IF(AND(C298-シート!$C$87>=0,シート!$X$87-C298>=0),1,0)","v":{"$error":"#VALUE!"}},{"$error":"#N/A"},{"$error":"#N/A"},{"$f":"IF(AND(C298-シート!$CP$87>=0,シート!$DK$87-C298>=0),1,0)","v":{"$error":"#VALUE!"}},{"$error":"#N/A"},{"$error":"#N/A"},"1900-10-21"]
[297,30,"1900-10-22",{"$f":"+IF(AND(C299-シート!$BV$67>=0,シート!$AI$19-C299>=0),1,0)","v":{"$error":"#N/A"}},{"$f":"IF(AND(C299-シート!$C$87>=0,シート!$X$87-C299>=0),1,0)","v":{"$error":"#VALUE!"}},{"$error":"#N/A"},{"$error":"#N/A"},{"$f":"IF(AND(C299-シート!$CP$87>=0,シート!$DK$87-C299>=0),1,0)","v":{"$error":"#VALUE!"}},{"$error":"#N/A"},{"$error":"#N/A"},"1900-10-22"]
[298,30,"1900-10-23",{"$f":"+IF(AND(C300-シート!$BV$67>=0,シート!$AI$19-C300>=0),1,0)","v":{"$error":"#N/A"}},{"$f":"IF(AND(C300-シート!$C$87>=0,シート!$X$87-C300>=0),1,0)","v":{"$error":"#VALUE!"}},{"$error":"#N/A"},{"$error":"#N/A"},{"$f":"IF(AND(C300-シート!$CP$87>=0,シート!$DK$87-C300>=0),1,0)","v":{"$error":"#VALUE!"}},{"$error":"#N/A"},{"$error":"#N/A"},"1900-10-23"]
[299,30,"1900-10-24",{"$f":"+IF(AND(C301-シート!$BV$67>=0,シート!$AI$19-C301>=0),1,0)","v":{"$error":"#N/A"}},{"$f":"IF(AND(C301-シート!$C$87>=0,シート!$X$87-C301>=0),1,0)","v":{"$error":"#VALUE!"}},{"$error":"#N/A"},{"$error":"#N/A"},{"$f":"IF(AND(C301-シート!$CP$87>=0,シート!$DK$87-C301>=0),1,0)","v":{"$error":"#VALUE!"}},{"$error":"#N/A"},{"$error":"#N/A"},"1900-10-24"]
[300,30,"1900-10-25",{"$f":"+IF(AND(C302-シート!$BV$67>=0,シート!$AI$19-C302>=0),1,0)","v":{"$error":"#N/A"}},{"$f":"IF(AND(C302-シート!$C$87>=0,シート!$X$87-C302>=0),1,0)","v":{"$error":"#VALUE!"}},{"$error":"#N/A"},{"$error":"#N/A"},{"$f":"IF(AND(C302-シート!$CP$87>=0,シート!$DK$87-C302>=0),1,0)","v":{"$error":"#VALUE!"}},{"$error":"#N/A"},{"$error":"#N/A"},"1900-10-25"]
[301,30,"1900-10-26",{"$f":"+IF(AND(C303-シート!$BV$67>=0,シート!$AI$19-C303>=0),1,0)","v":{"$error":"#N/A"}},{"$f":"IF(AND(C303-シート!$C$87>=0,シート!$X$87-C303>=0),1,0)","v":{"$error":"#VALUE!"}},{"$error":"#N/A"},{"$error":"#N/A"},{"$f":"IF(AND(C303-シート!$CP$87>=0,シート!$DK$87-C303>=0),1,0)","v":{"$error":"#VALUE!"}},{"$error":"#N/A"},{"$error":"#N/A"},"1900-10-26"]
[302,30,"1900-10-27",{"$f":"+IF(AND(C304-シート!$BV$67>=0,シート!$AI$19-C304>=0),1,0)","v":{"$error":"#N/A"}},{"$f":"IF(AND(C304-シート!$C$87>=0,シート!$X$87-C304>=0),1,0)","v":{"$error":"#VALUE!"}},{"$error":"#N/A"},{"$error":"#N/A"},{"$f":"IF(AND(C304-シート!$CP$87>=0,シート!$DK$87-C304>=0),1,0)","v":{"$error":"#VALUE!"}},{"$error":"#N/A"},{"$error":"#N/A"},"1900-10-27"]
[303,30,"1900-10-28",{"$f":"+IF(AND(C305-シート!$BV$67>=0,シート!$AI$19-C305>=0),1,0)","v":{"$error":"#N/A"}},{"$f":"IF(AND(C305-シート!$C$87>=0,シート!$X$87-C305>=0),1,0)","v":{"$error":"#VALUE!"}},{"$error":"#N/A"},{"$error":"#N/A"},{"$f":"IF(AND(C305-シート!$CP$87>=0,シート!$DK$87-C305>=0),1,0)","v":{"$error":"#VALUE!"}},{"$error":"#N/A"},{"$error":"#N/A"},"1900-10-28"]
[304,30,"1900-10-29",{"$f":"+IF(AND(C306-シート!$BV$67>=0,シート!$AI$19-C306>=0),1,0)","v":{"$error":"#N/A"}},{"$f":"IF(AND(C306-シート!$C$87>=0,シート!$X$87-C306>=0),1,0)","v":{"$error":"#VALUE!"}},{"$error":"#N/A"},{"$error":"#N/A"},{"$f":"IF(AND(C306-シート!$CP$87>=0,シート!$DK$87-C306>=0),1,0)","v":{"$error":"#VALUE!"}},{"$error":"#N/A"},{"$error":"#N/A"},"1900-10-29"]
[305,30,"1900-10-30",{"$f":"+IF(AND(C307-シート!$BV$67>=0,シート!$AI$19-C307>=0),1,0)","v":{"$error":"#N/A"}},{"$f":"IF(AND(C307-シート!$C$87>=0,シート!$X$87-C307>=0),1,0)","v":{"$error":"#VALUE!"}},{"$error":"#N/A"},{"$error":"#N/A"},{"$f":"IF(AND(C307-シート!$CP$87>=0,シート!$DK$87-C307>=0),1,0)","v":{"$error":"#VALUE!"}},{"$error":"#N/A"},{"$error":"#N/A"},"1900-10-30"]
[306,31,"1900-10-31",{"$f":"+IF(AND(C308-シート!$BV$67>=0,シート!$AI$19-C308>=0),1,0)","v":{"$error":"#N/A"}},{"$f":"IF(AND(C308-シート!$C$87>=0,シート!$X$87-C308>=0),1,0)","v":{"$error":"#VALUE!"}},{"$error":"#N/A"},{"$error":"#N/A"},{"$f":"IF(AND(C308-シート!$CP$87>=0,シート!$DK$87-C308>=0),1,0)","v":{"$error":"#VALUE!"}},{"$error":"#N/A"},{"$error":"#N/A"},"1900-10-31"]
[307,31,"1900-11-01",{"$f":"+IF(AND(C309-シート!$BV$67>=0,シート!$AI$19-C309>=0),1,0)","v":{"$error":"#N/A"}},{"$f":"IF(AND(C309-シート!$C$87>=0,シート!$X$87-C309>=0),1,0)","v":{"$error":"#VALUE!"}},{"$error":"#N/A"},{"$error":"#N/A"},{"$f":"IF(AND(C309-シート!$CP$87>=0,シート!$DK$87-C309>=0),1,0)","v":{"$error":"#VALUE!"}},{"$error":"#N/A"},{"$error":"#N/A"},"1900-11-01"]
[308,31,"1900-11-02",{"$f":"+IF(AND(C310-シート!$BV$67>=0,シート!$AI$19-C310>=0),1,0)","v":{"$error":"#N/A"}},{"$f":"IF(AND(C310-シート!$C$87>=0,シート!$X$87-C310>=0),1,0)","v":{"$error":"#VALUE!"}},{"$error":"#N/A"},{"$error":"#N/A"},{"$f":"IF(AND(C310-シート!$CP$87>=0,シート!$DK$87-C310>=0),1,0)","v":{"$error":"#VALUE!"}},{"$error":"#N/A"},{"$error":"#N/A"},"1900-11-02"]
[309,31,"1900-11-03",{"$f":"+IF(AND(C311-シート!$BV$67>=0,シート!$AI$19-C311>=0),1,0)","v":{"$error":"#N/A"}},{"$f":"IF(AND(C311-シート!$C$87>=0,シート!$X$87-C311>=0),1,0)","v":{"$error":"#VALUE!"}},{"$error":"#N/A"},{"$error":"#N/A"},{"$f":"IF(AND(C311-シート!$CP$87>=0,シート!$DK$87-C311>=0),1,0)","v":{"$error":"#VALUE!"}},{"$error":"#N/A"},{"$error":"#N/A"},"1900-11-03"]
[310,31,"1900-11-04",{"$f":"+IF(AND(C312-シート!$BV$67>=0,シート!$AI$19-C312>=0),1,0)","v":{"$error":"#N/A"}},{"$f":"IF(AND(C312-シート!$C$87>=0,シート!$X$87-C312>=0),1,0)","v":{"$error":"#VALUE!"}},{"$error":"#N/A"},{"$error":"#N/A"},{"$f":"IF(AND(C312-シート!$CP$87>=0,シート!$DK$87-C312>=0),1,0)","v":{"$error":"#VALUE!"}},{"$error":"#N/A"},{"$error":"#N/A"},"1900-11-04"]
[311,31,"1900-11-05",{"$f":"+IF(AND(C313-シート!$BV$67>=0,シート!$AI$19-C313>=0),1,0)","v":{"$error":"#N/A"}},{"$f":"IF(AND(C313-シート!$C$87>=0,シート!$X$87-C313>=0),1,0)","v":{"$error":"#VALUE!"}},{"$error":"#N/A"},{"$error":"#N/A"},{"$f":"IF(AND(C313-シート!$CP$87>=0,シート!$DK$87-C313>=0),1,0)","v":{"$error":"#VALUE!"}},{"$error":"#N/A"},{"$error":"#N/A"},"1900-11-05"]
[312,31,"1900-11-06",{"$f":"+IF(AND(C314-シート!$BV$67>=0,シート!$AI$19-C314>=0),1,0)","v":{"$error":"#N/A"}},{"$f":"IF(AND(C314-シート!$C$87>=0,シート!$X$87-C314>=0),1,0)","v":{"$error":"#VALUE!"}},{"$error":"#N/A"},{"$error":"#N/A"},{"$f":"IF(AND(C314-シート!$CP$87>=0,シート!$DK$87-C314>=0),1,0)","v":{"$error":"#VALUE!"}},{"$error":"#N/A"},{"$error":"#N/A"},"1900-11-06"]
[313,31,"1900-11-07",{"$f":"+IF(AND(C315-シート!$BV$67>=0,シート!$AI$19-C315>=0),1,0)","v":{"$error":"#N/A"}},{"$f":"IF(AND(C315-シート!$C$87>=0,シート!$X$87-C315>=0),1,0)","v":{"$error":"#VALUE!"}},{"$error":"#N/A"},{"$error":"#N/A"},{"$f":"IF(AND(C315-シート!$CP$87>=0,シート!$DK$87-C315>=0),1,0)","v":{"$error":"#VALUE!"}},{"$error":"#N/A"},{"$error":"#N/A"},"1900-11-07"]
[314,31,"1900-11-08",{"$f":"+IF(AND(C316-シート!$BV$67>=0,シート!$AI$19-C316>=0),1,0)","v":{"$error":"#N/A"}},{"$f":"IF(AND(C316-シート!$C$87>=0,シート!$X$87-C316>=0),1,0)","v":{"$error":"#VALUE!"}},{"$error":"#N/A"},{"$error":"#N/A"},{"$f":"IF(AND(C316-シート!$CP$87>=0,シート!$DK$87-C316>=0),1,0)","v":{"$error":"#VALUE!"}},{"$error":"#N/A"},{"$error":"#N/A"},"1900-11-08"]
[315,31,"1900-11-09",{"$f":"+IF(AND(C317-シート!$BV$67>=0,シート!$AI$19-C317>=0),1,0)","v":{"$error":"#N/A"}},{"$f":"IF(AND(C317-シート!$C$87>=0,シート!$X$87-C317>=0),1,0)","v":{"$error":"#VALUE!"}},{"$error":"#N/A"},{"$error":"#N/A"},{"$f":"IF(AND(C317-シート!$CP$87>=0,シート!$DK$87-C317>=0),1,0)","v":{"$error":"#VALUE!"}},{"$error":"#N/A"},{"$error":"#N/A"},"1900-11-09"]
[316,32,"1900-11-10",{"$f":"+IF(AND(C318-シート!$BV$67>=0,シート!$AI$19-C318>=0),1,0)","v":{"$error":"#N/A"}},{"$f":"IF(AND(C318-シート!$C$87>=0,シート!$X$87-C318>=0),1,0)","v":{"$error":"#VALUE!"}},{"$error":"#N/A"},{"$error":"#N/A"},{"$f":"IF(AND(C318-シート!$CP$87>=0,シート!$DK$87-C318>=0),1,0)","v":{"$error":"#VALUE!"}},{"$error":"#N/A"},{"$error":"#N/A"},"1900-11-10"]
[317,32,"1900-11-11",{"$f":"+IF(AND(C319-シート!$BV$67>=0,シート!$AI$19-C319>=0),1,0)","v":{"$error":"#N/A"}},{"$f":"IF(AND(C319-シート!$C$87>=0,シート!$X$87-C319>=0),1,0)","v":{"$error":"#VALUE!"}},{"$error":"#N/A"},{"$error":"#N/A"},{"$f":"IF(AND(C319-シート!$CP$87>=0,シート!$DK$87-C319>=0),1,0)","v":{"$error":"#VALUE!"}},{"$error":"#N/A"},{"$error":"#N/A"},"1900-11-11"]
[318,32,"1900-11-12",{"$f":"+IF(AND(C320-シート!$BV$67>=0,シート!$AI$19-C320>=0),1,0)","v":{"$error":"#N/A"}},{"$f":"IF(AND(C320-シート!$C$87>=0,シート!$X$87-C320>=0),1,0)","v":{"$error":"#VALUE!"}},{"$error":"#N/A"},{"$error":"#N/A"},{"$f":"IF(AND(C320-シート!$CP$87>=0,シート!$DK$87-C320>=0),1,0)","v":{"$error":"#VALUE!"}},{"$error":"#N/A"},{"$error":"#N/A"},"1900-11-12"]
[319,32,"1900-11-13",{"$f":"+IF(AND(C321-シート!$BV$67>=0,シート!$AI$19-C321>=0),1,0)","v":{"$error":"#N/A"}},{"$f":"IF(AND(C321-シート!$C$87>=0,シート!$X$87-C321>=0),1,0)","v":{"$error":"#VALUE!"}},{"$error":"#N/A"},{"$error":"#N/A"},{"$f":"IF(AND(C321-シート!$CP$87>=0,シート!$DK$87-C321>=0),1,0)","v":{"$error":"#VALUE!"}},{"$error":"#N/A"},{"$error":"#N/A"},"1900-11-13"]
[320,32,"1900-11-14",{"$f":"+IF(AND(C322-シート!$BV$67>=0,シート!$AI$19-C322>=0),1,0)","v":{"$error":"#N/A"}},{"$f":"IF(AND(C322-シート!$C$87>=0,シート!$X$87-C322>=0),1,0)","v":{"$error":"#VALUE!"}},{"$error":"#N/A"},{"$error":"#N/A"},{"$f":"IF(AND(C322-シート!$CP$87>=0,シート!$DK$87-C322>=0),1,0)","v":{"$error":"#VALUE!"}},{"$error":"#N/A"},{"$error":"#N/A"},"1900-11-14"]
[321,32,"1900-11-15",{"$f":"+IF(AND(C323-シート!$BV$67>=0,シート!$AI$19-C323>=0),1,0)","v":{"$error":"#N/A"}},{"$f":"IF(AND(C323-シート!$C$87>=0,シート!$X$87-C323>=0),1,0)","v":{"$error":"#VALUE!"}},{"$error":"#N/A"},{"$error":"#N/A"},{"$f":"IF(AND(C323-シート!$CP$87>=0,シート!$DK$87-C323>=0),1,0)","v":{"$error":"#VALUE!"}},{"$error":"#N/A"},{"$error":"#N/A"},"1900-11-15"]
[322,32,"1900-11-16",{"$f":"+IF(AND(C324-シート!$BV$67>=0,シート!$AI$19-C324>=0),1,0)","v":{"$error":"#N/A"}},{"$f":"IF(AND(C324-シート!$C$87>=0,シート!$X$87-C324>=0),1,0)","v":{"$error":"#VALUE!"}},{"$f":"IF(+D324+E324=2,1,0)","v":{"$error":"#N/A"}},{"$error":"#N/A"},{"$f":"IF(AND(C324-シート!$CP$87>=0,シート!$DK$87-C324>=0),1,0)","v":{"$error":"#VALUE!"}},{"$f":"IF(+D324+H324=2,1,0)","v":{"$error":"#N/A"}},{"$error":"#N/A"},{"$f":"+C324","v":"1900-11-16"}]
[{"$f":"+A324+1","v":323},32,{"$f":"+C324+1","v":"1900-11-17"},{"$f":"+IF(AND(C325-シート!$BV$67>=0,シート!$AI$19-C325>=0),1,0)","v":{"$error":"#N/A"}},{"$f":"IF(AND(C325-シート!$C$87>=0,シート!$X$87-C325>=0),1,0)","v":{"$error":"#VALUE!"}},{"$error":"#N/A"},{"$f":"+G324+F325","v":{"$error":"#N/A"}},{"$f":"IF(AND(C325-シート!$CP$87>=0,シート!$DK$87-C325>=0),1,0)","v":{"$error":"#VALUE!"}},{"$error":"#N/A"},{"$f":"+J324+I325","v":{"$error":"#N/A"}},"1900-11-17"]
[324,32,"1900-11-18",{"$f":"+IF(AND(C326-シート!$BV$67>=0,シート!$AI$19-C326>=0),1,0)","v":{"$error":"#N/A"}},{"$f":"IF(AND(C326-シート!$C$87>=0,シート!$X$87-C326>=0),1,0)","v":{"$error":"#VALUE!"}},{"$error":"#N/A"},{"$error":"#N/A"},{"$f":"IF(AND(C326-シート!$CP$87>=0,シート!$DK$87-C326>=0),1,0)","v":{"$error":"#VALUE!"}},{"$error":"#N/A"},{"$error":"#N/A"},"1900-11-18"]
[325,32,"1900-11-19",{"$f":"+IF(AND(C327-シート!$BV$67>=0,シート!$AI$19-C327>=0),1,0)","v":{"$error":"#N/A"}},{"$f":"IF(AND(C327-シート!$C$87>=0,シート!$X$87-C327>=0),1,0)","v":{"$error":"#VALUE!"}},{"$error":"#N/A"},{"$error":"#N/A"},{"$f":"IF(AND(C327-シート!$CP$87>=0,シート!$DK$87-C327>=0),1,0)","v":{"$error":"#VALUE!"}},{"$error":"#N/A"},{"$error":"#N/A"},"1900-11-19"]
[326,32,"1900-11-20",{"$f":"+IF(AND(C328-シート!$BV$67>=0,シート!$AI$19-C328>=0),1,0)","v":{"$error":"#N/A"}},{"$f":"IF(AND(C328-シート!$C$87>=0,シート!$X$87-C328>=0),1,0)","v":{"$error":"#VALUE!"}},{"$error":"#N/A"},{"$error":"#N/A"},{"$f":"IF(AND(C328-シート!$CP$87>=0,シート!$DK$87-C328>=0),1,0)","v":{"$error":"#VALUE!"}},{"$error":"#N/A"},{"$error":"#N/A"},"1900-11-20"]
[327,33,"1900-11-21",{"$f":"+IF(AND(C329-シート!$BV$67>=0,シート!$AI$19-C329>=0),1,0)","v":{"$error":"#N/A"}},{"$f":"IF(AND(C329-シート!$C$87>=0,シート!$X$87-C329>=0),1,0)","v":{"$error":"#VALUE!"}},{"$error":"#N/A"},{"$error":"#N/A"},{"$f":"IF(AND(C329-シート!$CP$87>=0,シート!$DK$87-C329>=0),1,0)","v":{"$error":"#VALUE!"}},{"$error":"#N/A"},{"$error":"#N/A"},"1900-11-21"]
[328,33,"1900-11-22",{"$f":"+IF(AND(C330-シート!$BV$67>=0,シート!$AI$19-C330>=0),1,0)","v":{"$error":"#N/A"}},{"$f":"IF(AND(C330-シート!$C$87>=0,シート!$X$87-C330>=0),1,0)","v":{"$error":"#VALUE!"}},{"$error":"#N/A"},{"$error":"#N/A"},{"$f":"IF(AND(C330-シート!$CP$87>=0,シート!$DK$87-C330>=0),1,0)","v":{"$error":"#VALUE!"}},{"$error":"#N/A"},{"$error":"#N/A"},"1900-11-22"]
[329,33,"1900-11-23",{"$f":"+IF(AND(C331-シート!$BV$67>=0,シート!$AI$19-C331>=0),1,0)","v":{"$error":"#N/A"}},{"$f":"IF(AND(C331-シート!$C$87>=0,シート!$X$87-C331>=0),1,0)","v":{"$error":"#VALUE!"}},{"$error":"#N/A"},{"$error":"#N/A"},{"$f":"IF(AND(C331-シート!$CP$87>=0,シート!$DK$87-C331>=0),1,0)","v":{"$error":"#VALUE!"}},{"$error":"#N/A"},{"$error":"#N/A"},"1900-11-23"]
[330,33,"1900-11-24",{"$f":"+IF(AND(C332-シート!$BV$67>=0,シート!$AI$19-C332>=0),1,0)","v":{"$error":"#N/A"}},{"$f":"IF(AND(C332-シート!$C$87>=0,シート!$X$87-C332>=0),1,0)","v":{"$error":"#VALUE!"}},{"$error":"#N/A"},{"$error":"#N/A"},{"$f":"IF(AND(C332-シート!$CP$87>=0,シート!$DK$87-C332>=0),1,0)","v":{"$error":"#VALUE!"}},{"$error":"#N/A"},{"$error":"#N/A"},"1900-11-24"]
[331,33,"1900-11-25",{"$f":"+IF(AND(C333-シート!$BV$67>=0,シート!$AI$19-C333>=0),1,0)","v":{"$error":"#N/A"}},{"$f":"IF(AND(C333-シート!$C$87>=0,シート!$X$87-C333>=0),1,0)","v":{"$error":"#VALUE!"}},{"$error":"#N/A"},{"$error":"#N/A"},{"$f":"IF(AND(C333-シート!$CP$87>=0,シート!$DK$87-C333>=0),1,0)","v":{"$error":"#VALUE!"}},{"$error":"#N/A"},{"$error":"#N/A"},"1900-11-25"]
[332,33,"1900-11-26",{"$f":"+IF(AND(C334-シート!$BV$67>=0,シート!$AI$19-C334>=0),1,0)","v":{"$error":"#N/A"}},{"$f":"IF(AND(C334-シート!$C$87>=0,シート!$X$87-C334>=0),1,0)","v":{"$error":"#VALUE!"}},{"$error":"#N/A"},{"$error":"#N/A"},{"$f":"IF(AND(C334-シート!$CP$87>=0,シート!$DK$87-C334>=0),1,0)","v":{"$error":"#VALUE!"}},{"$error":"#N/A"},{"$error":"#N/A"},"1900-11-26"]
[333,33,"1900-11-27",{"$f":"+IF(AND(C335-シート!$BV$67>=0,シート!$AI$19-C335>=0),1,0)","v":{"$error":"#N/A"}},{"$f":"IF(AND(C335-シート!$C$87>=0,シート!$X$87-C335>=0),1,0)","v":{"$error":"#VALUE!"}},{"$error":"#N/A"},{"$error":"#N/A"},{"$f":"IF(AND(C335-シート!$CP$87>=0,シート!$DK$87-C335>=0),1,0)","v":{"$error":"#VALUE!"}},{"$error":"#N/A"},{"$error":"#N/A"},"1900-11-27"]
[334,33,"1900-11-28",{"$f":"+IF(AND(C336-シート!$BV$67>=0,シート!$AI$19-C336>=0),1,0)","v":{"$error":"#N/A"}},{"$f":"IF(AND(C336-シート!$C$87>=0,シート!$X$87-C336>=0),1,0)","v":{"$error":"#VALUE!"}},{"$error":"#N/A"},{"$error":"#N/A"},{"$f":"IF(AND(C336-シート!$CP$87>=0,シート!$DK$87-C336>=0),1,0)","v":{"$error":"#VALUE!"}},{"$error":"#N/A"},{"$error":"#N/A"},"1900-11-28"]
[335,33,"1900-11-29",{"$f":"+IF(AND(C337-シート!$BV$67>=0,シート!$AI$19-C337>=0),1,0)","v":{"$error":"#N/A"}},{"$f":"IF(AND(C337-シート!$C$87>=0,シート!$X$87-C337>=0),1,0)","v":{"$error":"#VALUE!"}},{"$error":"#N/A"},{"$error":"#N/A"},{"$f":"IF(AND(C337-シート!$CP$87>=0,シート!$DK$87-C337>=0),1,0)","v":{"$error":"#VALUE!"}},{"$error":"#N/A"},{"$error":"#N/A"},"1900-11-29"]
[336,33,"1900-11-30",{"$f":"+IF(AND(C338-シート!$BV$67>=0,シート!$AI$19-C338>=0),1,0)","v":{"$error":"#N/A"}},{"$f":"IF(AND(C338-シート!$C$87>=0,シート!$X$87-C338>=0),1,0)","v":{"$error":"#VALUE!"}},{"$error":"#N/A"},{"$error":"#N/A"},{"$f":"IF(AND(C338-シート!$CP$87>=0,シート!$DK$87-C338>=0),1,0)","v":{"$error":"#VALUE!"}},{"$error":"#N/A"},{"$error":"#N/A"},"1900-11-30"]
[337,34,"1900-12-01",{"$f":"+IF(AND(C339-シート!$BV$67>=0,シート!$AI$19-C339>=0),1,0)","v":{"$error":"#N/A"}},{"$f":"IF(AND(C339-シート!$C$87>=0,シート!$X$87-C339>=0),1,0)","v":{"$error":"#VALUE!"}},{"$error":"#N/A"},{"$error":"#N/A"},{"$f":"IF(AND(C339-シート!$CP$87>=0,シート!$DK$87-C339>=0),1,0)","v":{"$error":"#VALUE!"}},{"$error":"#N/A"},{"$error":"#N/A"},"1900-12-01"]
[338,34,"1900-12-02",{"$f":"+IF(AND(C340-シート!$BV$67>=0,シート!$AI$19-C340>=0),1,0)","v":{"$error":"#N/A"}},{"$f":"IF(AND(C340-シート!$C$87>=0,シート!$X$87-C340>=0),1,0)","v":{"$error":"#VALUE!"}},{"$error":"#N/A"},{"$error":"#N/A"},{"$f":"IF(AND(C340-シート!$CP$87>=0,シート!$DK$87-C340>=0),1,0)","v":{"$error":"#VALUE!"}},{"$error":"#N/A"},{"$error":"#N/A"},"1900-12-02"]
[339,34,"1900-12-03",{"$f":"+IF(AND(C341-シート!$BV$67>=0,シート!$AI$19-C341>=0),1,0)","v":{"$error":"#N/A"}},{"$f":"IF(AND(C341-シート!$C$87>=0,シート!$X$87-C341>=0),1,0)","v":{"$error":"#VALUE!"}},{"$error":"#N/A"},{"$error":"#N/A"},{"$f":"IF(AND(C341-シート!$CP$87>=0,シート!$DK$87-C341>=0),1,0)","v":{"$error":"#VALUE!"}},{"$error":"#N/A"},{"$error":"#N/A"},"1900-12-03"]
[340,34,"1900-12-04",{"$f":"+IF(AND(C342-シート!$BV$67>=0,シート!$AI$19-C342>=0),1,0)","v":{"$error":"#N/A"}},{"$f":"IF(AND(C342-シート!$C$87>=0,シート!$X$87-C342>=0),1,0)","v":{"$error":"#VALUE!"}},{"$error":"#N/A"},{"$error":"#N/A"},{"$f":"IF(AND(C342-シート!$CP$87>=0,シート!$DK$87-C342>=0),1,0)","v":{"$error":"#VALUE!"}},{"$error":"#N/A"},{"$error":"#N/A"},"1900-12-04"]
[341,34,"1900-12-05",{"$f":"+IF(AND(C343-シート!$BV$67>=0,シート!$AI$19-C343>=0),1,0)","v":{"$error":"#N/A"}},{"$f":"IF(AND(C343-シート!$C$87>=0,シート!$X$87-C343>=0),1,0)","v":{"$error":"#VALUE!"}},{"$error":"#N/A"},{"$error":"#N/A"},{"$f":"IF(AND(C343-シート!$CP$87>=0,シート!$DK$87-C343>=0),1,0)","v":{"$error":"#VALUE!"}},{"$error":"#N/A"},{"$error":"#N/A"},"1900-12-05"]
[342,34,"1900-12-06",{"$f":"+IF(AND(C344-シート!$BV$67>=0,シート!$AI$19-C344>=0),1,0)","v":{"$error":"#N/A"}},{"$f":"IF(AND(C344-シート!$C$87>=0,シート!$X$87-C344>=0),1,0)","v":{"$error":"#VALUE!"}},{"$error":"#N/A"},{"$error":"#N/A"},{"$f":"IF(AND(C344-シート!$CP$87>=0,シート!$DK$87-C344>=0),1,0)","v":{"$error":"#VALUE!"}},{"$error":"#N/A"},{"$error":"#N/A"},"1900-12-06"]
[343,34,"1900-12-07",{"$f":"+IF(AND(C345-シート!$BV$67>=0,シート!$AI$19-C345>=0),1,0)","v":{"$error":"#N/A"}},{"$f":"IF(AND(C345-シート!$C$87>=0,シート!$X$87-C345>=0),1,0)","v":{"$error":"#VALUE!"}},{"$error":"#N/A"},{"$error":"#N/A"},{"$f":"IF(AND(C345-シート!$CP$87>=0,シート!$DK$87-C345>=0),1,0)","v":{"$error":"#VALUE!"}},{"$error":"#N/A"},{"$error":"#N/A"},"1900-12-07"]
[344,34,"1900-12-08",{"$f":"+IF(AND(C346-シート!$BV$67>=0,シート!$AI$19-C346>=0),1,0)","v":{"$error":"#N/A"}},{"$f":"IF(AND(C346-シート!$C$87>=0,シート!$X$87-C346>=0),1,0)","v":{"$error":"#VALUE!"}},{"$error":"#N/A"},{"$error":"#N/A"},{"$f":"IF(AND(C346-シート!$CP$87>=0,シート!$DK$87-C346>=0),1,0)","v":{"$error":"#VALUE!"}},{"$error":"#N/A"},{"$error":"#N/A"},"1900-12-08"]
[345,34,"1900-12-09",{"$f":"+IF(AND(C347-シート!$BV$67>=0,シート!$AI$19-C347>=0),1,0)","v":{"$error":"#N/A"}},{"$f":"IF(AND(C347-シート!$C$87>=0,シート!$X$87-C347>=0),1,0)","v":{"$error":"#VALUE!"}},{"$error":"#N/A"},{"$error":"#N/A"},{"$f":"IF(AND(C347-シート!$CP$87>=0,シート!$DK$87-C347>=0),1,0)","v":{"$error":"#VALUE!"}},{"$error":"#N/A"},{"$error":"#N/A"},"1900-12-09"]
[346,34,"1900-12-10",{"$f":"+IF(AND(C348-シート!$BV$67>=0,シート!$AI$19-C348>=0),1,0)","v":{"$error":"#N/A"}},{"$f":"IF(AND(C348-シート!$C$87>=0,シート!$X$87-C348>=0),1,0)","v":{"$error":"#VALUE!"}},{"$error":"#N/A"},{"$error":"#N/A"},{"$f":"IF(AND(C348-シート!$CP$87>=0,シート!$DK$87-C348>=0),1,0)","v":{"$error":"#VALUE!"}},{"$error":"#N/A"},{"$error":"#N/A"},"1900-12-10"]
[347,35,"1900-12-11",{"$f":"+IF(AND(C349-シート!$BV$67>=0,シート!$AI$19-C349>=0),1,0)","v":{"$error":"#N/A"}},{"$f":"IF(AND(C349-シート!$C$87>=0,シート!$X$87-C349>=0),1,0)","v":{"$error":"#VALUE!"}},{"$error":"#N/A"},{"$error":"#N/A"},{"$f":"IF(AND(C349-シート!$CP$87>=0,シート!$DK$87-C349>=0),1,0)","v":{"$error":"#VALUE!"}},{"$error":"#N/A"},{"$error":"#N/A"},"1900-12-11"]
[348,35,"1900-12-12",{"$f":"+IF(AND(C350-シート!$BV$67>=0,シート!$AI$19-C350>=0),1,0)","v":{"$error":"#N/A"}},{"$f":"IF(AND(C350-シート!$C$87>=0,シート!$X$87-C350>=0),1,0)","v":{"$error":"#VALUE!"}},{"$error":"#N/A"},{"$error":"#N/A"},{"$f":"IF(AND(C350-シート!$CP$87>=0,シート!$DK$87-C350>=0),1,0)","v":{"$error":"#VALUE!"}},{"$error":"#N/A"},{"$error":"#N/A"},"1900-12-12"]
[349,35,"1900-12-13",{"$f":"+IF(AND(C351-シート!$BV$67>=0,シート!$AI$19-C351>=0),1,0)","v":{"$error":"#N/A"}},{"$f":"IF(AND(C351-シート!$C$87>=0,シート!$X$87-C351>=0),1,0)","v":{"$error":"#VALUE!"}},{"$error":"#N/A"},{"$error":"#N/A"},{"$f":"IF(AND(C351-シート!$CP$87>=0,シート!$DK$87-C351>=0),1,0)","v":{"$error":"#VALUE!"}},{"$error":"#N/A"},{"$error":"#N/A"},"1900-12-13"]
[350,35,"1900-12-14",{"$f":"+IF(AND(C352-シート!$BV$67>=0,シート!$AI$19-C352>=0),1,0)","v":{"$error":"#N/A"}},{"$f":"IF(AND(C352-シート!$C$87>=0,シート!$X$87-C352>=0),1,0)","v":{"$error":"#VALUE!"}},{"$error":"#N/A"},{"$error":"#N/A"},{"$f":"IF(AND(C352-シート!$CP$87>=0,シート!$DK$87-C352>=0),1,0)","v":{"$error":"#VALUE!"}},{"$error":"#N/A"},{"$error":"#N/A"},"1900-12-14"]
[351,35,"1900-12-15",{"$f":"+IF(AND(C353-シート!$BV$67>=0,シート!$AI$19-C353>=0),1,0)","v":{"$error":"#N/A"}},{"$f":"IF(AND(C353-シート!$C$87>=0,シート!$X$87-C353>=0),1,0)","v":{"$error":"#VALUE!"}},{"$error":"#N/A"},{"$error":"#N/A"},{"$f":"IF(AND(C353-シート!$CP$87>=0,シート!$DK$87-C353>=0),1,0)","v":{"$error":"#VALUE!"}},{"$error":"#N/A"},{"$error":"#N/A"},"1900-12-15"]
[352,35,"1900-12-16",{"$f":"+IF(AND(C354-シート!$BV$67>=0,シート!$AI$19-C354>=0),1,0)","v":{"$error":"#N/A"}},{"$f":"IF(AND(C354-シート!$C$87>=0,シート!$X$87-C354>=0),1,0)","v":{"$error":"#VALUE!"}},{"$error":"#N/A"},{"$error":"#N/A"},{"$f":"IF(AND(C354-シート!$CP$87>=0,シート!$DK$87-C354>=0),1,0)","v":{"$error":"#VALUE!"}},{"$error":"#N/A"},{"$error":"#N/A"},"1900-12-16"]
[353,35,"1900-12-17",{"$f":"+IF(AND(C355-シート!$BV$67>=0,シート!$AI$19-C355>=0),1,0)","v":{"$error":"#N/A"}},{"$f":"IF(AND(C355-シート!$C$87>=0,シート!$X$87-C355>=0),1,0)","v":{"$error":"#VALUE!"}},{"$error":"#N/A"},{"$error":"#N/A"},{"$f":"IF(AND(C355-シート!$CP$87>=0,シート!$DK$87-C355>=0),1,0)","v":{"$error":"#VALUE!"}},{"$error":"#N/A"},{"$error":"#N/A"},"1900-12-17"]
[354,35,"1900-12-18",{"$f":"+IF(AND(C356-シート!$BV$67>=0,シート!$AI$19-C356>=0),1,0)","v":{"$error":"#N/A"}},{"$f":"IF(AND(C356-シート!$C$87>=0,シート!$X$87-C356>=0),1,0)","v":{"$error":"#VALUE!"}},{"$error":"#N/A"},{"$error":"#N/A"},{"$f":"IF(AND(C356-シート!$CP$87>=0,シート!$DK$87-C356>=0),1,0)","v":{"$error":"#VALUE!"}},{"$error":"#N/A"},{"$error":"#N/A"},"1900-12-18"]
[355,35,"1900-12-19",{"$f":"+IF(AND(C357-シート!$BV$67>=0,シート!$AI$19-C357>=0),1,0)","v":{"$error":"#N/A"}},{"$f":"IF(AND(C357-シート!$C$87>=0,シート!$X$87-C357>=0),1,0)","v":{"$error":"#VALUE!"}},{"$error":"#N/A"},{"$error":"#N/A"},{"$f":"IF(AND(C357-シート!$CP$87>=0,シート!$DK$87-C357>=0),1,0)","v":{"$error":"#VALUE!"}},{"$error":"#N/A"},{"$error":"#N/A"},"1900-12-19"]
[356,35,"1900-12-20",{"$f":"+IF(AND(C358-シート!$BV$67>=0,シート!$AI$19-C358>=0),1,0)","v":{"$error":"#N/A"}},{"$f":"IF(AND(C358-シート!$C$87>=0,シート!$X$87-C358>=0),1,0)","v":{"$error":"#VALUE!"}},{"$error":"#N/A"},{"$error":"#N/A"},{"$f":"IF(AND(C358-シート!$CP$87>=0,シート!$DK$87-C358>=0),1,0)","v":{"$error":"#VALUE!"}},{"$error":"#N/A"},{"$error":"#N/A"},"1900-12-20"]
[357,36,"1900-12-21",{"$f":"+IF(AND(C359-シート!$BV$67>=0,シート!$AI$19-C359>=0),1,0)","v":{"$error":"#N/A"}},{"$f":"IF(AND(C359-シート!$C$87>=0,シート!$X$87-C359>=0),1,0)","v":{"$error":"#VALUE!"}},{"$error":"#N/A"},{"$error":"#N/A"},{"$f":"IF(AND(C359-シート!$CP$87>=0,シート!$DK$87-C359>=0),1,0)","v":{"$error":"#VALUE!"}},{"$error":"#N/A"},{"$error":"#N/A"},"1900-12-21"]
[358,36,"1900-12-22",{"$f":"+IF(AND(C360-シート!$BV$67>=0,シート!$AI$19-C360>=0),1,0)","v":{"$error":"#N/A"}},{"$f":"IF(AND(C360-シート!$C$87>=0,シート!$X$87-C360>=0),1,0)","v":{"$error":"#VALUE!"}},{"$error":"#N/A"},{"$error":"#N/A"},{"$f":"IF(AND(C360-シート!$CP$87>=0,シート!$DK$87-C360>=0),1,0)","v":{"$error":"#VALUE!"}},{"$error":"#N/A"},{"$error":"#N/A"},"1900-12-22"]
[359,36,"1900-12-23",{"$f":"+IF(AND(C361-シート!$BV$67>=0,シート!$AI$19-C361>=0),1,0)","v":{"$error":"#N/A"}},{"$f":"IF(AND(C361-シート!$C$87>=0,シート!$X$87-C361>=0),1,0)","v":{"$error":"#VALUE!"}},{"$error":"#N/A"},{"$error":"#N/A"},{"$f":"IF(AND(C361-シート!$CP$87>=0,シート!$DK$87-C361>=0),1,0)","v":{"$error":"#VALUE!"}},{"$error":"#N/A"},{"$error":"#N/A"},"1900-12-23"]
[360,36,"1900-12-24",{"$f":"+IF(AND(C362-シート!$BV$67>=0,シート!$AI$19-C362>=0),1,0)","v":{"$error":"#N/A"}},{"$f":"IF(AND(C362-シート!$C$87>=0,シート!$X$87-C362>=0),1,0)","v":{"$error":"#VALUE!"}},{"$error":"#N/A"},{"$error":"#N/A"},{"$f":"IF(AND(C362-シート!$CP$87>=0,シート!$DK$87-C362>=0),1,0)","v":{"$error":"#VALUE!"}},{"$error":"#N/A"},{"$error":"#N/A"},"1900-12-24"]
[361,36,"1900-12-25",{"$f":"+IF(AND(C363-シート!$BV$67>=0,シート!$AI$19-C363>=0),1,0)","v":{"$error":"#N/A"}},{"$f":"IF(AND(C363-シート!$C$87>=0,シート!$X$87-C363>=0),1,0)","v":{"$error":"#VALUE!"}},{"$error":"#N/A"},{"$error":"#N/A"},{"$f":"IF(AND(C363-シート!$CP$87>=0,シート!$DK$87-C363>=0),1,0)","v":{"$error":"#VALUE!"}},{"$error":"#N/A"},{"$error":"#N/A"},"1900-12-25"]
[362,36,"1900-12-26",{"$f":"+IF(AND(C364-シート!$BV$67>=0,シート!$AI$19-C364>=0),1,0)","v":{"$error":"#N/A"}},{"$f":"IF(AND(C364-シート!$C$87>=0,シート!$X$87-C364>=0),1,0)","v":{"$error":"#VALUE!"}},{"$error":"#N/A"},{"$error":"#N/A"},{"$f":"IF(AND(C364-シート!$CP$87>=0,シート!$DK$87-C364>=0),1,0)","v":{"$error":"#VALUE!"}},{"$error":"#N/A"},{"$error":"#N/A"},"1900-12-26"]
[363,36,"1900-12-27",{"$f":"+IF(AND(C365-シート!$BV$67>=0,シート!$AI$19-C365>=0),1,0)","v":{"$error":"#N/A"}},{"$f":"IF(AND(C365-シート!$C$87>=0,シート!$X$87-C365>=0),1,0)","v":{"$error":"#VALUE!"}},{"$error":"#N/A"},{"$error":"#N/A"},{"$f":"IF(AND(C365-シート!$CP$87>=0,シート!$DK$87-C365>=0),1,0)","v":{"$error":"#VALUE!"}},{"$error":"#N/A"},{"$error":"#N/A"},"1900-12-27"]
[364,36,"1900-12-28",{"$f":"+IF(AND(C366-シート!$BV$67>=0,シート!$AI$19-C366>=0),1,0)","v":{"$error":"#N/A"}},{"$f":"IF(AND(C366-シート!$C$87>=0,シート!$X$87-C366>=0),1,0)","v":{"$error":"#VALUE!"}},{"$error":"#N/A"},{"$error":"#N/A"},{"$f":"IF(AND(C366-シート!$CP$87>=0,シート!$DK$87-C366>=0),1,0)","v":{"$error":"#VALUE!"}},{"$error":"#N/A"},{"$error":"#N/A"},"1900-12-28"]
[365,36,"1900-12-29",{"$f":"+IF(AND(C367-シート!$BV$67>=0,シート!$AI$19-C367>=0),1,0)","v":{"$error":"#N/A"}},{"$f":"IF(AND(C367-シート!$C$87>=0,シート!$X$87-C367>=0),1,0)","v":{"$error":"#VALUE!"}},{"$error":"#N/A"},{"$error":"#N/A"},{"$f":"IF(AND(C367-シート!$CP$87>=0,シート!$DK$87-C367>=0),1,0)","v":{"$error":"#VALUE!"}},{"$error":"#N/A"},{"$error":"#N/A"},"1900-12-29"]
[366,37,"1900-12-30",{"$f":"+IF(AND(C368-シート!$BV$67>=0,シート!$AI$19-C368>=0),1,0)","v":{"$error":"#N/A"}},{"$f":"IF(AND(C368-シート!$C$87>=0,シート!$X$87-C368>=0),1,0)","v":{"$error":"#VALUE!"}},{"$error":"#N/A"},{"$error":"#N/A"},{"$f":"IF(AND(C368-シート!$CP$87>=0,シート!$DK$87-C368>=0),1,0)","v":{"$error":"#VALUE!"}},{"$error":"#N/A"},{"$error":"#N/A"},"1900-12-30"]
[367,37,"1900-12-31",{"$f":"+IF(AND(C369-シート!$BV$67>=0,シート!$AI$19-C369>=0),1,0)","v":{"$error":"#N/A"}},{"$f":"IF(AND(C369-シート!$C$87>=0,シート!$X$87-C369>=0),1,0)","v":{"$error":"#VALUE!"}},{"$error":"#N/A"},{"$error":"#N/A"},{"$f":"IF(AND(C369-シート!$CP$87>=0,シート!$DK$87-C369>=0),1,0)","v":{"$error":"#VALUE!"}},{"$error":"#N/A"},{"$error":"#N/A"},"1900-12-31"]
[368,37,"1901-01-01",{"$f":"+IF(AND(C370-シート!$BV$67>=0,シート!$AI$19-C370>=0),1,0)","v":{"$error":"#N/A"}},{"$f":"IF(AND(C370-シート!$C$87>=0,シート!$X$87-C370>=0),1,0)","v":{"$error":"#VALUE!"}},{"$error":"#N/A"},{"$error":"#N/A"},{"$f":"IF(AND(C370-シート!$CP$87>=0,シート!$DK$87-C370>=0),1,0)","v":{"$error":"#VALUE!"}},{"$error":"#N/A"},{"$error":"#N/A"},"1901-01-01"]
[369,37,"1901-01-02",{"$f":"+IF(AND(C371-シート!$BV$67>=0,シート!$AI$19-C371>=0),1,0)","v":{"$error":"#N/A"}},{"$f":"IF(AND(C371-シート!$C$87>=0,シート!$X$87-C371>=0),1,0)","v":{"$error":"#VALUE!"}},{"$error":"#N/A"},{"$error":"#N/A"},{"$f":"IF(AND(C371-シート!$CP$87>=0,シート!$DK$87-C371>=0),1,0)","v":{"$error":"#VALUE!"}},{"$error":"#N/A"},{"$error":"#N/A"},"1901-01-02"]
[370,37,"1901-01-03",{"$f":"+IF(AND(C372-シート!$BV$67>=0,シート!$AI$19-C372>=0),1,0)","v":{"$error":"#N/A"}},{"$f":"IF(AND(C372-シート!$C$87>=0,シート!$X$87-C372>=0),1,0)","v":{"$error":"#VALUE!"}},{"$error":"#N/A"},{"$error":"#N/A"},{"$f":"IF(AND(C372-シート!$CP$87>=0,シート!$DK$87-C372>=0),1,0)","v":{"$error":"#VALUE!"}},{"$error":"#N/A"},{"$error":"#N/A"},"1901-01-03"]
[371,37,"1901-01-04",{"$f":"+IF(AND(C373-シート!$BV$67>=0,シート!$AI$19-C373>=0),1,0)","v":{"$error":"#N/A"}},{"$f":"IF(AND(C373-シート!$C$87>=0,シート!$X$87-C373>=0),1,0)","v":{"$error":"#VALUE!"}},{"$error":"#N/A"},{"$error":"#N/A"},{"$f":"IF(AND(C373-シート!$CP$87>=0,シート!$DK$87-C373>=0),1,0)","v":{"$error":"#VALUE!"}},{"$error":"#N/A"},{"$error":"#N/A"},"1901-01-04"]
[372,37,"1901-01-05",{"$f":"+IF(AND(C374-シート!$BV$67>=0,シート!$AI$19-C374>=0),1,0)","v":{"$error":"#N/A"}},{"$f":"IF(AND(C374-シート!$C$87>=0,シート!$X$87-C374>=0),1,0)","v":{"$error":"#VALUE!"}},{"$error":"#N/A"},{"$error":"#N/A"},{"$f":"IF(AND(C374-シート!$CP$87>=0,シート!$DK$87-C374>=0),1,0)","v":{"$error":"#VALUE!"}},{"$error":"#N/A"},{"$error":"#N/A"},"1901-01-05"]
[373,37,"1901-01-06",{"$f":"+IF(AND(C375-シート!$BV$67>=0,シート!$AI$19-C375>=0),1,0)","v":{"$error":"#N/A"}},{"$f":"IF(AND(C375-シート!$C$87>=0,シート!$X$87-C375>=0),1,0)","v":{"$error":"#VALUE!"}},{"$error":"#N/A"},{"$error":"#N/A"},{"$f":"IF(AND(C375-シート!$CP$87>=0,シート!$DK$87-C375>=0),1,0)","v":{"$error":"#VALUE!"}},{"$error":"#N/A"},{"$error":"#N/A"},"1901-01-06"]
[374,37,"1901-01-07",{"$f":"+IF(AND(C376-シート!$BV$67>=0,シート!$AI$19-C376>=0),1,0)","v":{"$error":"#N/A"}},{"$f":"IF(AND(C376-シート!$C$87>=0,シート!$X$87-C376>=0),1,0)","v":{"$error":"#VALUE!"}},{"$error":"#N/A"},{"$error":"#N/A"},{"$f":"IF(AND(C376-シート!$CP$87>=0,シート!$DK$87-C376>=0),1,0)","v":{"$error":"#VALUE!"}},{"$error":"#N/A"},{"$error":"#N/A"},"1901-01-07"]
[375,37,"1901-01-08",{"$f":"+IF(AND(C377-シート!$BV$67>=0,シート!$AI$19-C377>=0),1,0)","v":{"$error":"#N/A"}},{"$f":"IF(AND(C377-シート!$C$87>=0,シート!$X$87-C377>=0),1,0)","v":{"$error":"#VALUE!"}},{"$error":"#N/A"},{"$error":"#N/A"},{"$f":"IF(AND(C377-シート!$CP$87>=0,シート!$DK$87-C377>=0),1,0)","v":{"$error":"#VALUE!"}},{"$error":"#N/A"},{"$error":"#N/A"},"1901-01-08"]
[376,38,"1901-01-09",{"$f":"+IF(AND(C378-シート!$BV$67>=0,シート!$AI$19-C378>=0),1,0)","v":{"$error":"#N/A"}},{"$f":"IF(AND(C378-シート!$C$87>=0,シート!$X$87-C378>=0),1,0)","v":{"$error":"#VALUE!"}},{"$error":"#N/A"},{"$error":"#N/A"},{"$f":"IF(AND(C378-シート!$CP$87>=0,シート!$DK$87-C378>=0),1,0)","v":{"$error":"#VALUE!"}},{"$error":"#N/A"},{"$error":"#N/A"},"1901-01-09"]
[377,38,"1901-01-10",{"$f":"+IF(AND(C379-シート!$BV$67>=0,シート!$AI$19-C379>=0),1,0)","v":{"$error":"#N/A"}},{"$f":"IF(AND(C379-シート!$C$87>=0,シート!$X$87-C379>=0),1,0)","v":{"$error":"#VALUE!"}},{"$error":"#N/A"},{"$error":"#N/A"},{"$f":"IF(AND(C379-シート!$CP$87>=0,シート!$DK$87-C379>=0),1,0)","v":{"$error":"#VALUE!"}},{"$error":"#N/A"},{"$error":"#N/A"},"1901-01-10"]
[378,38,"1901-01-11",{"$f":"+IF(AND(C380-シート!$BV$67>=0,シート!$AI$19-C380>=0),1,0)","v":{"$error":"#N/A"}},{"$f":"IF(AND(C380-シート!$C$87>=0,シート!$X$87-C380>=0),1,0)","v":{"$error":"#VALUE!"}},{"$error":"#N/A"},{"$error":"#N/A"},{"$f":"IF(AND(C380-シート!$CP$87>=0,シート!$DK$87-C380>=0),1,0)","v":{"$error":"#VALUE!"}},{"$error":"#N/A"},{"$error":"#N/A"},"1901-01-11"]
[379,38,"1901-01-12",{"$f":"+IF(AND(C381-シート!$BV$67>=0,シート!$AI$19-C381>=0),1,0)","v":{"$error":"#N/A"}},{"$f":"IF(AND(C381-シート!$C$87>=0,シート!$X$87-C381>=0),1,0)","v":{"$error":"#VALUE!"}},{"$error":"#N/A"},{"$error":"#N/A"},{"$f":"IF(AND(C381-シート!$CP$87>=0,シート!$DK$87-C381>=0),1,0)","v":{"$error":"#VALUE!"}},{"$error":"#N/A"},{"$error":"#N/A"},"1901-01-12"]
[380,38,"1901-01-13",{"$f":"+IF(AND(C382-シート!$BV$67>=0,シート!$AI$19-C382>=0),1,0)","v":{"$error":"#N/A"}},{"$f":"IF(AND(C382-シート!$C$87>=0,シート!$X$87-C382>=0),1,0)","v":{"$error":"#VALUE!"}},{"$error":"#N/A"},{"$error":"#N/A"},{"$f":"IF(AND(C382-シート!$CP$87>=0,シート!$DK$87-C382>=0),1,0)","v":{"$error":"#VALUE!"}},{"$error":"#N/A"},{"$error":"#N/A"},"1901-01-13"]
[381,38,"1901-01-14",{"$f":"+IF(AND(C383-シート!$BV$67>=0,シート!$AI$19-C383>=0),1,0)","v":{"$error":"#N/A"}},{"$f":"IF(AND(C383-シート!$C$87>=0,シート!$X$87-C383>=0),1,0)","v":{"$error":"#VALUE!"}},{"$error":"#N/A"},{"$error":"#N/A"},{"$f":"IF(AND(C383-シート!$CP$87>=0,シート!$DK$87-C383>=0),1,0)","v":{"$error":"#VALUE!"}},{"$error":"#N/A"},{"$error":"#N/A"},"1901-01-14"]
[382,38,"1901-01-15",{"$f":"+IF(AND(C384-シート!$BV$67>=0,シート!$AI$19-C384>=0),1,0)","v":{"$error":"#N/A"}},{"$f":"IF(AND(C384-シート!$C$87>=0,シート!$X$87-C384>=0),1,0)","v":{"$error":"#VALUE!"}},{"$error":"#N/A"},{"$error":"#N/A"},{"$f":"IF(AND(C384-シート!$CP$87>=0,シート!$DK$87-C384>=0),1,0)","v":{"$error":"#VALUE!"}},{"$error":"#N/A"},{"$error":"#N/A"},"1901-01-15"]
[383,38,"1901-01-16",{"$f":"+IF(AND(C385-シート!$BV$67>=0,シート!$AI$19-C385>=0),1,0)","v":{"$error":"#N/A"}},{"$f":"IF(AND(C385-シート!$C$87>=0,シート!$X$87-C385>=0),1,0)","v":{"$error":"#VALUE!"}},{"$error":"#N/A"},{"$error":"#N/A"},{"$f":"IF(AND(C385-シート!$CP$87>=0,シート!$DK$87-C385>=0),1,0)","v":{"$error":"#VALUE!"}},{"$error":"#N/A"},{"$error":"#N/A"},"1901-01-16"]
[384,38,"1901-01-17",{"$f":"+IF(AND(C386-シート!$BV$67>=0,シート!$AI$19-C386>=0),1,0)","v":{"$error":"#N/A"}},{"$f":"IF(AND(C386-シート!$C$87>=0,シート!$X$87-C386>=0),1,0)","v":{"$error":"#VALUE!"}},{"$error":"#N/A"},{"$error":"#N/A"},{"$f":"IF(AND(C386-シート!$CP$87>=0,シート!$DK$87-C386>=0),1,0)","v":{"$error":"#VALUE!"}},{"$error":"#N/A"},{"$error":"#N/A"},"1901-01-17"]
[385,38,"1901-01-18",{"$f":"+IF(AND(C387-シート!$BV$67>=0,シート!$AI$19-C387>=0),1,0)","v":{"$error":"#N/A"}},{"$f":"IF(AND(C387-シート!$C$87>=0,シート!$X$87-C387>=0),1,0)","v":{"$error":"#VALUE!"}},{"$error":"#N/A"},{"$error":"#N/A"},{"$f":"IF(AND(C387-シート!$CP$87>=0,シート!$DK$87-C387>=0),1,0)","v":{"$error":"#VALUE!"}},{"$error":"#N/A"},{"$error":"#N/A"},"1901-01-18"]
[386,38,"1901-01-19",{"$f":"+IF(AND(C388-シート!$BV$67>=0,シート!$AI$19-C388>=0),1,0)","v":{"$error":"#N/A"}},{"$f":"IF(AND(C388-シート!$C$87>=0,シート!$X$87-C388>=0),1,0)","v":{"$error":"#VALUE!"}},{"$f":"IF(+D388+E388=2,1,0)","v":{"$error":"#N/A"}},{"$error":"#N/A"},{"$f":"IF(AND(C388-シート!$CP$87>=0,シート!$DK$87-C388>=0),1,0)","v":{"$error":"#VALUE!"}},{"$f":"IF(+D388+H388=2,1,0)","v":{"$error":"#N/A"}},{"$error":"#N/A"},{"$f":"+C388","v":"1901-01-19"}]
[{"$f":"+A388+1","v":387},39,{"$f":"+C388+1","v":"1901-01-20"},{"$f":"+IF(AND(C389-シート!$BV$67>=0,シート!$AI$19-C389>=0),1,0)","v":{"$error":"#N/A"}},{"$f":"IF(AND(C389-シート!$C$87>=0,シート!$X$87-C389>=0),1,0)","v":{"$error":"#VALUE!"}},{"$error":"#N/A"},{"$f":"+G388+F389","v":{"$error":"#N/A"}},{"$f":"IF(AND(C389-シート!$CP$87>=0,シート!$DK$87-C389>=0),1,0)","v":{"$error":"#VALUE!"}},{"$error":"#N/A"},{"$f":"+J388+I389","v":{"$error":"#N/A"}},"1901-01-20"]
[388,39,"1901-01-21",{"$f":"+IF(AND(C390-シート!$BV$67>=0,シート!$AI$19-C390>=0),1,0)","v":{"$error":"#N/A"}},{"$f":"IF(AND(C390-シート!$C$87>=0,シート!$X$87-C390>=0),1,0)","v":{"$error":"#VALUE!"}},{"$error":"#N/A"},{"$error":"#N/A"},{"$f":"IF(AND(C390-シート!$CP$87>=0,シート!$DK$87-C390>=0),1,0)","v":{"$error":"#VALUE!"}},{"$error":"#N/A"},{"$error":"#N/A"},"1901-01-21"]
[389,39,"1901-01-22",{"$f":"+IF(AND(C391-シート!$BV$67>=0,シート!$AI$19-C391>=0),1,0)","v":{"$error":"#N/A"}},{"$f":"IF(AND(C391-シート!$C$87>=0,シート!$X$87-C391>=0),1,0)","v":{"$error":"#VALUE!"}},{"$error":"#N/A"},{"$error":"#N/A"},{"$f":"IF(AND(C391-シート!$CP$87>=0,シート!$DK$87-C391>=0),1,0)","v":{"$error":"#VALUE!"}},{"$error":"#N/A"},{"$error":"#N/A"},"1901-01-22"]
[390,39,"1901-01-23",{"$f":"+IF(AND(C392-シート!$BV$67>=0,シート!$AI$19-C392>=0),1,0)","v":{"$error":"#N/A"}},{"$f":"IF(AND(C392-シート!$C$87>=0,シート!$X$87-C392>=0),1,0)","v":{"$error":"#VALUE!"}},{"$error":"#N/A"},{"$error":"#N/A"},{"$f":"IF(AND(C392-シート!$CP$87>=0,シート!$DK$87-C392>=0),1,0)","v":{"$error":"#VALUE!"}},{"$error":"#N/A"},{"$error":"#N/A"},"1901-01-23"]
[391,39,"1901-01-24",{"$f":"+IF(AND(C393-シート!$BV$67>=0,シート!$AI$19-C393>=0),1,0)","v":{"$error":"#N/A"}},{"$f":"IF(AND(C393-シート!$C$87>=0,シート!$X$87-C393>=0),1,0)","v":{"$error":"#VALUE!"}},{"$error":"#N/A"},{"$error":"#N/A"},{"$f":"IF(AND(C393-シート!$CP$87>=0,シート!$DK$87-C393>=0),1,0)","v":{"$error":"#VALUE!"}},{"$error":"#N/A"},{"$error":"#N/A"},"1901-01-24"]
[392,39,"1901-01-25",{"$f":"+IF(AND(C394-シート!$BV$67>=0,シート!$AI$19-C394>=0),1,0)","v":{"$error":"#N/A"}},{"$f":"IF(AND(C394-シート!$C$87>=0,シート!$X$87-C394>=0),1,0)","v":{"$error":"#VALUE!"}},{"$error":"#N/A"},{"$error":"#N/A"},{"$f":"IF(AND(C394-シート!$CP$87>=0,シート!$DK$87-C394>=0),1,0)","v":{"$error":"#VALUE!"}},{"$error":"#N/A"},{"$error":"#N/A"},"1901-01-25"]
[393,39,"1901-01-26",{"$f":"+IF(AND(C395-シート!$BV$67>=0,シート!$AI$19-C395>=0),1,0)","v":{"$error":"#N/A"}},{"$f":"IF(AND(C395-シート!$C$87>=0,シート!$X$87-C395>=0),1,0)","v":{"$error":"#VALUE!"}},{"$error":"#N/A"},{"$error":"#N/A"},{"$f":"IF(AND(C395-シート!$CP$87>=0,シート!$DK$87-C395>=0),1,0)","v":{"$error":"#VALUE!"}},{"$error":"#N/A"},{"$error":"#N/A"},"1901-01-26"]
[394,39,"1901-01-27",{"$f":"+IF(AND(C396-シート!$BV$67>=0,シート!$AI$19-C396>=0),1,0)","v":{"$error":"#N/A"}},{"$f":"IF(AND(C396-シート!$C$87>=0,シート!$X$87-C396>=0),1,0)","v":{"$error":"#VALUE!"}},{"$error":"#N/A"},{"$error":"#N/A"},{"$f":"IF(AND(C396-シート!$CP$87>=0,シート!$DK$87-C396>=0),1,0)","v":{"$error":"#VALUE!"}},{"$error":"#N/A"},{"$error":"#N/A"},"1901-01-27"]
[395,39,"1901-01-28",{"$f":"+IF(AND(C397-シート!$BV$67>=0,シート!$AI$19-C397>=0),1,0)","v":{"$error":"#N/A"}},{"$f":"IF(AND(C397-シート!$C$87>=0,シート!$X$87-C397>=0),1,0)","v":{"$error":"#VALUE!"}},{"$error":"#N/A"},{"$error":"#N/A"},{"$f":"IF(AND(C397-シート!$CP$87>=0,シート!$DK$87-C397>=0),1,0)","v":{"$error":"#VALUE!"}},{"$error":"#N/A"},{"$error":"#N/A"},"1901-01-28"]
[396,39,"1901-01-29",{"$f":"+IF(AND(C398-シート!$BV$67>=0,シート!$AI$19-C398>=0),1,0)","v":{"$error":"#N/A"}},{"$f":"IF(AND(C398-シート!$C$87>=0,シート!$X$87-C398>=0),1,0)","v":{"$error":"#VALUE!"}},{"$error":"#N/A"},{"$error":"#N/A"},{"$f":"IF(AND(C398-シート!$CP$87>=0,シート!$DK$87-C398>=0),1,0)","v":{"$error":"#VALUE!"}},{"$error":"#N/A"},{"$error":"#N/A"},"1901-01-29"]
[397,40,"1901-01-30",{"$f":"+IF(AND(C399-シート!$BV$67>=0,シート!$AI$19-C399>=0),1,0)","v":{"$error":"#N/A"}},{"$f":"IF(AND(C399-シート!$C$87>=0,シート!$X$87-C399>=0),1,0)","v":{"$error":"#VALUE!"}},{"$error":"#N/A"},{"$error":"#N/A"},{"$f":"IF(AND(C399-シート!$CP$87>=0,シート!$DK$87-C399>=0),1,0)","v":{"$error":"#VALUE!"}},{"$error":"#N/A"},{"$error":"#N/A"},"1901-01-30"]
[398,40,"1901-01-31",{"$f":"+IF(AND(C400-シート!$BV$67>=0,シート!$AI$19-C400>=0),1,0)","v":{"$error":"#N/A"}},{"$f":"IF(AND(C400-シート!$C$87>=0,シート!$X$87-C400>=0),1,0)","v":{"$error":"#VALUE!"}},{"$error":"#N/A"},{"$error":"#N/A"},{"$f":"IF(AND(C400-シート!$CP$87>=0,シート!$DK$87-C400>=0),1,0)","v":{"$error":"#VALUE!"}},{"$error":"#N/A"},{"$error":"#N/A"},"1901-01-31"]
[399,40,"1901-02-01",{"$f":"+IF(AND(C401-シート!$BV$67>=0,シート!$AI$19-C401>=0),1,0)","v":{"$error":"#N/A"}},{"$f":"IF(AND(C401-シート!$C$87>=0,シート!$X$87-C401>=0),1,0)","v":{"$error":"#VALUE!"}},{"$error":"#N/A"},{"$error":"#N/A"},{"$f":"IF(AND(C401-シート!$CP$87>=0,シート!$DK$87-C401>=0),1,0)","v":{"$error":"#VALUE!"}},{"$error":"#N/A"},{"$error":"#N/A"},"1901-02-01"]
[400,40,"1901-02-02",{"$f":"+IF(AND(C402-シート!$BV$67>=0,シート!$AI$19-C402>=0),1,0)","v":{"$error":"#N/A"}},{"$f":"IF(AND(C402-シート!$C$87>=0,シート!$X$87-C402>=0),1,0)","v":{"$error":"#VALUE!"}},{"$error":"#N/A"},{"$error":"#N/A"},{"$f":"IF(AND(C402-シート!$CP$87>=0,シート!$DK$87-C402>=0),1,0)","v":{"$error":"#VALUE!"}},{"$error":"#N/A"},{"$error":"#N/A"},"1901-02-02"]
[401,40,"1901-02-03",{"$f":"+IF(AND(C403-シート!$BV$67>=0,シート!$AI$19-C403>=0),1,0)","v":{"$error":"#N/A"}},{"$f":"IF(AND(C403-シート!$C$87>=0,シート!$X$87-C403>=0),1,0)","v":{"$error":"#VALUE!"}},{"$error":"#N/A"},{"$error":"#N/A"},{"$f":"IF(AND(C403-シート!$CP$87>=0,シート!$DK$87-C403>=0),1,0)","v":{"$error":"#VALUE!"}},{"$error":"#N/A"},{"$error":"#N/A"},"1901-02-03"]
[402,40,"1901-02-04",{"$f":"+IF(AND(C404-シート!$BV$67>=0,シート!$AI$19-C404>=0),1,0)","v":{"$error":"#N/A"}},{"$f":"IF(AND(C404-シート!$C$87>=0,シート!$X$87-C404>=0),1,0)","v":{"$error":"#VALUE!"}},{"$error":"#N/A"},{"$error":"#N/A"},{"$f":"IF(AND(C404-シート!$CP$87>=0,シート!$DK$87-C404>=0),1,0)","v":{"$error":"#VALUE!"}},{"$error":"#N/A"},{"$error":"#N/A"},"1901-02-04"]
[403,40,"1901-02-05",{"$f":"+IF(AND(C405-シート!$BV$67>=0,シート!$AI$19-C405>=0),1,0)","v":{"$error":"#N/A"}},{"$f":"IF(AND(C405-シート!$C$87>=0,シート!$X$87-C405>=0),1,0)","v":{"$error":"#VALUE!"}},{"$error":"#N/A"},{"$error":"#N/A"},{"$f":"IF(AND(C405-シート!$CP$87>=0,シート!$DK$87-C405>=0),1,0)","v":{"$error":"#VALUE!"}},{"$error":"#N/A"},{"$error":"#N/A"},"1901-02-05"]
[404,40,"1901-02-06",{"$f":"+IF(AND(C406-シート!$BV$67>=0,シート!$AI$19-C406>=0),1,0)","v":{"$error":"#N/A"}},{"$f":"IF(AND(C406-シート!$C$87>=0,シート!$X$87-C406>=0),1,0)","v":{"$error":"#VALUE!"}},{"$error":"#N/A"},{"$error":"#N/A"},{"$f":"IF(AND(C406-シート!$CP$87>=0,シート!$DK$87-C406>=0),1,0)","v":{"$error":"#VALUE!"}},{"$error":"#N/A"},{"$error":"#N/A"},"1901-02-06"]
[405,40,"1901-02-07",{"$f":"+IF(AND(C407-シート!$BV$67>=0,シート!$AI$19-C407>=0),1,0)","v":{"$error":"#N/A"}},{"$f":"IF(AND(C407-シート!$C$87>=0,シート!$X$87-C407>=0),1,0)","v":{"$error":"#VALUE!"}},{"$error":"#N/A"},{"$error":"#N/A"},{"$f":"IF(AND(C407-シート!$CP$87>=0,シート!$DK$87-C407>=0),1,0)","v":{"$error":"#VALUE!"}},{"$error":"#N/A"},{"$error":"#N/A"},"1901-02-07"]
[406,40,"1901-02-08",{"$f":"+IF(AND(C408-シート!$BV$67>=0,シート!$AI$19-C408>=0),1,0)","v":{"$error":"#N/A"}},{"$f":"IF(AND(C408-シート!$C$87>=0,シート!$X$87-C408>=0),1,0)","v":{"$error":"#VALUE!"}},{"$error":"#N/A"},{"$error":"#N/A"},{"$f":"IF(AND(C408-シート!$CP$87>=0,シート!$DK$87-C408>=0),1,0)","v":{"$error":"#VALUE!"}},{"$error":"#N/A"},{"$error":"#N/A"},"1901-02-08"]
[407,41,"1901-02-09",{"$f":"+IF(AND(C409-シート!$BV$67>=0,シート!$AI$19-C409>=0),1,0)","v":{"$error":"#N/A"}},{"$f":"IF(AND(C409-シート!$C$87>=0,シート!$X$87-C409>=0),1,0)","v":{"$error":"#VALUE!"}},{"$error":"#N/A"},{"$error":"#N/A"},{"$f":"IF(AND(C409-シート!$CP$87>=0,シート!$DK$87-C409>=0),1,0)","v":{"$error":"#VALUE!"}},{"$error":"#N/A"},{"$error":"#N/A"},"1901-02-09"]
[408,41,"1901-02-10",{"$f":"+IF(AND(C410-シート!$BV$67>=0,シート!$AI$19-C410>=0),1,0)","v":{"$error":"#N/A"}},{"$f":"IF(AND(C410-シート!$C$87>=0,シート!$X$87-C410>=0),1,0)","v":{"$error":"#VALUE!"}},{"$error":"#N/A"},{"$error":"#N/A"},{"$f":"IF(AND(C410-シート!$CP$87>=0,シート!$DK$87-C410>=0),1,0)","v":{"$error":"#VALUE!"}},{"$error":"#N/A"},{"$error":"#N/A"},"1901-02-10"]
[409,41,"1901-02-11",{"$f":"+IF(AND(C411-シート!$BV$67>=0,シート!$AI$19-C411>=0),1,0)","v":{"$error":"#N/A"}},{"$f":"IF(AND(C411-シート!$C$87>=0,シート!$X$87-C411>=0),1,0)","v":{"$error":"#VALUE!"}},{"$error":"#N/A"},{"$error":"#N/A"},{"$f":"IF(AND(C411-シート!$CP$87>=0,シート!$DK$87-C411>=0),1,0)","v":{"$error":"#VALUE!"}},{"$error":"#N/A"},{"$error":"#N/A"},"1901-02-11"]
[410,41,"1901-02-12",{"$f":"+IF(AND(C412-シート!$BV$67>=0,シート!$AI$19-C412>=0),1,0)","v":{"$error":"#N/A"}},{"$f":"IF(AND(C412-シート!$C$87>=0,シート!$X$87-C412>=0),1,0)","v":{"$error":"#VALUE!"}},{"$error":"#N/A"},{"$error":"#N/A"},{"$f":"IF(AND(C412-シート!$CP$87>=0,シート!$DK$87-C412>=0),1,0)","v":{"$error":"#VALUE!"}},{"$error":"#N/A"},{"$error":"#N/A"},"1901-02-12"]
[411,41,"1901-02-13",{"$f":"+IF(AND(C413-シート!$BV$67>=0,シート!$AI$19-C413>=0),1,0)","v":{"$error":"#N/A"}},{"$f":"IF(AND(C413-シート!$C$87>=0,シート!$X$87-C413>=0),1,0)","v":{"$error":"#VALUE!"}},{"$error":"#N/A"},{"$error":"#N/A"},{"$f":"IF(AND(C413-シート!$CP$87>=0,シート!$DK$87-C413>=0),1,0)","v":{"$error":"#VALUE!"}},{"$error":"#N/A"},{"$error":"#N/A"},"1901-02-13"]
[412,41,"1901-02-14",{"$f":"+IF(AND(C414-シート!$BV$67>=0,シート!$AI$19-C414>=0),1,0)","v":{"$error":"#N/A"}},{"$f":"IF(AND(C414-シート!$C$87>=0,シート!$X$87-C414>=0),1,0)","v":{"$error":"#VALUE!"}},{"$error":"#N/A"},{"$error":"#N/A"},{"$f":"IF(AND(C414-シート!$CP$87>=0,シート!$DK$87-C414>=0),1,0)","v":{"$error":"#VALUE!"}},{"$error":"#N/A"},{"$error":"#N/A"},"1901-02-14"]
[413,41,"1901-02-15",{"$f":"+IF(AND(C415-シート!$BV$67>=0,シート!$AI$19-C415>=0),1,0)","v":{"$error":"#N/A"}},{"$f":"IF(AND(C415-シート!$C$87>=0,シート!$X$87-C415>=0),1,0)","v":{"$error":"#VALUE!"}},{"$error":"#N/A"},{"$error":"#N/A"},{"$f":"IF(AND(C415-シート!$CP$87>=0,シート!$DK$87-C415>=0),1,0)","v":{"$error":"#VALUE!"}},{"$error":"#N/A"},{"$error":"#N/A"},"1901-02-15"]
[414,41,"1901-02-16",{"$f":"+IF(AND(C416-シート!$BV$67>=0,シート!$AI$19-C416>=0),1,0)","v":{"$error":"#N/A"}},{"$f":"IF(AND(C416-シート!$C$87>=0,シート!$X$87-C416>=0),1,0)","v":{"$error":"#VALUE!"}},{"$error":"#N/A"},{"$error":"#N/A"},{"$f":"IF(AND(C416-シート!$CP$87>=0,シート!$DK$87-C416>=0),1,0)","v":{"$error":"#VALUE!"}},{"$error":"#N/A"},{"$error":"#N/A"},"1901-02-16"]
[415,41,"1901-02-17",{"$f":"+IF(AND(C417-シート!$BV$67>=0,シート!$AI$19-C417>=0),1,0)","v":{"$error":"#N/A"}},{"$f":"IF(AND(C417-シート!$C$87>=0,シート!$X$87-C417>=0),1,0)","v":{"$error":"#VALUE!"}},{"$error":"#N/A"},{"$error":"#N/A"},{"$f":"IF(AND(C417-シート!$CP$87>=0,シート!$DK$87-C417>=0),1,0)","v":{"$error":"#VALUE!"}},{"$error":"#N/A"},{"$error":"#N/A"},"1901-02-17"]
[416,41,"1901-02-18",{"$f":"+IF(AND(C418-シート!$BV$67>=0,シート!$AI$19-C418>=0),1,0)","v":{"$error":"#N/A"}},{"$f":"IF(AND(C418-シート!$C$87>=0,シート!$X$87-C418>=0),1,0)","v":{"$error":"#VALUE!"}},{"$error":"#N/A"},{"$error":"#N/A"},{"$f":"IF(AND(C418-シート!$CP$87>=0,シート!$DK$87-C418>=0),1,0)","v":{"$error":"#VALUE!"}},{"$error":"#N/A"},{"$error":"#N/A"},"1901-02-18"]
[417,42,"1901-02-19",{"$f":"+IF(AND(C419-シート!$BV$67>=0,シート!$AI$19-C419>=0),1,0)","v":{"$error":"#N/A"}},{"$f":"IF(AND(C419-シート!$C$87>=0,シート!$X$87-C419>=0),1,0)","v":{"$error":"#VALUE!"}},{"$error":"#N/A"},{"$error":"#N/A"},{"$f":"IF(AND(C419-シート!$CP$87>=0,シート!$DK$87-C419>=0),1,0)","v":{"$error":"#VALUE!"}},{"$error":"#N/A"},{"$error":"#N/A"},"1901-02-19"]
[418,42,"1901-02-20",{"$f":"+IF(AND(C420-シート!$BV$67>=0,シート!$AI$19-C420>=0),1,0)","v":{"$error":"#N/A"}},{"$f":"IF(AND(C420-シート!$C$87>=0,シート!$X$87-C420>=0),1,0)","v":{"$error":"#VALUE!"}},{"$error":"#N/A"},{"$error":"#N/A"},{"$f":"IF(AND(C420-シート!$CP$87>=0,シート!$DK$87-C420>=0),1,0)","v":{"$error":"#VALUE!"}},{"$error":"#N/A"},{"$error":"#N/A"},"1901-02-20"]
[419,42,"1901-02-21",{"$f":"+IF(AND(C421-シート!$BV$67>=0,シート!$AI$19-C421>=0),1,0)","v":{"$error":"#N/A"}},{"$f":"IF(AND(C421-シート!$C$87>=0,シート!$X$87-C421>=0),1,0)","v":{"$error":"#VALUE!"}},{"$error":"#N/A"},{"$error":"#N/A"},{"$f":"IF(AND(C421-シート!$CP$87>=0,シート!$DK$87-C421>=0),1,0)","v":{"$error":"#VALUE!"}},{"$error":"#N/A"},{"$error":"#N/A"},"1901-02-21"]
[420,42,"1901-02-22",{"$f":"+IF(AND(C422-シート!$BV$67>=0,シート!$AI$19-C422>=0),1,0)","v":{"$error":"#N/A"}},{"$f":"IF(AND(C422-シート!$C$87>=0,シート!$X$87-C422>=0),1,0)","v":{"$error":"#VALUE!"}},{"$error":"#N/A"},{"$error":"#N/A"},{"$f":"IF(AND(C422-シート!$CP$87>=0,シート!$DK$87-C422>=0),1,0)","v":{"$error":"#VALUE!"}},{"$error":"#N/A"},{"$error":"#N/A"},"1901-02-22"]
[421,42,"1901-02-23",{"$f":"+IF(AND(C423-シート!$BV$67>=0,シート!$AI$19-C423>=0),1,0)","v":{"$error":"#N/A"}},{"$f":"IF(AND(C423-シート!$C$87>=0,シート!$X$87-C423>=0),1,0)","v":{"$error":"#VALUE!"}},{"$error":"#N/A"},{"$error":"#N/A"},{"$f":"IF(AND(C423-シート!$CP$87>=0,シート!$DK$87-C423>=0),1,0)","v":{"$error":"#VALUE!"}},{"$error":"#N/A"},{"$error":"#N/A"},"1901-02-23"]
[422,42,"1901-02-24",{"$f":"+IF(AND(C424-シート!$BV$67>=0,シート!$AI$19-C424>=0),1,0)","v":{"$error":"#N/A"}},{"$f":"IF(AND(C424-シート!$C$87>=0,シート!$X$87-C424>=0),1,0)","v":{"$error":"#VALUE!"}},{"$error":"#N/A"},{"$error":"#N/A"},{"$f":"IF(AND(C424-シート!$CP$87>=0,シート!$DK$87-C424>=0),1,0)","v":{"$error":"#VALUE!"}},{"$error":"#N/A"},{"$error":"#N/A"},"1901-02-24"]
[423,42,"1901-02-25",{"$f":"+IF(AND(C425-シート!$BV$67>=0,シート!$AI$19-C425>=0),1,0)","v":{"$error":"#N/A"}},{"$f":"IF(AND(C425-シート!$C$87>=0,シート!$X$87-C425>=0),1,0)","v":{"$error":"#VALUE!"}},{"$error":"#N/A"},{"$error":"#N/A"},{"$f":"IF(AND(C425-シート!$CP$87>=0,シート!$DK$87-C425>=0),1,0)","v":{"$error":"#VALUE!"}},{"$error":"#N/A"},{"$error":"#N/A"},"1901-02-25"]
[424,42,"1901-02-26",{"$f":"+IF(AND(C426-シート!$BV$67>=0,シート!$AI$19-C426>=0),1,0)","v":{"$error":"#N/A"}},{"$f":"IF(AND(C426-シート!$C$87>=0,シート!$X$87-C426>=0),1,0)","v":{"$error":"#VALUE!"}},{"$error":"#N/A"},{"$error":"#N/A"},{"$f":"IF(AND(C426-シート!$CP$87>=0,シート!$DK$87-C426>=0),1,0)","v":{"$error":"#VALUE!"}},{"$error":"#N/A"},{"$error":"#N/A"},"1901-02-26"]
[425,42,"1901-02-27",{"$f":"+IF(AND(C427-シート!$BV$67>=0,シート!$AI$19-C427>=0),1,0)","v":{"$error":"#N/A"}},{"$f":"IF(AND(C427-シート!$C$87>=0,シート!$X$87-C427>=0),1,0)","v":{"$error":"#VALUE!"}},{"$error":"#N/A"},{"$error":"#N/A"},{"$f":"IF(AND(C427-シート!$CP$87>=0,シート!$DK$87-C427>=0),1,0)","v":{"$error":"#VALUE!"}},{"$error":"#N/A"},{"$error":"#N/A"},"1901-02-27"]
[426,42,"1901-02-28",{"$f":"+IF(AND(C428-シート!$BV$67>=0,シート!$AI$19-C428>=0),1,0)","v":{"$error":"#N/A"}},{"$f":"IF(AND(C428-シート!$C$87>=0,シート!$X$87-C428>=0),1,0)","v":{"$error":"#VALUE!"}},{"$error":"#N/A"},{"$error":"#N/A"},{"$f":"IF(AND(C428-シート!$CP$87>=0,シート!$DK$87-C428>=0),1,0)","v":{"$error":"#VALUE!"}},{"$error":"#N/A"},{"$error":"#N/A"},"1901-02-28"]
[427,43,"1901-03-01",{"$f":"+IF(AND(C429-シート!$BV$67>=0,シート!$AI$19-C429>=0),1,0)","v":{"$error":"#N/A"}},{"$f":"IF(AND(C429-シート!$C$87>=0,シート!$X$87-C429>=0),1,0)","v":{"$error":"#VALUE!"}},{"$error":"#N/A"},{"$error":"#N/A"},{"$f":"IF(AND(C429-シート!$CP$87>=0,シート!$DK$87-C429>=0),1,0)","v":{"$error":"#VALUE!"}},{"$error":"#N/A"},{"$error":"#N/A"},"1901-03-01"]
[428,43,"1901-03-02",{"$f":"+IF(AND(C430-シート!$BV$67>=0,シート!$AI$19-C430>=0),1,0)","v":{"$error":"#N/A"}},{"$f":"IF(AND(C430-シート!$C$87>=0,シート!$X$87-C430>=0),1,0)","v":{"$error":"#VALUE!"}},{"$error":"#N/A"},{"$error":"#N/A"},{"$f":"IF(AND(C430-シート!$CP$87>=0,シート!$DK$87-C430>=0),1,0)","v":{"$error":"#VALUE!"}},{"$error":"#N/A"},{"$error":"#N/A"},"1901-03-02"]
[429,43,"1901-03-03",{"$f":"+IF(AND(C431-シート!$BV$67>=0,シート!$AI$19-C431>=0),1,0)","v":{"$error":"#N/A"}},{"$f":"IF(AND(C431-シート!$C$87>=0,シート!$X$87-C431>=0),1,0)","v":{"$error":"#VALUE!"}},{"$error":"#N/A"},{"$error":"#N/A"},{"$f":"IF(AND(C431-シート!$CP$87>=0,シート!$DK$87-C431>=0),1,0)","v":{"$error":"#VALUE!"}},{"$error":"#N/A"},{"$error":"#N/A"},"1901-03-03"]
[430,43,"1901-03-04",{"$f":"+IF(AND(C432-シート!$BV$67>=0,シート!$AI$19-C432>=0),1,0)","v":{"$error":"#N/A"}},{"$f":"IF(AND(C432-シート!$C$87>=0,シート!$X$87-C432>=0),1,0)","v":{"$error":"#VALUE!"}},{"$error":"#N/A"},{"$error":"#N/A"},{"$f":"IF(AND(C432-シート!$CP$87>=0,シート!$DK$87-C432>=0),1,0)","v":{"$error":"#VALUE!"}},{"$error":"#N/A"},{"$error":"#N/A"},"1901-03-04"]
[431,43,"1901-03-05",{"$f":"+IF(AND(C433-シート!$BV$67>=0,シート!$AI$19-C433>=0),1,0)","v":{"$error":"#N/A"}},{"$f":"IF(AND(C433-シート!$C$87>=0,シート!$X$87-C433>=0),1,0)","v":{"$error":"#VALUE!"}},{"$error":"#N/A"},{"$error":"#N/A"},{"$f":"IF(AND(C433-シート!$CP$87>=0,シート!$DK$87-C433>=0),1,0)","v":{"$error":"#VALUE!"}},{"$error":"#N/A"},{"$error":"#N/A"},"1901-03-05"]
[432,43,"1901-03-06",{"$f":"+IF(AND(C434-シート!$BV$67>=0,シート!$AI$19-C434>=0),1,0)","v":{"$error":"#N/A"}},{"$f":"IF(AND(C434-シート!$C$87>=0,シート!$X$87-C434>=0),1,0)","v":{"$error":"#VALUE!"}},{"$error":"#N/A"},{"$error":"#N/A"},{"$f":"IF(AND(C434-シート!$CP$87>=0,シート!$DK$87-C434>=0),1,0)","v":{"$error":"#VALUE!"}},{"$error":"#N/A"},{"$error":"#N/A"},"1901-03-06"]
[433,43,"1901-03-07",{"$f":"+IF(AND(C435-シート!$BV$67>=0,シート!$AI$19-C435>=0),1,0)","v":{"$error":"#N/A"}},{"$f":"IF(AND(C435-シート!$C$87>=0,シート!$X$87-C435>=0),1,0)","v":{"$error":"#VALUE!"}},{"$error":"#N/A"},{"$error":"#N/A"},{"$f":"IF(AND(C435-シート!$CP$87>=0,シート!$DK$87-C435>=0),1,0)","v":{"$error":"#VALUE!"}},{"$error":"#N/A"},{"$error":"#N/A"},"1901-03-07"]
[434,43,"1901-03-08",{"$f":"+IF(AND(C436-シート!$BV$67>=0,シート!$AI$19-C436>=0),1,0)","v":{"$error":"#N/A"}},{"$f":"IF(AND(C436-シート!$C$87>=0,シート!$X$87-C436>=0),1,0)","v":{"$error":"#VALUE!"}},{"$error":"#N/A"},{"$error":"#N/A"},{"$f":"IF(AND(C436-シート!$CP$87>=0,シート!$DK$87-C436>=0),1,0)","v":{"$error":"#VALUE!"}},{"$error":"#N/A"},{"$error":"#N/A"},"1901-03-08"]
[435,43,"1901-03-09",{"$f":"+IF(AND(C437-シート!$BV$67>=0,シート!$AI$19-C437>=0),1,0)","v":{"$error":"#N/A"}},{"$f":"IF(AND(C437-シート!$C$87>=0,シート!$X$87-C437>=0),1,0)","v":{"$error":"#VALUE!"}},{"$error":"#N/A"},{"$error":"#N/A"},{"$f":"IF(AND(C437-シート!$CP$87>=0,シート!$DK$87-C437>=0),1,0)","v":{"$error":"#VALUE!"}},{"$error":"#N/A"},{"$error":"#N/A"},"1901-03-09"]
[436,43,"1901-03-10",{"$f":"+IF(AND(C438-シート!$BV$67>=0,シート!$AI$19-C438>=0),1,0)","v":{"$error":"#N/A"}},{"$f":"IF(AND(C438-シート!$C$87>=0,シート!$X$87-C438>=0),1,0)","v":{"$error":"#VALUE!"}},{"$error":"#N/A"},{"$error":"#N/A"},{"$f":"IF(AND(C438-シート!$CP$87>=0,シート!$DK$87-C438>=0),1,0)","v":{"$error":"#VALUE!"}},{"$error":"#N/A"},{"$error":"#N/A"},"1901-03-10"]
[437,44,"1901-03-11",{"$f":"+IF(AND(C439-シート!$BV$67>=0,シート!$AI$19-C439>=0),1,0)","v":{"$error":"#N/A"}},{"$f":"IF(AND(C439-シート!$C$87>=0,シート!$X$87-C439>=0),1,0)","v":{"$error":"#VALUE!"}},{"$error":"#N/A"},{"$error":"#N/A"},{"$f":"IF(AND(C439-シート!$CP$87>=0,シート!$DK$87-C439>=0),1,0)","v":{"$error":"#VALUE!"}},{"$error":"#N/A"},{"$error":"#N/A"},"1901-03-11"]
[438,44,"1901-03-12",{"$f":"+IF(AND(C440-シート!$BV$67>=0,シート!$AI$19-C440>=0),1,0)","v":{"$error":"#N/A"}},{"$f":"IF(AND(C440-シート!$C$87>=0,シート!$X$87-C440>=0),1,0)","v":{"$error":"#VALUE!"}},{"$error":"#N/A"},{"$error":"#N/A"},{"$f":"IF(AND(C440-シート!$CP$87>=0,シート!$DK$87-C440>=0),1,0)","v":{"$error":"#VALUE!"}},{"$error":"#N/A"},{"$error":"#N/A"},"1901-03-12"]
[439,44,"1901-03-13",{"$f":"+IF(AND(C441-シート!$BV$67>=0,シート!$AI$19-C441>=0),1,0)","v":{"$error":"#N/A"}},{"$f":"IF(AND(C441-シート!$C$87>=0,シート!$X$87-C441>=0),1,0)","v":{"$error":"#VALUE!"}},{"$error":"#N/A"},{"$error":"#N/A"},{"$f":"IF(AND(C441-シート!$CP$87>=0,シート!$DK$87-C441>=0),1,0)","v":{"$error":"#VALUE!"}},{"$error":"#N/A"},{"$error":"#N/A"},"1901-03-13"]
[440,44,"1901-03-14",{"$f":"+IF(AND(C442-シート!$BV$67>=0,シート!$AI$19-C442>=0),1,0)","v":{"$error":"#N/A"}},{"$f":"IF(AND(C442-シート!$C$87>=0,シート!$X$87-C442>=0),1,0)","v":{"$error":"#VALUE!"}},{"$error":"#N/A"},{"$error":"#N/A"},{"$f":"IF(AND(C442-シート!$CP$87>=0,シート!$DK$87-C442>=0),1,0)","v":{"$error":"#VALUE!"}},{"$error":"#N/A"},{"$error":"#N/A"},"1901-03-14"]
[441,44,"1901-03-15",{"$f":"+IF(AND(C443-シート!$BV$67>=0,シート!$AI$19-C443>=0),1,0)","v":{"$error":"#N/A"}},{"$f":"IF(AND(C443-シート!$C$87>=0,シート!$X$87-C443>=0),1,0)","v":{"$error":"#VALUE!"}},{"$error":"#N/A"},{"$error":"#N/A"},{"$f":"IF(AND(C443-シート!$CP$87>=0,シート!$DK$87-C443>=0),1,0)","v":{"$error":"#VALUE!"}},{"$error":"#N/A"},{"$error":"#N/A"},"1901-03-15"]
[442,44,"1901-03-16",{"$f":"+IF(AND(C444-シート!$BV$67>=0,シート!$AI$19-C444>=0),1,0)","v":{"$error":"#N/A"}},{"$f":"IF(AND(C444-シート!$C$87>=0,シート!$X$87-C444>=0),1,0)","v":{"$error":"#VALUE!"}},{"$error":"#N/A"},{"$error":"#N/A"},{"$f":"IF(AND(C444-シート!$CP$87>=0,シート!$DK$87-C444>=0),1,0)","v":{"$error":"#VALUE!"}},{"$error":"#N/A"},{"$error":"#N/A"},"1901-03-16"]
[443,44,"1901-03-17",{"$f":"+IF(AND(C445-シート!$BV$67>=0,シート!$AI$19-C445>=0),1,0)","v":{"$error":"#N/A"}},{"$f":"IF(AND(C445-シート!$C$87>=0,シート!$X$87-C445>=0),1,0)","v":{"$error":"#VALUE!"}},{"$error":"#N/A"},{"$error":"#N/A"},{"$f":"IF(AND(C445-シート!$CP$87>=0,シート!$DK$87-C445>=0),1,0)","v":{"$error":"#VALUE!"}},{"$error":"#N/A"},{"$error":"#N/A"},"1901-03-17"]
[444,44,"1901-03-18",{"$f":"+IF(AND(C446-シート!$BV$67>=0,シート!$AI$19-C446>=0),1,0)","v":{"$error":"#N/A"}},{"$f":"IF(AND(C446-シート!$C$87>=0,シート!$X$87-C446>=0),1,0)","v":{"$error":"#VALUE!"}},{"$error":"#N/A"},{"$error":"#N/A"},{"$f":"IF(AND(C446-シート!$CP$87>=0,シート!$DK$87-C446>=0),1,0)","v":{"$error":"#VALUE!"}},{"$error":"#N/A"},{"$error":"#N/A"},"1901-03-18"]
[445,44,"1901-03-19",{"$f":"+IF(AND(C447-シート!$BV$67>=0,シート!$AI$19-C447>=0),1,0)","v":{"$error":"#N/A"}},{"$f":"IF(AND(C447-シート!$C$87>=0,シート!$X$87-C447>=0),1,0)","v":{"$error":"#VALUE!"}},{"$error":"#N/A"},{"$error":"#N/A"},{"$f":"IF(AND(C447-シート!$CP$87>=0,シート!$DK$87-C447>=0),1,0)","v":{"$error":"#VALUE!"}},{"$error":"#N/A"},{"$error":"#N/A"},"1901-03-19"]
[446,44,"1901-03-20",{"$f":"+IF(AND(C448-シート!$BV$67>=0,シート!$AI$19-C448>=0),1,0)","v":{"$error":"#N/A"}},{"$f":"IF(AND(C448-シート!$C$87>=0,シート!$X$87-C448>=0),1,0)","v":{"$error":"#VALUE!"}},{"$error":"#N/A"},{"$error":"#N/A"},{"$f":"IF(AND(C448-シート!$CP$87>=0,シート!$DK$87-C448>=0),1,0)","v":{"$error":"#VALUE!"}},{"$error":"#N/A"},{"$error":"#N/A"},"1901-03-20"]
[447,44,"1901-03-21",{"$f":"+IF(AND(C449-シート!$BV$67>=0,シート!$AI$19-C449>=0),1,0)","v":{"$error":"#N/A"}},{"$f":"IF(AND(C449-シート!$C$87>=0,シート!$X$87-C449>=0),1,0)","v":{"$error":"#VALUE!"}},{"$error":"#N/A"},{"$error":"#N/A"},{"$f":"IF(AND(C449-シート!$CP$87>=0,シート!$DK$87-C449>=0),1,0)","v":{"$error":"#VALUE!"}},{"$error":"#N/A"},{"$error":"#N/A"},"1901-03-21"]
[448,45,"1901-03-22",{"$f":"+IF(AND(C450-シート!$BV$67>=0,シート!$AI$19-C450>=0),1,0)","v":{"$error":"#N/A"}},{"$f":"IF(AND(C450-シート!$C$87>=0,シート!$X$87-C450>=0),1,0)","v":{"$error":"#VALUE!"}},{"$error":"#N/A"},{"$error":"#N/A"},{"$f":"IF(AND(C450-シート!$CP$87>=0,シート!$DK$87-C450>=0),1,0)","v":{"$error":"#VALUE!"}},{"$error":"#N/A"},{"$error":"#N/A"},"1901-03-22"]
[449,45,"1901-03-23",{"$f":"+IF(AND(C451-シート!$BV$67>=0,シート!$AI$19-C451>=0),1,0)","v":{"$error":"#N/A"}},{"$f":"IF(AND(C451-シート!$C$87>=0,シート!$X$87-C451>=0),1,0)","v":{"$error":"#VALUE!"}},{"$error":"#N/A"},{"$error":"#N/A"},{"$f":"IF(AND(C451-シート!$CP$87>=0,シート!$DK$87-C451>=0),1,0)","v":{"$error":"#VALUE!"}},{"$error":"#N/A"},{"$error":"#N/A"},"1901-03-23"]
[450,45,"1901-03-24",{"$f":"+IF(AND(C452-シート!$BV$67>=0,シート!$AI$19-C452>=0),1,0)","v":{"$error":"#N/A"}},{"$f":"IF(AND(C452-シート!$C$87>=0,シート!$X$87-C452>=0),1,0)","v":{"$error":"#VALUE!"}},{"$f":"IF(+D452+E452=2,1,0)","v":{"$error":"#N/A"}},{"$error":"#N/A"},{"$f":"IF(AND(C452-シート!$CP$87>=0,シート!$DK$87-C452>=0),1,0)","v":{"$error":"#VALUE!"}},{"$f":"IF(+D452+H452=2,1,0)","v":{"$error":"#N/A"}},{"$error":"#N/A"},{"$f":"+C452","v":"1901-03-24"}]
[{"$f":"+A452+1","v":451},45,{"$f":"+C452+1","v":"1901-03-25"},{"$f":"+IF(AND(C453-シート!$BV$67>=0,シート!$AI$19-C453>=0),1,0)","v":{"$error":"#N/A"}},{"$f":"IF(AND(C453-シート!$C$87>=0,シート!$X$87-C453>=0),1,0)","v":{"$error":"#VALUE!"}},{"$error":"#N/A"},{"$f":"+G452+F453","v":{"$error":"#N/A"}},{"$f":"IF(AND(C453-シート!$CP$87>=0,シート!$DK$87-C453>=0),1,0)","v":{"$error":"#VALUE!"}},{"$error":"#N/A"},{"$f":"+J452+I453","v":{"$error":"#N/A"}},"1901-03-25"]
[452,45,"1901-03-26",{"$f":"+IF(AND(C454-シート!$BV$67>=0,シート!$AI$19-C454>=0),1,0)","v":{"$error":"#N/A"}},{"$f":"IF(AND(C454-シート!$C$87>=0,シート!$X$87-C454>=0),1,0)","v":{"$error":"#VALUE!"}},{"$error":"#N/A"},{"$error":"#N/A"},{"$f":"IF(AND(C454-シート!$CP$87>=0,シート!$DK$87-C454>=0),1,0)","v":{"$error":"#VALUE!"}},{"$error":"#N/A"},{"$error":"#N/A"},"1901-03-26"]
[453,45,"1901-03-27",{"$f":"+IF(AND(C455-シート!$BV$67>=0,シート!$AI$19-C455>=0),1,0)","v":{"$error":"#N/A"}},{"$f":"IF(AND(C455-シート!$C$87>=0,シート!$X$87-C455>=0),1,0)","v":{"$error":"#VALUE!"}},{"$error":"#N/A"},{"$error":"#N/A"},{"$f":"IF(AND(C455-シート!$CP$87>=0,シート!$DK$87-C455>=0),1,0)","v":{"$error":"#VALUE!"}},{"$error":"#N/A"},{"$error":"#N/A"},"1901-03-27"]
[454,45,"1901-03-28",{"$f":"+IF(AND(C456-シート!$BV$67>=0,シート!$AI$19-C456>=0),1,0)","v":{"$error":"#N/A"}},{"$f":"IF(AND(C456-シート!$C$87>=0,シート!$X$87-C456>=0),1,0)","v":{"$error":"#VALUE!"}},{"$error":"#N/A"},{"$error":"#N/A"},{"$f":"IF(AND(C456-シート!$CP$87>=0,シート!$DK$87-C456>=0),1,0)","v":{"$error":"#VALUE!"}},{"$error":"#N/A"},{"$error":"#N/A"},"1901-03-28"]
[455,45,"1901-03-29",{"$f":"+IF(AND(C457-シート!$BV$67>=0,シート!$AI$19-C457>=0),1,0)","v":{"$error":"#N/A"}},{"$f":"IF(AND(C457-シート!$C$87>=0,シート!$X$87-C457>=0),1,0)","v":{"$error":"#VALUE!"}},{"$error":"#N/A"},{"$error":"#N/A"},{"$f":"IF(AND(C457-シート!$CP$87>=0,シート!$DK$87-C457>=0),1,0)","v":{"$error":"#VALUE!"}},{"$error":"#N/A"},{"$error":"#N/A"},"1901-03-29"]
[456,45,"1901-03-30",{"$f":"+IF(AND(C458-シート!$BV$67>=0,シート!$AI$19-C458>=0),1,0)","v":{"$error":"#N/A"}},{"$f":"IF(AND(C458-シート!$C$87>=0,シート!$X$87-C458>=0),1,0)","v":{"$error":"#VALUE!"}},{"$error":"#N/A"},{"$error":"#N/A"},{"$f":"IF(AND(C458-シート!$CP$87>=0,シート!$DK$87-C458>=0),1,0)","v":{"$error":"#VALUE!"}},{"$error":"#N/A"},{"$error":"#N/A"},"1901-03-30"]
[457,45,"1901-03-31",{"$f":"+IF(AND(C459-シート!$BV$67>=0,シート!$AI$19-C459>=0),1,0)","v":{"$error":"#N/A"}},{"$f":"IF(AND(C459-シート!$C$87>=0,シート!$X$87-C459>=0),1,0)","v":{"$error":"#VALUE!"}},{"$error":"#N/A"},{"$error":"#N/A"},{"$f":"IF(AND(C459-シート!$CP$87>=0,シート!$DK$87-C459>=0),1,0)","v":{"$error":"#VALUE!"}},{"$error":"#N/A"},{"$error":"#N/A"},"1901-03-31"]
[458,46,"1901-04-01",{"$f":"+IF(AND(C460-シート!$BV$67>=0,シート!$AI$19-C460>=0),1,0)","v":{"$error":"#N/A"}},{"$f":"IF(AND(C460-シート!$C$87>=0,シート!$X$87-C460>=0),1,0)","v":{"$error":"#VALUE!"}},{"$error":"#N/A"},{"$error":"#N/A"},{"$f":"IF(AND(C460-シート!$CP$87>=0,シート!$DK$87-C460>=0),1,0)","v":{"$error":"#VALUE!"}},{"$error":"#N/A"},{"$error":"#N/A"},"1901-04-01"]
[459,46,"1901-04-02",{"$f":"+IF(AND(C461-シート!$BV$67>=0,シート!$AI$19-C461>=0),1,0)","v":{"$error":"#N/A"}},{"$f":"IF(AND(C461-シート!$C$87>=0,シート!$X$87-C461>=0),1,0)","v":{"$error":"#VALUE!"}},{"$error":"#N/A"},{"$error":"#N/A"},{"$f":"IF(AND(C461-シート!$CP$87>=0,シート!$DK$87-C461>=0),1,0)","v":{"$error":"#VALUE!"}},{"$error":"#N/A"},{"$error":"#N/A"},"1901-04-02"]
[460,46,"1901-04-03",{"$f":"+IF(AND(C462-シート!$BV$67>=0,シート!$AI$19-C462>=0),1,0)","v":{"$error":"#N/A"}},{"$f":"IF(AND(C462-シート!$C$87>=0,シート!$X$87-C462>=0),1,0)","v":{"$error":"#VALUE!"}},{"$error":"#N/A"},{"$error":"#N/A"},{"$f":"IF(AND(C462-シート!$CP$87>=0,シート!$DK$87-C462>=0),1,0)","v":{"$error":"#VALUE!"}},{"$error":"#N/A"},{"$error":"#N/A"},"1901-04-03"]
[461,46,"1901-04-04",{"$f":"+IF(AND(C463-シート!$BV$67>=0,シート!$AI$19-C463>=0),1,0)","v":{"$error":"#N/A"}},{"$f":"IF(AND(C463-シート!$C$87>=0,シート!$X$87-C463>=0),1,0)","v":{"$error":"#VALUE!"}},{"$error":"#N/A"},{"$error":"#N/A"},{"$f":"IF(AND(C463-シート!$CP$87>=0,シート!$DK$87-C463>=0),1,0)","v":{"$error":"#VALUE!"}},{"$error":"#N/A"},{"$error":"#N/A"},"1901-04-04"]
[462,46,"1901-04-05",{"$f":"+IF(AND(C464-シート!$BV$67>=0,シート!$AI$19-C464>=0),1,0)","v":{"$error":"#N/A"}},{"$f":"IF(AND(C464-シート!$C$87>=0,シート!$X$87-C464>=0),1,0)","v":{"$error":"#VALUE!"}},{"$error":"#N/A"},{"$error":"#N/A"},{"$f":"IF(AND(C464-シート!$CP$87>=0,シート!$DK$87-C464>=0),1,0)","v":{"$error":"#VALUE!"}},{"$error":"#N/A"},{"$error":"#N/A"},"1901-04-05"]
[463,46,"1901-04-06",{"$f":"+IF(AND(C465-シート!$BV$67>=0,シート!$AI$19-C465>=0),1,0)","v":{"$error":"#N/A"}},{"$f":"IF(AND(C465-シート!$C$87>=0,シート!$X$87-C465>=0),1,0)","v":{"$error":"#VALUE!"}},{"$error":"#N/A"},{"$error":"#N/A"},{"$f":"IF(AND(C465-シート!$CP$87>=0,シート!$DK$87-C465>=0),1,0)","v":{"$error":"#VALUE!"}},{"$error":"#N/A"},{"$error":"#N/A"},"1901-04-06"]
[464,46,"1901-04-07",{"$f":"+IF(AND(C466-シート!$BV$67>=0,シート!$AI$19-C466>=0),1,0)","v":{"$error":"#N/A"}},{"$f":"IF(AND(C466-シート!$C$87>=0,シート!$X$87-C466>=0),1,0)","v":{"$error":"#VALUE!"}},{"$error":"#N/A"},{"$error":"#N/A"},{"$f":"IF(AND(C466-シート!$CP$87>=0,シート!$DK$87-C466>=0),1,0)","v":{"$error":"#VALUE!"}},{"$error":"#N/A"},{"$error":"#N/A"},"1901-04-07"]
[465,46,"1901-04-08",{"$f":"+IF(AND(C467-シート!$BV$67>=0,シート!$AI$19-C467>=0),1,0)","v":{"$error":"#N/A"}},{"$f":"IF(AND(C467-シート!$C$87>=0,シート!$X$87-C467>=0),1,0)","v":{"$error":"#VALUE!"}},{"$error":"#N/A"},{"$error":"#N/A"},{"$f":"IF(AND(C467-シート!$CP$87>=0,シート!$DK$87-C467>=0),1,0)","v":{"$error":"#VALUE!"}},{"$error":"#N/A"},{"$error":"#N/A"},"1901-04-08"]
[466,46,"1901-04-09",{"$f":"+IF(AND(C468-シート!$BV$67>=0,シート!$AI$19-C468>=0),1,0)","v":{"$error":"#N/A"}},{"$f":"IF(AND(C468-シート!$C$87>=0,シート!$X$87-C468>=0),1,0)","v":{"$error":"#VALUE!"}},{"$error":"#N/A"},{"$error":"#N/A"},{"$f":"IF(AND(C468-シート!$CP$87>=0,シート!$DK$87-C468>=0),1,0)","v":{"$error":"#VALUE!"}},{"$error":"#N/A"},{"$error":"#N/A"},"1901-04-09"]
[467,46,"1901-04-10",{"$f":"+IF(AND(C469-シート!$BV$67>=0,シート!$AI$19-C469>=0),1,0)","v":{"$error":"#N/A"}},{"$f":"IF(AND(C469-シート!$C$87>=0,シート!$X$87-C469>=0),1,0)","v":{"$error":"#VALUE!"}},{"$error":"#N/A"},{"$error":"#N/A"},{"$f":"IF(AND(C469-シート!$CP$87>=0,シート!$DK$87-C469>=0),1,0)","v":{"$error":"#VALUE!"}},{"$error":"#N/A"},{"$error":"#N/A"},"1901-04-10"]
[468,47,"1901-04-11",{"$f":"+IF(AND(C470-シート!$BV$67>=0,シート!$AI$19-C470>=0),1,0)","v":{"$error":"#N/A"}},{"$f":"IF(AND(C470-シート!$C$87>=0,シート!$X$87-C470>=0),1,0)","v":{"$error":"#VALUE!"}},{"$error":"#N/A"},{"$error":"#N/A"},{"$f":"IF(AND(C470-シート!$CP$87>=0,シート!$DK$87-C470>=0),1,0)","v":{"$error":"#VALUE!"}},{"$error":"#N/A"},{"$error":"#N/A"},"1901-04-11"]
[469,47,"1901-04-12",{"$f":"+IF(AND(C471-シート!$BV$67>=0,シート!$AI$19-C471>=0),1,0)","v":{"$error":"#N/A"}},{"$f":"IF(AND(C471-シート!$C$87>=0,シート!$X$87-C471>=0),1,0)","v":{"$error":"#VALUE!"}},{"$error":"#N/A"},{"$error":"#N/A"},{"$f":"IF(AND(C471-シート!$CP$87>=0,シート!$DK$87-C471>=0),1,0)","v":{"$error":"#VALUE!"}},{"$error":"#N/A"},{"$error":"#N/A"},"1901-04-12"]
[470,47,"1901-04-13",{"$f":"+IF(AND(C472-シート!$BV$67>=0,シート!$AI$19-C472>=0),1,0)","v":{"$error":"#N/A"}},{"$f":"IF(AND(C472-シート!$C$87>=0,シート!$X$87-C472>=0),1,0)","v":{"$error":"#VALUE!"}},{"$error":"#N/A"},{"$error":"#N/A"},{"$f":"IF(AND(C472-シート!$CP$87>=0,シート!$DK$87-C472>=0),1,0)","v":{"$error":"#VALUE!"}},{"$error":"#N/A"},{"$error":"#N/A"},"1901-04-13"]
[471,47,"1901-04-14",{"$f":"+IF(AND(C473-シート!$BV$67>=0,シート!$AI$19-C473>=0),1,0)","v":{"$error":"#N/A"}},{"$f":"IF(AND(C473-シート!$C$87>=0,シート!$X$87-C473>=0),1,0)","v":{"$error":"#VALUE!"}},{"$error":"#N/A"},{"$error":"#N/A"},{"$f":"IF(AND(C473-シート!$CP$87>=0,シート!$DK$87-C473>=0),1,0)","v":{"$error":"#VALUE!"}},{"$error":"#N/A"},{"$error":"#N/A"},"1901-04-14"]
[472,47,"1901-04-15",{"$f":"+IF(AND(C474-シート!$BV$67>=0,シート!$AI$19-C474>=0),1,0)","v":{"$error":"#N/A"}},{"$f":"IF(AND(C474-シート!$C$87>=0,シート!$X$87-C474>=0),1,0)","v":{"$error":"#VALUE!"}},{"$error":"#N/A"},{"$error":"#N/A"},{"$f":"IF(AND(C474-シート!$CP$87>=0,シート!$DK$87-C474>=0),1,0)","v":{"$error":"#VALUE!"}},{"$error":"#N/A"},{"$error":"#N/A"},"1901-04-15"]
[473,47,"1901-04-16",{"$f":"+IF(AND(C475-シート!$BV$67>=0,シート!$AI$19-C475>=0),1,0)","v":{"$error":"#N/A"}},{"$f":"IF(AND(C475-シート!$C$87>=0,シート!$X$87-C475>=0),1,0)","v":{"$error":"#VALUE!"}},{"$error":"#N/A"},{"$error":"#N/A"},{"$f":"IF(AND(C475-シート!$CP$87>=0,シート!$DK$87-C475>=0),1,0)","v":{"$error":"#VALUE!"}},{"$error":"#N/A"},{"$error":"#N/A"},"1901-04-16"]
[474,47,"1901-04-17",{"$f":"+IF(AND(C476-シート!$BV$67>=0,シート!$AI$19-C476>=0),1,0)","v":{"$error":"#N/A"}},{"$f":"IF(AND(C476-シート!$C$87>=0,シート!$X$87-C476>=0),1,0)","v":{"$error":"#VALUE!"}},{"$error":"#N/A"},{"$error":"#N/A"},{"$f":"IF(AND(C476-シート!$CP$87>=0,シート!$DK$87-C476>=0),1,0)","v":{"$error":"#VALUE!"}},{"$error":"#N/A"},{"$error":"#N/A"},"1901-04-17"]
[475,47,"1901-04-18",{"$f":"+IF(AND(C477-シート!$BV$67>=0,シート!$AI$19-C477>=0),1,0)","v":{"$error":"#N/A"}},{"$f":"IF(AND(C477-シート!$C$87>=0,シート!$X$87-C477>=0),1,0)","v":{"$error":"#VALUE!"}},{"$error":"#N/A"},{"$error":"#N/A"},{"$f":"IF(AND(C477-シート!$CP$87>=0,シート!$DK$87-C477>=0),1,0)","v":{"$error":"#VALUE!"}},{"$error":"#N/A"},{"$error":"#N/A"},"1901-04-18"]
[476,47,"1901-04-19",{"$f":"+IF(AND(C478-シート!$BV$67>=0,シート!$AI$19-C478>=0),1,0)","v":{"$error":"#N/A"}},{"$f":"IF(AND(C478-シート!$C$87>=0,シート!$X$87-C478>=0),1,0)","v":{"$error":"#VALUE!"}},{"$error":"#N/A"},{"$error":"#N/A"},{"$f":"IF(AND(C478-シート!$CP$87>=0,シート!$DK$87-C478>=0),1,0)","v":{"$error":"#VALUE!"}},{"$error":"#N/A"},{"$error":"#N/A"},"1901-04-19"]
[477,47,"1901-04-20",{"$f":"+IF(AND(C479-シート!$BV$67>=0,シート!$AI$19-C479>=0),1,0)","v":{"$error":"#N/A"}},{"$f":"IF(AND(C479-シート!$C$87>=0,シート!$X$87-C479>=0),1,0)","v":{"$error":"#VALUE!"}},{"$error":"#N/A"},{"$error":"#N/A"},{"$f":"IF(AND(C479-シート!$CP$87>=0,シート!$DK$87-C479>=0),1,0)","v":{"$error":"#VALUE!"}},{"$error":"#N/A"},{"$error":"#N/A"},"1901-04-20"]
[478,48,"1901-04-21",{"$f":"+IF(AND(C480-シート!$BV$67>=0,シート!$AI$19-C480>=0),1,0)","v":{"$error":"#N/A"}},{"$f":"IF(AND(C480-シート!$C$87>=0,シート!$X$87-C480>=0),1,0)","v":{"$error":"#VALUE!"}},{"$error":"#N/A"},{"$error":"#N/A"},{"$f":"IF(AND(C480-シート!$CP$87>=0,シート!$DK$87-C480>=0),1,0)","v":{"$error":"#VALUE!"}},{"$error":"#N/A"},{"$error":"#N/A"},"1901-04-21"]
[479,48,"1901-04-22",{"$f":"+IF(AND(C481-シート!$BV$67>=0,シート!$AI$19-C481>=0),1,0)","v":{"$error":"#N/A"}},{"$f":"IF(AND(C481-シート!$C$87>=0,シート!$X$87-C481>=0),1,0)","v":{"$error":"#VALUE!"}},{"$error":"#N/A"},{"$error":"#N/A"},{"$f":"IF(AND(C481-シート!$CP$87>=0,シート!$DK$87-C481>=0),1,0)","v":{"$error":"#VALUE!"}},{"$error":"#N/A"},{"$error":"#N/A"},"1901-04-22"]
[480,48,"1901-04-23",{"$f":"+IF(AND(C482-シート!$BV$67>=0,シート!$AI$19-C482>=0),1,0)","v":{"$error":"#N/A"}},{"$f":"IF(AND(C482-シート!$C$87>=0,シート!$X$87-C482>=0),1,0)","v":{"$error":"#VALUE!"}},{"$error":"#N/A"},{"$error":"#N/A"},{"$f":"IF(AND(C482-シート!$CP$87>=0,シート!$DK$87-C482>=0),1,0)","v":{"$error":"#VALUE!"}},{"$error":"#N/A"},{"$error":"#N/A"},"1901-04-23"]
[481,48,"1901-04-24",{"$f":"+IF(AND(C483-シート!$BV$67>=0,シート!$AI$19-C483>=0),1,0)","v":{"$error":"#N/A"}},{"$f":"IF(AND(C483-シート!$C$87>=0,シート!$X$87-C483>=0),1,0)","v":{"$error":"#VALUE!"}},{"$error":"#N/A"},{"$error":"#N/A"},{"$f":"IF(AND(C483-シート!$CP$87>=0,シート!$DK$87-C483>=0),1,0)","v":{"$error":"#VALUE!"}},{"$error":"#N/A"},{"$error":"#N/A"},"1901-04-24"]
[482,48,"1901-04-25",{"$f":"+IF(AND(C484-シート!$BV$67>=0,シート!$AI$19-C484>=0),1,0)","v":{"$error":"#N/A"}},{"$f":"IF(AND(C484-シート!$C$87>=0,シート!$X$87-C484>=0),1,0)","v":{"$error":"#VALUE!"}},{"$error":"#N/A"},{"$error":"#N/A"},{"$f":"IF(AND(C484-シート!$CP$87>=0,シート!$DK$87-C484>=0),1,0)","v":{"$error":"#VALUE!"}},{"$error":"#N/A"},{"$error":"#N/A"},"1901-04-25"]
[483,48,"1901-04-26",{"$f":"+IF(AND(C485-シート!$BV$67>=0,シート!$AI$19-C485>=0),1,0)","v":{"$error":"#N/A"}},{"$f":"IF(AND(C485-シート!$C$87>=0,シート!$X$87-C485>=0),1,0)","v":{"$error":"#VALUE!"}},{"$error":"#N/A"},{"$error":"#N/A"},{"$f":"IF(AND(C485-シート!$CP$87>=0,シート!$DK$87-C485>=0),1,0)","v":{"$error":"#VALUE!"}},{"$error":"#N/A"},{"$error":"#N/A"},"1901-04-26"]
[484,48,"1901-04-27",{"$f":"+IF(AND(C486-シート!$BV$67>=0,シート!$AI$19-C486>=0),1,0)","v":{"$error":"#N/A"}},{"$f":"IF(AND(C486-シート!$C$87>=0,シート!$X$87-C486>=0),1,0)","v":{"$error":"#VALUE!"}},{"$error":"#N/A"},{"$error":"#N/A"},{"$f":"IF(AND(C486-シート!$CP$87>=0,シート!$DK$87-C486>=0),1,0)","v":{"$error":"#VALUE!"}},{"$error":"#N/A"},{"$error":"#N/A"},"1901-04-27"]
[485,48,"1901-04-28",{"$f":"+IF(AND(C487-シート!$BV$67>=0,シート!$AI$19-C487>=0),1,0)","v":{"$error":"#N/A"}},{"$f":"IF(AND(C487-シート!$C$87>=0,シート!$X$87-C487>=0),1,0)","v":{"$error":"#VALUE!"}},{"$error":"#N/A"},{"$error":"#N/A"},{"$f":"IF(AND(C487-シート!$CP$87>=0,シート!$DK$87-C487>=0),1,0)","v":{"$error":"#VALUE!"}},{"$error":"#N/A"},{"$error":"#N/A"},"1901-04-28"]
[486,48,"1901-04-29",{"$f":"+IF(AND(C488-シート!$BV$67>=0,シート!$AI$19-C488>=0),1,0)","v":{"$error":"#N/A"}},{"$f":"IF(AND(C488-シート!$C$87>=0,シート!$X$87-C488>=0),1,0)","v":{"$error":"#VALUE!"}},{"$error":"#N/A"},{"$error":"#N/A"},{"$f":"IF(AND(C488-シート!$CP$87>=0,シート!$DK$87-C488>=0),1,0)","v":{"$error":"#VALUE!"}},{"$error":"#N/A"},{"$error":"#N/A"},"1901-04-29"]
[487,48,"1901-04-30",{"$f":"+IF(AND(C489-シート!$BV$67>=0,シート!$AI$19-C489>=0),1,0)","v":{"$error":"#N/A"}},{"$f":"IF(AND(C489-シート!$C$87>=0,シート!$X$87-C489>=0),1,0)","v":{"$error":"#VALUE!"}},{"$error":"#N/A"},{"$error":"#N/A"},{"$f":"IF(AND(C489-シート!$CP$87>=0,シート!$DK$87-C489>=0),1,0)","v":{"$error":"#VALUE!"}},{"$error":"#N/A"},{"$error":"#N/A"},"1901-04-30"]
[488,49,"1901-05-01",{"$f":"+IF(AND(C490-シート!$BV$67>=0,シート!$AI$19-C490>=0),1,0)","v":{"$error":"#N/A"}},{"$f":"IF(AND(C490-シート!$C$87>=0,シート!$X$87-C490>=0),1,0)","v":{"$error":"#VALUE!"}},{"$error":"#N/A"},{"$error":"#N/A"},{"$f":"IF(AND(C490-シート!$CP$87>=0,シート!$DK$87-C490>=0),1,0)","v":{"$error":"#VALUE!"}},{"$error":"#N/A"},{"$error":"#N/A"},"1901-05-01"]
[489,49,"1901-05-02",{"$f":"+IF(AND(C491-シート!$BV$67>=0,シート!$AI$19-C491>=0),1,0)","v":{"$error":"#N/A"}},{"$f":"IF(AND(C491-シート!$C$87>=0,シート!$X$87-C491>=0),1,0)","v":{"$error":"#VALUE!"}},{"$error":"#N/A"},{"$error":"#N/A"},{"$f":"IF(AND(C491-シート!$CP$87>=0,シート!$DK$87-C491>=0),1,0)","v":{"$error":"#VALUE!"}},{"$error":"#N/A"},{"$error":"#N/A"},"1901-05-02"]
[490,49,"1901-05-03",{"$f":"+IF(AND(C492-シート!$BV$67>=0,シート!$AI$19-C492>=0),1,0)","v":{"$error":"#N/A"}},{"$f":"IF(AND(C492-シート!$C$87>=0,シート!$X$87-C492>=0),1,0)","v":{"$error":"#VALUE!"}},{"$error":"#N/A"},{"$error":"#N/A"},{"$f":"IF(AND(C492-シート!$CP$87>=0,シート!$DK$87-C492>=0),1,0)","v":{"$error":"#VALUE!"}},{"$error":"#N/A"},{"$error":"#N/A"},"1901-05-03"]
[491,49,"1901-05-04",{"$f":"+IF(AND(C493-シート!$BV$67>=0,シート!$AI$19-C493>=0),1,0)","v":{"$error":"#N/A"}},{"$f":"IF(AND(C493-シート!$C$87>=0,シート!$X$87-C493>=0),1,0)","v":{"$error":"#VALUE!"}},{"$error":"#N/A"},{"$error":"#N/A"},{"$f":"IF(AND(C493-シート!$CP$87>=0,シート!$DK$87-C493>=0),1,0)","v":{"$error":"#VALUE!"}},{"$error":"#N/A"},{"$error":"#N/A"},"1901-05-04"]
[492,49,"1901-05-05",{"$f":"+IF(AND(C494-シート!$BV$67>=0,シート!$AI$19-C494>=0),1,0)","v":{"$error":"#N/A"}},{"$f":"IF(AND(C494-シート!$C$87>=0,シート!$X$87-C494>=0),1,0)","v":{"$error":"#VALUE!"}},{"$error":"#N/A"},{"$error":"#N/A"},{"$f":"IF(AND(C494-シート!$CP$87>=0,シート!$DK$87-C494>=0),1,0)","v":{"$error":"#VALUE!"}},{"$error":"#N/A"},{"$error":"#N/A"},"1901-05-05"]
[493,49,"1901-05-06",{"$f":"+IF(AND(C495-シート!$BV$67>=0,シート!$AI$19-C495>=0),1,0)","v":{"$error":"#N/A"}},{"$f":"IF(AND(C495-シート!$C$87>=0,シート!$X$87-C495>=0),1,0)","v":{"$error":"#VALUE!"}},{"$error":"#N/A"},{"$error":"#N/A"},{"$f":"IF(AND(C495-シート!$CP$87>=0,シート!$DK$87-C495>=0),1,0)","v":{"$error":"#VALUE!"}},{"$error":"#N/A"},{"$error":"#N/A"},"1901-05-06"]
[494,49,"1901-05-07",{"$f":"+IF(AND(C496-シート!$BV$67>=0,シート!$AI$19-C496>=0),1,0)","v":{"$error":"#N/A"}},{"$f":"IF(AND(C496-シート!$C$87>=0,シート!$X$87-C496>=0),1,0)","v":{"$error":"#VALUE!"}},{"$error":"#N/A"},{"$error":"#N/A"},{"$f":"IF(AND(C496-シート!$CP$87>=0,シート!$DK$87-C496>=0),1,0)","v":{"$error":"#VALUE!"}},{"$error":"#N/A"},{"$error":"#N/A"},"1901-05-07"]
[495,49,"1901-05-08",{"$f":"+IF(AND(C497-シート!$BV$67>=0,シート!$AI$19-C497>=0),1,0)","v":{"$error":"#N/A"}},{"$f":"IF(AND(C497-シート!$C$87>=0,シート!$X$87-C497>=0),1,0)","v":{"$error":"#VALUE!"}},{"$error":"#N/A"},{"$error":"#N/A"},{"$f":"IF(AND(C497-シート!$CP$87>=0,シート!$DK$87-C497>=0),1,0)","v":{"$error":"#VALUE!"}},{"$error":"#N/A"},{"$error":"#N/A"},"1901-05-08"]
[496,49,"1901-05-09",{"$f":"+IF(AND(C498-シート!$BV$67>=0,シート!$AI$19-C498>=0),1,0)","v":{"$error":"#N/A"}},{"$f":"IF(AND(C498-シート!$C$87>=0,シート!$X$87-C498>=0),1,0)","v":{"$error":"#VALUE!"}},{"$error":"#N/A"},{"$error":"#N/A"},{"$f":"IF(AND(C498-シート!$CP$87>=0,シート!$DK$87-C498>=0),1,0)","v":{"$error":"#VALUE!"}},{"$error":"#N/A"},{"$error":"#N/A"},"1901-05-09"]
[497,49,"1901-05-10",{"$f":"+IF(AND(C499-シート!$BV$67>=0,シート!$AI$19-C499>=0),1,0)","v":{"$error":"#N/A"}},{"$f":"IF(AND(C499-シート!$C$87>=0,シート!$X$87-C499>=0),1,0)","v":{"$error":"#VALUE!"}},{"$error":"#N/A"},{"$error":"#N/A"},{"$f":"IF(AND(C499-シート!$CP$87>=0,シート!$DK$87-C499>=0),1,0)","v":{"$error":"#VALUE!"}},{"$error":"#N/A"},{"$error":"#N/A"},"1901-05-10"]
[498,50,"1901-05-11",{"$f":"+IF(AND(C500-シート!$BV$67>=0,シート!$AI$19-C500>=0),1,0)","v":{"$error":"#N/A"}},{"$f":"IF(AND(C500-シート!$C$87>=0,シート!$X$87-C500>=0),1,0)","v":{"$error":"#VALUE!"}},{"$error":"#N/A"},{"$error":"#N/A"},{"$f":"IF(AND(C500-シート!$CP$87>=0,シート!$DK$87-C500>=0),1,0)","v":{"$error":"#VALUE!"}},{"$error":"#N/A"},{"$error":"#N/A"},"1901-05-11"]
[499,50,"1901-05-12",{"$f":"+IF(AND(C501-シート!$BV$67>=0,シート!$AI$19-C501>=0),1,0)","v":{"$error":"#N/A"}},{"$f":"IF(AND(C501-シート!$C$87>=0,シート!$X$87-C501>=0),1,0)","v":{"$error":"#VALUE!"}},{"$error":"#N/A"},{"$error":"#N/A"},{"$f":"IF(AND(C501-シート!$CP$87>=0,シート!$DK$87-C501>=0),1,0)","v":{"$error":"#VALUE!"}},{"$error":"#N/A"},{"$error":"#N/A"},"1901-05-12"]
[500,50,"1901-05-13",{"$f":"+IF(AND(C502-シート!$BV$67>=0,シート!$AI$19-C502>=0),1,0)","v":{"$error":"#N/A"}},{"$f":"IF(AND(C502-シート!$C$87>=0,シート!$X$87-C502>=0),1,0)","v":{"$error":"#VALUE!"}},{"$error":"#N/A"},{"$error":"#N/A"},{"$f":"IF(AND(C502-シート!$CP$87>=0,シート!$DK$87-C502>=0),1,0)","v":{"$error":"#VALUE!"}},{"$error":"#N/A"},{"$error":"#N/A"},"1901-05-13"]
[501,50,"1901-05-14",{"$f":"+IF(AND(C503-シート!$BV$67>=0,シート!$AI$19-C503>=0),1,0)","v":{"$error":"#N/A"}},{"$f":"IF(AND(C503-シート!$C$87>=0,シート!$X$87-C503>=0),1,0)","v":{"$error":"#VALUE!"}},{"$error":"#N/A"},{"$error":"#N/A"},{"$f":"IF(AND(C503-シート!$CP$87>=0,シート!$DK$87-C503>=0),1,0)","v":{"$error":"#VALUE!"}},{"$error":"#N/A"},{"$error":"#N/A"},"1901-05-14"]
[502,50,"1901-05-15",{"$f":"+IF(AND(C504-シート!$BV$67>=0,シート!$AI$19-C504>=0),1,0)","v":{"$error":"#N/A"}},{"$f":"IF(AND(C504-シート!$C$87>=0,シート!$X$87-C504>=0),1,0)","v":{"$error":"#VALUE!"}},{"$error":"#N/A"},{"$error":"#N/A"},{"$f":"IF(AND(C504-シート!$CP$87>=0,シート!$DK$87-C504>=0),1,0)","v":{"$error":"#VALUE!"}},{"$error":"#N/A"},{"$error":"#N/A"},"1901-05-15"]
[503,50,"1901-05-16",{"$f":"+IF(AND(C505-シート!$BV$67>=0,シート!$AI$19-C505>=0),1,0)","v":{"$error":"#N/A"}},{"$f":"IF(AND(C505-シート!$C$87>=0,シート!$X$87-C505>=0),1,0)","v":{"$error":"#VALUE!"}},{"$error":"#N/A"},{"$error":"#N/A"},{"$f":"IF(AND(C505-シート!$CP$87>=0,シート!$DK$87-C505>=0),1,0)","v":{"$error":"#VALUE!"}},{"$error":"#N/A"},{"$error":"#N/A"},"1901-05-16"]
[504,50,"1901-05-17",{"$f":"+IF(AND(C506-シート!$BV$67>=0,シート!$AI$19-C506>=0),1,0)","v":{"$error":"#N/A"}},{"$f":"IF(AND(C506-シート!$C$87>=0,シート!$X$87-C506>=0),1,0)","v":{"$error":"#VALUE!"}},{"$error":"#N/A"},{"$error":"#N/A"},{"$f":"IF(AND(C506-シート!$CP$87>=0,シート!$DK$87-C506>=0),1,0)","v":{"$error":"#VALUE!"}},{"$error":"#N/A"},{"$error":"#N/A"},"1901-05-17"]
[505,50,"1901-05-18",{"$f":"+IF(AND(C507-シート!$BV$67>=0,シート!$AI$19-C507>=0),1,0)","v":{"$error":"#N/A"}},{"$f":"IF(AND(C507-シート!$C$87>=0,シート!$X$87-C507>=0),1,0)","v":{"$error":"#VALUE!"}},{"$error":"#N/A"},{"$error":"#N/A"},{"$f":"IF(AND(C507-シート!$CP$87>=0,シート!$DK$87-C507>=0),1,0)","v":{"$error":"#VALUE!"}},{"$error":"#N/A"},{"$error":"#N/A"},"1901-05-18"]
[506,50,"1901-05-19",{"$f":"+IF(AND(C508-シート!$BV$67>=0,シート!$AI$19-C508>=0),1,0)","v":{"$error":"#N/A"}},{"$f":"IF(AND(C508-シート!$C$87>=0,シート!$X$87-C508>=0),1,0)","v":{"$error":"#VALUE!"}},{"$error":"#N/A"},{"$error":"#N/A"},{"$f":"IF(AND(C508-シート!$CP$87>=0,シート!$DK$87-C508>=0),1,0)","v":{"$error":"#VALUE!"}},{"$error":"#N/A"},{"$error":"#N/A"},"1901-05-19"]
[507,50,"1901-05-20",{"$f":"+IF(AND(C509-シート!$BV$67>=0,シート!$AI$19-C509>=0),1,0)","v":{"$error":"#N/A"}},{"$f":"IF(AND(C509-シート!$C$87>=0,シート!$X$87-C509>=0),1,0)","v":{"$error":"#VALUE!"}},{"$error":"#N/A"},{"$error":"#N/A"},{"$f":"IF(AND(C509-シート!$CP$87>=0,シート!$DK$87-C509>=0),1,0)","v":{"$error":"#VALUE!"}},{"$error":"#N/A"},{"$error":"#N/A"},"1901-05-20"]
[508,50,"1901-05-21",{"$f":"+IF(AND(C510-シート!$BV$67>=0,シート!$AI$19-C510>=0),1,0)","v":{"$error":"#N/A"}},{"$f":"IF(AND(C510-シート!$C$87>=0,シート!$X$87-C510>=0),1,0)","v":{"$error":"#VALUE!"}},{"$error":"#N/A"},{"$error":"#N/A"},{"$f":"IF(AND(C510-シート!$CP$87>=0,シート!$DK$87-C510>=0),1,0)","v":{"$error":"#VALUE!"}},{"$error":"#N/A"},{"$error":"#N/A"},"1901-05-21"]
[509,51,"1901-05-22",{"$f":"+IF(AND(C511-シート!$BV$67>=0,シート!$AI$19-C511>=0),1,0)","v":{"$error":"#N/A"}},{"$f":"IF(AND(C511-シート!$C$87>=0,シート!$X$87-C511>=0),1,0)","v":{"$error":"#VALUE!"}},{"$error":"#N/A"},{"$error":"#N/A"},{"$f":"IF(AND(C511-シート!$CP$87>=0,シート!$DK$87-C511>=0),1,0)","v":{"$error":"#VALUE!"}},{"$error":"#N/A"},{"$error":"#N/A"},"1901-05-22"]
[510,51,"1901-05-23",{"$f":"+IF(AND(C512-シート!$BV$67>=0,シート!$AI$19-C512>=0),1,0)","v":{"$error":"#N/A"}},{"$f":"IF(AND(C512-シート!$C$87>=0,シート!$X$87-C512>=0),1,0)","v":{"$error":"#VALUE!"}},{"$error":"#N/A"},{"$error":"#N/A"},{"$f":"IF(AND(C512-シート!$CP$87>=0,シート!$DK$87-C512>=0),1,0)","v":{"$error":"#VALUE!"}},{"$error":"#N/A"},{"$error":"#N/A"},"1901-05-23"]
[511,51,"1901-05-24",{"$f":"+IF(AND(C513-シート!$BV$67>=0,シート!$AI$19-C513>=0),1,0)","v":{"$error":"#N/A"}},{"$f":"IF(AND(C513-シート!$C$87>=0,シート!$X$87-C513>=0),1,0)","v":{"$error":"#VALUE!"}},{"$error":"#N/A"},{"$error":"#N/A"},{"$f":"IF(AND(C513-シート!$CP$87>=0,シート!$DK$87-C513>=0),1,0)","v":{"$error":"#VALUE!"}},{"$error":"#N/A"},{"$error":"#N/A"},"1901-05-24"]
[512,51,"1901-05-25",{"$f":"+IF(AND(C514-シート!$BV$67>=0,シート!$AI$19-C514>=0),1,0)","v":{"$error":"#N/A"}},{"$f":"IF(AND(C514-シート!$C$87>=0,シート!$X$87-C514>=0),1,0)","v":{"$error":"#VALUE!"}},{"$error":"#N/A"},{"$error":"#N/A"},{"$f":"IF(AND(C514-シート!$CP$87>=0,シート!$DK$87-C514>=0),1,0)","v":{"$error":"#VALUE!"}},{"$error":"#N/A"},{"$error":"#N/A"},"1901-05-25"]
[513,51,"1901-05-26",{"$f":"+IF(AND(C515-シート!$BV$67>=0,シート!$AI$19-C515>=0),1,0)","v":{"$error":"#N/A"}},{"$f":"IF(AND(C515-シート!$C$87>=0,シート!$X$87-C515>=0),1,0)","v":{"$error":"#VALUE!"}},{"$error":"#N/A"},{"$error":"#N/A"},{"$f":"IF(AND(C515-シート!$CP$87>=0,シート!$DK$87-C515>=0),1,0)","v":{"$error":"#VALUE!"}},{"$error":"#N/A"},{"$error":"#N/A"},"1901-05-26"]
[514,51,"1901-05-27",{"$f":"+IF(AND(C516-シート!$BV$67>=0,シート!$AI$19-C516>=0),1,0)","v":{"$error":"#N/A"}},{"$f":"IF(AND(C516-シート!$C$87>=0,シート!$X$87-C516>=0),1,0)","v":{"$error":"#VALUE!"}},{"$f":"IF(+D516+E516=2,1,0)","v":{"$error":"#N/A"}},{"$error":"#N/A"},{"$f":"IF(AND(C516-シート!$CP$87>=0,シート!$DK$87-C516>=0),1,0)","v":{"$error":"#VALUE!"}},{"$f":"IF(+D516+H516=2,1,0)","v":{"$error":"#N/A"}},{"$error":"#N/A"},{"$f":"+C516","v":"1901-05-27"}]
[{"$f":"+A516+1","v":515},51,{"$f":"+C516+1","v":"1901-05-28"},{"$f":"+IF(AND(C517-シート!$BV$67>=0,シート!$AI$19-C517>=0),1,0)","v":{"$error":"#N/A"}},{"$f":"IF(AND(C517-シート!$C$87>=0,シート!$X$87-C517>=0),1,0)","v":{"$error":"#VALUE!"}},{"$error":"#N/A"},{"$f":"+G516+F517","v":{"$error":"#N/A"}},{"$f":"IF(AND(C517-シート!$CP$87>=0,シート!$DK$87-C517>=0),1,0)","v":{"$error":"#VALUE!"}},{"$error":"#N/A"},{"$f":"+J516+I517","v":{"$error":"#N/A"}},"1901-05-28"]
[516,51,"1901-05-29",{"$f":"+IF(AND(C518-シート!$BV$67>=0,シート!$AI$19-C518>=0),1,0)","v":{"$error":"#N/A"}},{"$f":"IF(AND(C518-シート!$C$87>=0,シート!$X$87-C518>=0),1,0)","v":{"$error":"#VALUE!"}},{"$error":"#N/A"},{"$error":"#N/A"},{"$f":"IF(AND(C518-シート!$CP$87>=0,シート!$DK$87-C518>=0),1,0)","v":{"$error":"#VALUE!"}},{"$error":"#N/A"},{"$error":"#N/A"},"1901-05-29"]
[517,51,"1901-05-30",{"$f":"+IF(AND(C519-シート!$BV$67>=0,シート!$AI$19-C519>=0),1,0)","v":{"$error":"#N/A"}},{"$f":"IF(AND(C519-シート!$C$87>=0,シート!$X$87-C519>=0),1,0)","v":{"$error":"#VALUE!"}},{"$error":"#N/A"},{"$error":"#N/A"},{"$f":"IF(AND(C519-シート!$CP$87>=0,シート!$DK$87-C519>=0),1,0)","v":{"$error":"#VALUE!"}},{"$error":"#N/A"},{"$error":"#N/A"},"1901-05-30"]
[518,51,"1901-05-31",{"$f":"+IF(AND(C520-シート!$BV$67>=0,シート!$AI$19-C520>=0),1,0)","v":{"$error":"#N/A"}},{"$f":"IF(AND(C520-シート!$C$87>=0,シート!$X$87-C520>=0),1,0)","v":{"$error":"#VALUE!"}},{"$error":"#N/A"},{"$error":"#N/A"},{"$f":"IF(AND(C520-シート!$CP$87>=0,シート!$DK$87-C520>=0),1,0)","v":{"$error":"#VALUE!"}},{"$error":"#N/A"},{"$error":"#N/A"},"1901-05-31"]
[519,52,"1901-06-01",{"$f":"+IF(AND(C521-シート!$BV$67>=0,シート!$AI$19-C521>=0),1,0)","v":{"$error":"#N/A"}},{"$f":"IF(AND(C521-シート!$C$87>=0,シート!$X$87-C521>=0),1,0)","v":{"$error":"#VALUE!"}},{"$error":"#N/A"},{"$error":"#N/A"},{"$f":"IF(AND(C521-シート!$CP$87>=0,シート!$DK$87-C521>=0),1,0)","v":{"$error":"#VALUE!"}},{"$error":"#N/A"},{"$error":"#N/A"},"1901-06-01"]
[520,52,"1901-06-02",{"$f":"+IF(AND(C522-シート!$BV$67>=0,シート!$AI$19-C522>=0),1,0)","v":{"$error":"#N/A"}},{"$f":"IF(AND(C522-シート!$C$87>=0,シート!$X$87-C522>=0),1,0)","v":{"$error":"#VALUE!"}},{"$error":"#N/A"},{"$error":"#N/A"},{"$f":"IF(AND(C522-シート!$CP$87>=0,シート!$DK$87-C522>=0),1,0)","v":{"$error":"#VALUE!"}},{"$error":"#N/A"},{"$error":"#N/A"},"1901-06-02"]
[521,52,"1901-06-03",{"$f":"+IF(AND(C523-シート!$BV$67>=0,シート!$AI$19-C523>=0),1,0)","v":{"$error":"#N/A"}},{"$f":"IF(AND(C523-シート!$C$87>=0,シート!$X$87-C523>=0),1,0)","v":{"$error":"#VALUE!"}},{"$error":"#N/A"},{"$error":"#N/A"},{"$f":"IF(AND(C523-シート!$CP$87>=0,シート!$DK$87-C523>=0),1,0)","v":{"$error":"#VALUE!"}},{"$error":"#N/A"},{"$error":"#N/A"},"1901-06-03"]
[522,52,"1901-06-04",{"$f":"+IF(AND(C524-シート!$BV$67>=0,シート!$AI$19-C524>=0),1,0)","v":{"$error":"#N/A"}},{"$f":"IF(AND(C524-シート!$C$87>=0,シート!$X$87-C524>=0),1,0)","v":{"$error":"#VALUE!"}},{"$error":"#N/A"},{"$error":"#N/A"},{"$f":"IF(AND(C524-シート!$CP$87>=0,シート!$DK$87-C524>=0),1,0)","v":{"$error":"#VALUE!"}},{"$error":"#N/A"},{"$error":"#N/A"},"1901-06-04"]
[523,52,"1901-06-05",{"$f":"+IF(AND(C525-シート!$BV$67>=0,シート!$AI$19-C525>=0),1,0)","v":{"$error":"#N/A"}},{"$f":"IF(AND(C525-シート!$C$87>=0,シート!$X$87-C525>=0),1,0)","v":{"$error":"#VALUE!"}},{"$error":"#N/A"},{"$error":"#N/A"},{"$f":"IF(AND(C525-シート!$CP$87>=0,シート!$DK$87-C525>=0),1,0)","v":{"$error":"#VALUE!"}},{"$error":"#N/A"},{"$error":"#N/A"},"1901-06-05"]
[524,52,"1901-06-06",{"$f":"+IF(AND(C526-シート!$BV$67>=0,シート!$AI$19-C526>=0),1,0)","v":{"$error":"#N/A"}},{"$f":"IF(AND(C526-シート!$C$87>=0,シート!$X$87-C526>=0),1,0)","v":{"$error":"#VALUE!"}},{"$error":"#N/A"},{"$error":"#N/A"},{"$f":"IF(AND(C526-シート!$CP$87>=0,シート!$DK$87-C526>=0),1,0)","v":{"$error":"#VALUE!"}},{"$error":"#N/A"},{"$error":"#N/A"},"1901-06-06"]
[525,52,"1901-06-07",{"$f":"+IF(AND(C527-シート!$BV$67>=0,シート!$AI$19-C527>=0),1,0)","v":{"$error":"#N/A"}},{"$f":"IF(AND(C527-シート!$C$87>=0,シート!$X$87-C527>=0),1,0)","v":{"$error":"#VALUE!"}},{"$error":"#N/A"},{"$error":"#N/A"},{"$f":"IF(AND(C527-シート!$CP$87>=0,シート!$DK$87-C527>=0),1,0)","v":{"$error":"#VALUE!"}},{"$error":"#N/A"},{"$error":"#N/A"},"1901-06-07"]
[526,52,"1901-06-08",{"$f":"+IF(AND(C528-シート!$BV$67>=0,シート!$AI$19-C528>=0),1,0)","v":{"$error":"#N/A"}},{"$f":"IF(AND(C528-シート!$C$87>=0,シート!$X$87-C528>=0),1,0)","v":{"$error":"#VALUE!"}},{"$error":"#N/A"},{"$error":"#N/A"},{"$f":"IF(AND(C528-シート!$CP$87>=0,シート!$DK$87-C528>=0),1,0)","v":{"$error":"#VALUE!"}},{"$error":"#N/A"},{"$error":"#N/A"},"1901-06-08"]
[527,52,"1901-06-09",{"$f":"+IF(AND(C529-シート!$BV$67>=0,シート!$AI$19-C529>=0),1,0)","v":{"$error":"#N/A"}},{"$f":"IF(AND(C529-シート!$C$87>=0,シート!$X$87-C529>=0),1,0)","v":{"$error":"#VALUE!"}},{"$error":"#N/A"},{"$error":"#N/A"},{"$f":"IF(AND(C529-シート!$CP$87>=0,シート!$DK$87-C529>=0),1,0)","v":{"$error":"#VALUE!"}},{"$error":"#N/A"},{"$error":"#N/A"},"1901-06-09"]
[528,52,"1901-06-10",{"$f":"+IF(AND(C530-シート!$BV$67>=0,シート!$AI$19-C530>=0),1,0)","v":{"$error":"#N/A"}},{"$f":"IF(AND(C530-シート!$C$87>=0,シート!$X$87-C530>=0),1,0)","v":{"$error":"#VALUE!"}},{"$error":"#N/A"},{"$error":"#N/A"},{"$f":"IF(AND(C530-シート!$CP$87>=0,シート!$DK$87-C530>=0),1,0)","v":{"$error":"#VALUE!"}},{"$error":"#N/A"},{"$error":"#N/A"},"1901-06-10"]
[529,53,"1901-06-11",{"$f":"+IF(AND(C531-シート!$BV$67>=0,シート!$AI$19-C531>=0),1,0)","v":{"$error":"#N/A"}},{"$f":"IF(AND(C531-シート!$C$87>=0,シート!$X$87-C531>=0),1,0)","v":{"$error":"#VALUE!"}},{"$error":"#N/A"},{"$error":"#N/A"},{"$f":"IF(AND(C531-シート!$CP$87>=0,シート!$DK$87-C531>=0),1,0)","v":{"$error":"#VALUE!"}},{"$error":"#N/A"},{"$error":"#N/A"},"1901-06-11"]
[530,53,"1901-06-12",{"$f":"+IF(AND(C532-シート!$BV$67>=0,シート!$AI$19-C532>=0),1,0)","v":{"$error":"#N/A"}},{"$f":"IF(AND(C532-シート!$C$87>=0,シート!$X$87-C532>=0),1,0)","v":{"$error":"#VALUE!"}},{"$error":"#N/A"},{"$error":"#N/A"},{"$f":"IF(AND(C532-シート!$CP$87>=0,シート!$DK$87-C532>=0),1,0)","v":{"$error":"#VALUE!"}},{"$error":"#N/A"},{"$error":"#N/A"},"1901-06-12"]
[531,53,"1901-06-13",{"$f":"+IF(AND(C533-シート!$BV$67>=0,シート!$AI$19-C533>=0),1,0)","v":{"$error":"#N/A"}},{"$f":"IF(AND(C533-シート!$C$87>=0,シート!$X$87-C533>=0),1,0)","v":{"$error":"#VALUE!"}},{"$error":"#N/A"},{"$error":"#N/A"},{"$f":"IF(AND(C533-シート!$CP$87>=0,シート!$DK$87-C533>=0),1,0)","v":{"$error":"#VALUE!"}},{"$error":"#N/A"},{"$error":"#N/A"},"1901-06-13"]
[532,53,"1901-06-14",{"$f":"+IF(AND(C534-シート!$BV$67>=0,シート!$AI$19-C534>=0),1,0)","v":{"$error":"#N/A"}},{"$f":"IF(AND(C534-シート!$C$87>=0,シート!$X$87-C534>=0),1,0)","v":{"$error":"#VALUE!"}},{"$error":"#N/A"},{"$error":"#N/A"},{"$f":"IF(AND(C534-シート!$CP$87>=0,シート!$DK$87-C534>=0),1,0)","v":{"$error":"#VALUE!"}},{"$error":"#N/A"},{"$error":"#N/A"},"1901-06-14"]
[533,53,"1901-06-15",{"$f":"+IF(AND(C535-シート!$BV$67>=0,シート!$AI$19-C535>=0),1,0)","v":{"$error":"#N/A"}},{"$f":"IF(AND(C535-シート!$C$87>=0,シート!$X$87-C535>=0),1,0)","v":{"$error":"#VALUE!"}},{"$error":"#N/A"},{"$error":"#N/A"},{"$f":"IF(AND(C535-シート!$CP$87>=0,シート!$DK$87-C535>=0),1,0)","v":{"$error":"#VALUE!"}},{"$error":"#N/A"},{"$error":"#N/A"},"1901-06-15"]
[534,53,"1901-06-16",{"$f":"+IF(AND(C536-シート!$BV$67>=0,シート!$AI$19-C536>=0),1,0)","v":{"$error":"#N/A"}},{"$f":"IF(AND(C536-シート!$C$87>=0,シート!$X$87-C536>=0),1,0)","v":{"$error":"#VALUE!"}},{"$error":"#N/A"},{"$error":"#N/A"},{"$f":"IF(AND(C536-シート!$CP$87>=0,シート!$DK$87-C536>=0),1,0)","v":{"$error":"#VALUE!"}},{"$error":"#N/A"},{"$error":"#N/A"},"1901-06-16"]
[535,53,"1901-06-17",{"$f":"+IF(AND(C537-シート!$BV$67>=0,シート!$AI$19-C537>=0),1,0)","v":{"$error":"#N/A"}},{"$f":"IF(AND(C537-シート!$C$87>=0,シート!$X$87-C537>=0),1,0)","v":{"$error":"#VALUE!"}},{"$error":"#N/A"},{"$error":"#N/A"},{"$f":"IF(AND(C537-シート!$CP$87>=0,シート!$DK$87-C537>=0),1,0)","v":{"$error":"#VALUE!"}},{"$error":"#N/A"},{"$error":"#N/A"},"1901-06-17"]
[536,53,"1901-06-18",{"$f":"+IF(AND(C538-シート!$BV$67>=0,シート!$AI$19-C538>=0),1,0)","v":{"$error":"#N/A"}},{"$f":"IF(AND(C538-シート!$C$87>=0,シート!$X$87-C538>=0),1,0)","v":{"$error":"#VALUE!"}},{"$error":"#N/A"},{"$error":"#N/A"},{"$f":"IF(AND(C538-シート!$CP$87>=0,シート!$DK$87-C538>=0),1,0)","v":{"$error":"#VALUE!"}},{"$error":"#N/A"},{"$error":"#N/A"},"1901-06-18"]
[537,53,"1901-06-19",{"$f":"+IF(AND(C539-シート!$BV$67>=0,シート!$AI$19-C539>=0),1,0)","v":{"$error":"#N/A"}},{"$f":"IF(AND(C539-シート!$C$87>=0,シート!$X$87-C539>=0),1,0)","v":{"$error":"#VALUE!"}},{"$error":"#N/A"},{"$error":"#N/A"},{"$f":"IF(AND(C539-シート!$CP$87>=0,シート!$DK$87-C539>=0),1,0)","v":{"$error":"#VALUE!"}},{"$error":"#N/A"},{"$error":"#N/A"},"1901-06-19"]
[538,53,"1901-06-20",{"$f":"+IF(AND(C540-シート!$BV$67>=0,シート!$AI$19-C540>=0),1,0)","v":{"$error":"#N/A"}},{"$f":"IF(AND(C540-シート!$C$87>=0,シート!$X$87-C540>=0),1,0)","v":{"$error":"#VALUE!"}},{"$error":"#N/A"},{"$error":"#N/A"},{"$f":"IF(AND(C540-シート!$CP$87>=0,シート!$DK$87-C540>=0),1,0)","v":{"$error":"#VALUE!"}},{"$error":"#N/A"},{"$error":"#N/A"},"1901-06-20"]
[539,54,"1901-06-21",{"$f":"+IF(AND(C541-シート!$BV$67>=0,シート!$AI$19-C541>=0),1,0)","v":{"$error":"#N/A"}},{"$f":"IF(AND(C541-シート!$C$87>=0,シート!$X$87-C541>=0),1,0)","v":{"$error":"#VALUE!"}},{"$error":"#N/A"},{"$error":"#N/A"},{"$f":"IF(AND(C541-シート!$CP$87>=0,シート!$DK$87-C541>=0),1,0)","v":{"$error":"#VALUE!"}},{"$error":"#N/A"},{"$error":"#N/A"},"1901-06-21"]
[540,54,"1901-06-22",{"$f":"+IF(AND(C542-シート!$BV$67>=0,シート!$AI$19-C542>=0),1,0)","v":{"$error":"#N/A"}},{"$f":"IF(AND(C542-シート!$C$87>=0,シート!$X$87-C542>=0),1,0)","v":{"$error":"#VALUE!"}},{"$error":"#N/A"},{"$error":"#N/A"},{"$f":"IF(AND(C542-シート!$CP$87>=0,シート!$DK$87-C542>=0),1,0)","v":{"$error":"#VALUE!"}},{"$error":"#N/A"},{"$error":"#N/A"},"1901-06-22"]
[541,54,"1901-06-23",{"$f":"+IF(AND(C543-シート!$BV$67>=0,シート!$AI$19-C543>=0),1,0)","v":{"$error":"#N/A"}},{"$f":"IF(AND(C543-シート!$C$87>=0,シート!$X$87-C543>=0),1,0)","v":{"$error":"#VALUE!"}},{"$error":"#N/A"},{"$error":"#N/A"},{"$f":"IF(AND(C543-シート!$CP$87>=0,シート!$DK$87-C543>=0),1,0)","v":{"$error":"#VALUE!"}},{"$error":"#N/A"},{"$error":"#N/A"},"1901-06-23"]
[542,54,"1901-06-24",{"$f":"+IF(AND(C544-シート!$BV$67>=0,シート!$AI$19-C544>=0),1,0)","v":{"$error":"#N/A"}},{"$f":"IF(AND(C544-シート!$C$87>=0,シート!$X$87-C544>=0),1,0)","v":{"$error":"#VALUE!"}},{"$error":"#N/A"},{"$error":"#N/A"},{"$f":"IF(AND(C544-シート!$CP$87>=0,シート!$DK$87-C544>=0),1,0)","v":{"$error":"#VALUE!"}},{"$error":"#N/A"},{"$error":"#N/A"},"1901-06-24"]
[543,54,"1901-06-25",{"$f":"+IF(AND(C545-シート!$BV$67>=0,シート!$AI$19-C545>=0),1,0)","v":{"$error":"#N/A"}},{"$f":"IF(AND(C545-シート!$C$87>=0,シート!$X$87-C545>=0),1,0)","v":{"$error":"#VALUE!"}},{"$error":"#N/A"},{"$error":"#N/A"},{"$f":"IF(AND(C545-シート!$CP$87>=0,シート!$DK$87-C545>=0),1,0)","v":{"$error":"#VALUE!"}},{"$error":"#N/A"},{"$error":"#N/A"},"1901-06-25"]
[544,54,"1901-06-26",{"$f":"+IF(AND(C546-シート!$BV$67>=0,シート!$AI$19-C546>=0),1,0)","v":{"$error":"#N/A"}},{"$f":"IF(AND(C546-シート!$C$87>=0,シート!$X$87-C546>=0),1,0)","v":{"$error":"#VALUE!"}},{"$error":"#N/A"},{"$error":"#N/A"},{"$f":"IF(AND(C546-シート!$CP$87>=0,シート!$DK$87-C546>=0),1,0)","v":{"$error":"#VALUE!"}},{"$error":"#N/A"},{"$error":"#N/A"},"1901-06-26"]
[545,54,"1901-06-27",{"$f":"+IF(AND(C547-シート!$BV$67>=0,シート!$AI$19-C547>=0),1,0)","v":{"$error":"#N/A"}},{"$f":"IF(AND(C547-シート!$C$87>=0,シート!$X$87-C547>=0),1,0)","v":{"$error":"#VALUE!"}},{"$error":"#N/A"},{"$error":"#N/A"},{"$f":"IF(AND(C547-シート!$CP$87>=0,シート!$DK$87-C547>=0),1,0)","v":{"$error":"#VALUE!"}},{"$error":"#N/A"},{"$error":"#N/A"},"1901-06-27"]
[546,54,"1901-06-28",{"$f":"+IF(AND(C548-シート!$BV$67>=0,シート!$AI$19-C548>=0),1,0)","v":{"$error":"#N/A"}},{"$f":"IF(AND(C548-シート!$C$87>=0,シート!$X$87-C548>=0),1,0)","v":{"$error":"#VALUE!"}},{"$error":"#N/A"},{"$error":"#N/A"},{"$f":"IF(AND(C548-シート!$CP$87>=0,シート!$DK$87-C548>=0),1,0)","v":{"$error":"#VALUE!"}},{"$error":"#N/A"},{"$error":"#N/A"},"1901-06-28"]
[547,54,"1901-06-29",{"$f":"+IF(AND(C549-シート!$BV$67>=0,シート!$AI$19-C549>=0),1,0)","v":{"$error":"#N/A"}},{"$f":"IF(AND(C549-シート!$C$87>=0,シート!$X$87-C549>=0),1,0)","v":{"$error":"#VALUE!"}},{"$error":"#N/A"},{"$error":"#N/A"},{"$f":"IF(AND(C549-シート!$CP$87>=0,シート!$DK$87-C549>=0),1,0)","v":{"$error":"#VALUE!"}},{"$error":"#N/A"},{"$error":"#N/A"},"1901-06-29"]
[548,54,"1901-06-30",{"$f":"+IF(AND(C550-シート!$BV$67>=0,シート!$AI$19-C550>=0),1,0)","v":{"$error":"#N/A"}},{"$f":"IF(AND(C550-シート!$C$87>=0,シート!$X$87-C550>=0),1,0)","v":{"$error":"#VALUE!"}},{"$error":"#N/A"},{"$error":"#N/A"},{"$f":"IF(AND(C550-シート!$CP$87>=0,シート!$DK$87-C550>=0),1,0)","v":{"$error":"#VALUE!"}},{"$error":"#N/A"},{"$error":"#N/A"},"1901-06-30"]
[549,55,"1901-07-01",{"$f":"+IF(AND(C551-シート!$BV$67>=0,シート!$AI$19-C551>=0),1,0)","v":{"$error":"#N/A"}},{"$f":"IF(AND(C551-シート!$C$87>=0,シート!$X$87-C551>=0),1,0)","v":{"$error":"#VALUE!"}},{"$error":"#N/A"},{"$error":"#N/A"},{"$f":"IF(AND(C551-シート!$CP$87>=0,シート!$DK$87-C551>=0),1,0)","v":{"$error":"#VALUE!"}},{"$error":"#N/A"},{"$error":"#N/A"},"1901-07-01"]
[550,55,"1901-07-02",{"$f":"+IF(AND(C552-シート!$BV$67>=0,シート!$AI$19-C552>=0),1,0)","v":{"$error":"#N/A"}},{"$f":"IF(AND(C552-シート!$C$87>=0,シート!$X$87-C552>=0),1,0)","v":{"$error":"#VALUE!"}},{"$error":"#N/A"},{"$error":"#N/A"},{"$f":"IF(AND(C552-シート!$CP$87>=0,シート!$DK$87-C552>=0),1,0)","v":{"$error":"#VALUE!"}},{"$error":"#N/A"},{"$error":"#N/A"},"1901-07-02"]
[551,55,"1901-07-03",{"$f":"+IF(AND(C553-シート!$BV$67>=0,シート!$AI$19-C553>=0),1,0)","v":{"$error":"#N/A"}},{"$f":"IF(AND(C553-シート!$C$87>=0,シート!$X$87-C553>=0),1,0)","v":{"$error":"#VALUE!"}},{"$error":"#N/A"},{"$error":"#N/A"},{"$f":"IF(AND(C553-シート!$CP$87>=0,シート!$DK$87-C553>=0),1,0)","v":{"$error":"#VALUE!"}},{"$error":"#N/A"},{"$error":"#N/A"},"1901-07-03"]
[552,55,"1901-07-04",{"$f":"+IF(AND(C554-シート!$BV$67>=0,シート!$AI$19-C554>=0),1,0)","v":{"$error":"#N/A"}},{"$f":"IF(AND(C554-シート!$C$87>=0,シート!$X$87-C554>=0),1,0)","v":{"$error":"#VALUE!"}},{"$error":"#N/A"},{"$error":"#N/A"},{"$f":"IF(AND(C554-シート!$CP$87>=0,シート!$DK$87-C554>=0),1,0)","v":{"$error":"#VALUE!"}},{"$error":"#N/A"},{"$error":"#N/A"},"1901-07-04"]
[553,55,"1901-07-05",{"$f":"+IF(AND(C555-シート!$BV$67>=0,シート!$AI$19-C555>=0),1,0)","v":{"$error":"#N/A"}},{"$f":"IF(AND(C555-シート!$C$87>=0,シート!$X$87-C555>=0),1,0)","v":{"$error":"#VALUE!"}},{"$error":"#N/A"},{"$error":"#N/A"},{"$f":"IF(AND(C555-シート!$CP$87>=0,シート!$DK$87-C555>=0),1,0)","v":{"$error":"#VALUE!"}},{"$error":"#N/A"},{"$error":"#N/A"},"1901-07-05"]
[554,55,"1901-07-06",{"$f":"+IF(AND(C556-シート!$BV$67>=0,シート!$AI$19-C556>=0),1,0)","v":{"$error":"#N/A"}},{"$f":"IF(AND(C556-シート!$C$87>=0,シート!$X$87-C556>=0),1,0)","v":{"$error":"#VALUE!"}},{"$error":"#N/A"},{"$error":"#N/A"},{"$f":"IF(AND(C556-シート!$CP$87>=0,シート!$DK$87-C556>=0),1,0)","v":{"$error":"#VALUE!"}},{"$error":"#N/A"},{"$error":"#N/A"},"1901-07-06"]
[555,55,"1901-07-07",{"$f":"+IF(AND(C557-シート!$BV$67>=0,シート!$AI$19-C557>=0),1,0)","v":{"$error":"#N/A"}},{"$f":"IF(AND(C557-シート!$C$87>=0,シート!$X$87-C557>=0),1,0)","v":{"$error":"#VALUE!"}},{"$error":"#N/A"},{"$error":"#N/A"},{"$f":"IF(AND(C557-シート!$CP$87>=0,シート!$DK$87-C557>=0),1,0)","v":{"$error":"#VALUE!"}},{"$error":"#N/A"},{"$error":"#N/A"},"1901-07-07"]
[556,55,"1901-07-08",{"$f":"+IF(AND(C558-シート!$BV$67>=0,シート!$AI$19-C558>=0),1,0)","v":{"$error":"#N/A"}},{"$f":"IF(AND(C558-シート!$C$87>=0,シート!$X$87-C558>=0),1,0)","v":{"$error":"#VALUE!"}},{"$error":"#N/A"},{"$error":"#N/A"},{"$f":"IF(AND(C558-シート!$CP$87>=0,シート!$DK$87-C558>=0),1,0)","v":{"$error":"#VALUE!"}},{"$error":"#N/A"},{"$error":"#N/A"},"1901-07-08"]
[557,55,"1901-07-09",{"$f":"+IF(AND(C559-シート!$BV$67>=0,シート!$AI$19-C559>=0),1,0)","v":{"$error":"#N/A"}},{"$f":"IF(AND(C559-シート!$C$87>=0,シート!$X$87-C559>=0),1,0)","v":{"$error":"#VALUE!"}},{"$error":"#N/A"},{"$error":"#N/A"},{"$f":"IF(AND(C559-シート!$CP$87>=0,シート!$DK$87-C559>=0),1,0)","v":{"$error":"#VALUE!"}},{"$error":"#N/A"},{"$error":"#N/A"},"1901-07-09"]
[558,55,"1901-07-10",{"$f":"+IF(AND(C560-シート!$BV$67>=0,シート!$AI$19-C560>=0),1,0)","v":{"$error":"#N/A"}},{"$f":"IF(AND(C560-シート!$C$87>=0,シート!$X$87-C560>=0),1,0)","v":{"$error":"#VALUE!"}},{"$error":"#N/A"},{"$error":"#N/A"},{"$f":"IF(AND(C560-シート!$CP$87>=0,シート!$DK$87-C560>=0),1,0)","v":{"$error":"#VALUE!"}},{"$error":"#N/A"},{"$error":"#N/A"},"1901-07-10"]
[559,56,"1901-07-11",{"$f":"+IF(AND(C561-シート!$BV$67>=0,シート!$AI$19-C561>=0),1,0)","v":{"$error":"#N/A"}},{"$f":"IF(AND(C561-シート!$C$87>=0,シート!$X$87-C561>=0),1,0)","v":{"$error":"#VALUE!"}},{"$error":"#N/A"},{"$error":"#N/A"},{"$f":"IF(AND(C561-シート!$CP$87>=0,シート!$DK$87-C561>=0),1,0)","v":{"$error":"#VALUE!"}},{"$error":"#N/A"},{"$error":"#N/A"},"1901-07-11"]
[560,56,"1901-07-12",{"$f":"+IF(AND(C562-シート!$BV$67>=0,シート!$AI$19-C562>=0),1,0)","v":{"$error":"#N/A"}},{"$f":"IF(AND(C562-シート!$C$87>=0,シート!$X$87-C562>=0),1,0)","v":{"$error":"#VALUE!"}},{"$error":"#N/A"},{"$error":"#N/A"},{"$f":"IF(AND(C562-シート!$CP$87>=0,シート!$DK$87-C562>=0),1,0)","v":{"$error":"#VALUE!"}},{"$error":"#N/A"},{"$error":"#N/A"},"1901-07-12"]
[561,56,"1901-07-13",{"$f":"+IF(AND(C563-シート!$BV$67>=0,シート!$AI$19-C563>=0),1,0)","v":{"$error":"#N/A"}},{"$f":"IF(AND(C563-シート!$C$87>=0,シート!$X$87-C563>=0),1,0)","v":{"$error":"#VALUE!"}},{"$error":"#N/A"},{"$error":"#N/A"},{"$f":"IF(AND(C563-シート!$CP$87>=0,シート!$DK$87-C563>=0),1,0)","v":{"$error":"#VALUE!"}},{"$error":"#N/A"},{"$error":"#N/A"},"1901-07-13"]
[562,56,"1901-07-14",{"$f":"+IF(AND(C564-シート!$BV$67>=0,シート!$AI$19-C564>=0),1,0)","v":{"$error":"#N/A"}},{"$f":"IF(AND(C564-シート!$C$87>=0,シート!$X$87-C564>=0),1,0)","v":{"$error":"#VALUE!"}},{"$error":"#N/A"},{"$error":"#N/A"},{"$f":"IF(AND(C564-シート!$CP$87>=0,シート!$DK$87-C564>=0),1,0)","v":{"$error":"#VALUE!"}},{"$error":"#N/A"},{"$error":"#N/A"},"1901-07-14"]
[563,56,"1901-07-15",{"$f":"+IF(AND(C565-シート!$BV$67>=0,シート!$AI$19-C565>=0),1,0)","v":{"$error":"#N/A"}},{"$f":"IF(AND(C565-シート!$C$87>=0,シート!$X$87-C565>=0),1,0)","v":{"$error":"#VALUE!"}},{"$error":"#N/A"},{"$error":"#N/A"},{"$f":"IF(AND(C565-シート!$CP$87>=0,シート!$DK$87-C565>=0),1,0)","v":{"$error":"#VALUE!"}},{"$error":"#N/A"},{"$error":"#N/A"},"1901-07-15"]
[564,56,"1901-07-16",{"$f":"+IF(AND(C566-シート!$BV$67>=0,シート!$AI$19-C566>=0),1,0)","v":{"$error":"#N/A"}},{"$f":"IF(AND(C566-シート!$C$87>=0,シート!$X$87-C566>=0),1,0)","v":{"$error":"#VALUE!"}},{"$error":"#N/A"},{"$error":"#N/A"},{"$f":"IF(AND(C566-シート!$CP$87>=0,シート!$DK$87-C566>=0),1,0)","v":{"$error":"#VALUE!"}},{"$error":"#N/A"},{"$error":"#N/A"},"1901-07-16"]
[565,56,"1901-07-17",{"$f":"+IF(AND(C567-シート!$BV$67>=0,シート!$AI$19-C567>=0),1,0)","v":{"$error":"#N/A"}},{"$f":"IF(AND(C567-シート!$C$87>=0,シート!$X$87-C567>=0),1,0)","v":{"$error":"#VALUE!"}},{"$error":"#N/A"},{"$error":"#N/A"},{"$f":"IF(AND(C567-シート!$CP$87>=0,シート!$DK$87-C567>=0),1,0)","v":{"$error":"#VALUE!"}},{"$error":"#N/A"},{"$error":"#N/A"},"1901-07-17"]
[566,56,"1901-07-18",{"$f":"+IF(AND(C568-シート!$BV$67>=0,シート!$AI$19-C568>=0),1,0)","v":{"$error":"#N/A"}},{"$f":"IF(AND(C568-シート!$C$87>=0,シート!$X$87-C568>=0),1,0)","v":{"$error":"#VALUE!"}},{"$error":"#N/A"},{"$error":"#N/A"},{"$f":"IF(AND(C568-シート!$CP$87>=0,シート!$DK$87-C568>=0),1,0)","v":{"$error":"#VALUE!"}},{"$error":"#N/A"},{"$error":"#N/A"},"1901-07-18"]
[567,56,"1901-07-19",{"$f":"+IF(AND(C569-シート!$BV$67>=0,シート!$AI$19-C569>=0),1,0)","v":{"$error":"#N/A"}},{"$f":"IF(AND(C569-シート!$C$87>=0,シート!$X$87-C569>=0),1,0)","v":{"$error":"#VALUE!"}},{"$error":"#N/A"},{"$error":"#N/A"},{"$f":"IF(AND(C569-シート!$CP$87>=0,シート!$DK$87-C569>=0),1,0)","v":{"$error":"#VALUE!"}},{"$error":"#N/A"},{"$error":"#N/A"},"1901-07-19"]
[568,56,"1901-07-20",{"$f":"+IF(AND(C570-シート!$BV$67>=0,シート!$AI$19-C570>=0),1,0)","v":{"$error":"#N/A"}},{"$f":"IF(AND(C570-シート!$C$87>=0,シート!$X$87-C570>=0),1,0)","v":{"$error":"#VALUE!"}},{"$error":"#N/A"},{"$error":"#N/A"},{"$f":"IF(AND(C570-シート!$CP$87>=0,シート!$DK$87-C570>=0),1,0)","v":{"$error":"#VALUE!"}},{"$error":"#N/A"},{"$error":"#N/A"},"1901-07-20"]
[569,56,"1901-07-21",{"$f":"+IF(AND(C571-シート!$BV$67>=0,シート!$AI$19-C571>=0),1,0)","v":{"$error":"#N/A"}},{"$f":"IF(AND(C571-シート!$C$87>=0,シート!$X$87-C571>=0),1,0)","v":{"$error":"#VALUE!"}},{"$error":"#N/A"},{"$error":"#N/A"},{"$f":"IF(AND(C571-シート!$CP$87>=0,シート!$DK$87-C571>=0),1,0)","v":{"$error":"#VALUE!"}},{"$error":"#N/A"},{"$error":"#N/A"},"1901-07-21"]
[570,57,"1901-07-22",{"$f":"+IF(AND(C572-シート!$BV$67>=0,シート!$AI$19-C572>=0),1,0)","v":{"$error":"#N/A"}},{"$f":"IF(AND(C572-シート!$C$87>=0,シート!$X$87-C572>=0),1,0)","v":{"$error":"#VALUE!"}},{"$error":"#N/A"},{"$error":"#N/A"},{"$f":"IF(AND(C572-シート!$CP$87>=0,シート!$DK$87-C572>=0),1,0)","v":{"$error":"#VALUE!"}},{"$error":"#N/A"},{"$error":"#N/A"},"1901-07-22"]
[571,57,"1901-07-23",{"$f":"+IF(AND(C573-シート!$BV$67>=0,シート!$AI$19-C573>=0),1,0)","v":{"$error":"#N/A"}},{"$f":"IF(AND(C573-シート!$C$87>=0,シート!$X$87-C573>=0),1,0)","v":{"$error":"#VALUE!"}},{"$error":"#N/A"},{"$error":"#N/A"},{"$f":"IF(AND(C573-シート!$CP$87>=0,シート!$DK$87-C573>=0),1,0)","v":{"$error":"#VALUE!"}},{"$error":"#N/A"},{"$error":"#N/A"},"1901-07-23"]
[572,57,"1901-07-24",{"$f":"+IF(AND(C574-シート!$BV$67>=0,シート!$AI$19-C574>=0),1,0)","v":{"$error":"#N/A"}},{"$f":"IF(AND(C574-シート!$C$87>=0,シート!$X$87-C574>=0),1,0)","v":{"$error":"#VALUE!"}},{"$error":"#N/A"},{"$error":"#N/A"},{"$f":"IF(AND(C574-シート!$CP$87>=0,シート!$DK$87-C574>=0),1,0)","v":{"$error":"#VALUE!"}},{"$error":"#N/A"},{"$error":"#N/A"},"1901-07-24"]
[573,57,"1901-07-25",{"$f":"+IF(AND(C575-シート!$BV$67>=0,シート!$AI$19-C575>=0),1,0)","v":{"$error":"#N/A"}},{"$f":"IF(AND(C575-シート!$C$87>=0,シート!$X$87-C575>=0),1,0)","v":{"$error":"#VALUE!"}},{"$error":"#N/A"},{"$error":"#N/A"},{"$f":"IF(AND(C575-シート!$CP$87>=0,シート!$DK$87-C575>=0),1,0)","v":{"$error":"#VALUE!"}},{"$error":"#N/A"},{"$error":"#N/A"},"1901-07-25"]
[574,57,"1901-07-26",{"$f":"+IF(AND(C576-シート!$BV$67>=0,シート!$AI$19-C576>=0),1,0)","v":{"$error":"#N/A"}},{"$f":"IF(AND(C576-シート!$C$87>=0,シート!$X$87-C576>=0),1,0)","v":{"$error":"#VALUE!"}},{"$error":"#N/A"},{"$error":"#N/A"},{"$f":"IF(AND(C576-シート!$CP$87>=0,シート!$DK$87-C576>=0),1,0)","v":{"$error":"#VALUE!"}},{"$error":"#N/A"},{"$error":"#N/A"},"1901-07-26"]
[575,57,"1901-07-27",{"$f":"+IF(AND(C577-シート!$BV$67>=0,シート!$AI$19-C577>=0),1,0)","v":{"$error":"#N/A"}},{"$f":"IF(AND(C577-シート!$C$87>=0,シート!$X$87-C577>=0),1,0)","v":{"$error":"#VALUE!"}},{"$error":"#N/A"},{"$error":"#N/A"},{"$f":"IF(AND(C577-シート!$CP$87>=0,シート!$DK$87-C577>=0),1,0)","v":{"$error":"#VALUE!"}},{"$error":"#N/A"},{"$error":"#N/A"},"1901-07-27"]
[576,57,"1901-07-28",{"$f":"+IF(AND(C578-シート!$BV$67>=0,シート!$AI$19-C578>=0),1,0)","v":{"$error":"#N/A"}},{"$f":"IF(AND(C578-シート!$C$87>=0,シート!$X$87-C578>=0),1,0)","v":{"$error":"#VALUE!"}},{"$error":"#N/A"},{"$error":"#N/A"},{"$f":"IF(AND(C578-シート!$CP$87>=0,シート!$DK$87-C578>=0),1,0)","v":{"$error":"#VALUE!"}},{"$error":"#N/A"},{"$error":"#N/A"},"1901-07-28"]
[577,57,"1901-07-29",{"$f":"+IF(AND(C579-シート!$BV$67>=0,シート!$AI$19-C579>=0),1,0)","v":{"$error":"#N/A"}},{"$f":"IF(AND(C579-シート!$C$87>=0,シート!$X$87-C579>=0),1,0)","v":{"$error":"#VALUE!"}},{"$error":"#N/A"},{"$error":"#N/A"},{"$f":"IF(AND(C579-シート!$CP$87>=0,シート!$DK$87-C579>=0),1,0)","v":{"$error":"#VALUE!"}},{"$error":"#N/A"},{"$error":"#N/A"},"1901-07-29"]
[578,57,"1901-07-30",{"$f":"+IF(AND(C580-シート!$BV$67>=0,シート!$AI$19-C580>=0),1,0)","v":{"$error":"#N/A"}},{"$f":"IF(AND(C580-シート!$C$87>=0,シート!$X$87-C580>=0),1,0)","v":{"$error":"#VALUE!"}},{"$f":"IF(+D580+E580=2,1,0)","v":{"$error":"#N/A"}},{"$error":"#N/A"},{"$f":"IF(AND(C580-シート!$CP$87>=0,シート!$DK$87-C580>=0),1,0)","v":{"$error":"#VALUE!"}},{"$f":"IF(+D580+H580=2,1,0)","v":{"$error":"#N/A"}},{"$error":"#N/A"},{"$f":"+C580","v":"1901-07-30"}]
[{"$f":"+A580+1","v":579},57,{"$f":"+C580+1","v":"1901-07-31"},{"$f":"+IF(AND(C581-シート!$BV$67>=0,シート!$AI$19-C581>=0),1,0)","v":{"$error":"#N/A"}},{"$f":"IF(AND(C581-シート!$C$87>=0,シート!$X$87-C581>=0),1,0)","v":{"$error":"#VALUE!"}},{"$error":"#N/A"},{"$f":"+G580+F581","v":{"$error":"#N/A"}},{"$f":"IF(AND(C581-シート!$CP$87>=0,シート!$DK$87-C581>=0),1,0)","v":{"$error":"#VALUE!"}},{"$error":"#N/A"},{"$f":"+J580+I581","v":{"$error":"#N/A"}},"1901-07-31"]
[580,58,"1901-08-01",{"$f":"+IF(AND(C582-シート!$BV$67>=0,シート!$AI$19-C582>=0),1,0)","v":{"$error":"#N/A"}},{"$f":"IF(AND(C582-シート!$C$87>=0,シート!$X$87-C582>=0),1,0)","v":{"$error":"#VALUE!"}},{"$error":"#N/A"},{"$error":"#N/A"},{"$f":"IF(AND(C582-シート!$CP$87>=0,シート!$DK$87-C582>=0),1,0)","v":{"$error":"#VALUE!"}},{"$error":"#N/A"},{"$error":"#N/A"},"1901-08-01"]
[581,58,"1901-08-02",{"$f":"+IF(AND(C583-シート!$BV$67>=0,シート!$AI$19-C583>=0),1,0)","v":{"$error":"#N/A"}},{"$f":"IF(AND(C583-シート!$C$87>=0,シート!$X$87-C583>=0),1,0)","v":{"$error":"#VALUE!"}},{"$error":"#N/A"},{"$error":"#N/A"},{"$f":"IF(AND(C583-シート!$CP$87>=0,シート!$DK$87-C583>=0),1,0)","v":{"$error":"#VALUE!"}},{"$error":"#N/A"},{"$error":"#N/A"},"1901-08-02"]
[582,58,"1901-08-03",{"$f":"+IF(AND(C584-シート!$BV$67>=0,シート!$AI$19-C584>=0),1,0)","v":{"$error":"#N/A"}},{"$f":"IF(AND(C584-シート!$C$87>=0,シート!$X$87-C584>=0),1,0)","v":{"$error":"#VALUE!"}},{"$error":"#N/A"},{"$error":"#N/A"},{"$f":"IF(AND(C584-シート!$CP$87>=0,シート!$DK$87-C584>=0),1,0)","v":{"$error":"#VALUE!"}},{"$error":"#N/A"},{"$error":"#N/A"},"1901-08-03"]
[583,58,"1901-08-04",{"$f":"+IF(AND(C585-シート!$BV$67>=0,シート!$AI$19-C585>=0),1,0)","v":{"$error":"#N/A"}},{"$f":"IF(AND(C585-シート!$C$87>=0,シート!$X$87-C585>=0),1,0)","v":{"$error":"#VALUE!"}},{"$error":"#N/A"},{"$error":"#N/A"},{"$f":"IF(AND(C585-シート!$CP$87>=0,シート!$DK$87-C585>=0),1,0)","v":{"$error":"#VALUE!"}},{"$error":"#N/A"},{"$error":"#N/A"},"1901-08-04"]
[584,58,"1901-08-05",{"$f":"+IF(AND(C586-シート!$BV$67>=0,シート!$AI$19-C586>=0),1,0)","v":{"$error":"#N/A"}},{"$f":"IF(AND(C586-シート!$C$87>=0,シート!$X$87-C586>=0),1,0)","v":{"$error":"#VALUE!"}},{"$error":"#N/A"},{"$error":"#N/A"},{"$f":"IF(AND(C586-シート!$CP$87>=0,シート!$DK$87-C586>=0),1,0)","v":{"$error":"#VALUE!"}},{"$error":"#N/A"},{"$error":"#N/A"},"1901-08-05"]
[585,58,"1901-08-06",{"$f":"+IF(AND(C587-シート!$BV$67>=0,シート!$AI$19-C587>=0),1,0)","v":{"$error":"#N/A"}},{"$f":"IF(AND(C587-シート!$C$87>=0,シート!$X$87-C587>=0),1,0)","v":{"$error":"#VALUE!"}},{"$error":"#N/A"},{"$error":"#N/A"},{"$f":"IF(AND(C587-シート!$CP$87>=0,シート!$DK$87-C587>=0),1,0)","v":{"$error":"#VALUE!"}},{"$error":"#N/A"},{"$error":"#N/A"},"1901-08-06"]
[586,58,"1901-08-07",{"$f":"+IF(AND(C588-シート!$BV$67>=0,シート!$AI$19-C588>=0),1,0)","v":{"$error":"#N/A"}},{"$f":"IF(AND(C588-シート!$C$87>=0,シート!$X$87-C588>=0),1,0)","v":{"$error":"#VALUE!"}},{"$error":"#N/A"},{"$error":"#N/A"},{"$f":"IF(AND(C588-シート!$CP$87>=0,シート!$DK$87-C588>=0),1,0)","v":{"$error":"#VALUE!"}},{"$error":"#N/A"},{"$error":"#N/A"},"1901-08-07"]
[587,58,"1901-08-08",{"$f":"+IF(AND(C589-シート!$BV$67>=0,シート!$AI$19-C589>=0),1,0)","v":{"$error":"#N/A"}},{"$f":"IF(AND(C589-シート!$C$87>=0,シート!$X$87-C589>=0),1,0)","v":{"$error":"#VALUE!"}},{"$error":"#N/A"},{"$error":"#N/A"},{"$f":"IF(AND(C589-シート!$CP$87>=0,シート!$DK$87-C589>=0),1,0)","v":{"$error":"#VALUE!"}},{"$error":"#N/A"},{"$error":"#N/A"},"1901-08-08"]
[588,58,"1901-08-09",{"$f":"+IF(AND(C590-シート!$BV$67>=0,シート!$AI$19-C590>=0),1,0)","v":{"$error":"#N/A"}},{"$f":"IF(AND(C590-シート!$C$87>=0,シート!$X$87-C590>=0),1,0)","v":{"$error":"#VALUE!"}},{"$error":"#N/A"},{"$error":"#N/A"},{"$f":"IF(AND(C590-シート!$CP$87>=0,シート!$DK$87-C590>=0),1,0)","v":{"$error":"#VALUE!"}},{"$error":"#N/A"},{"$error":"#N/A"},"1901-08-09"]
[589,58,"1901-08-10",{"$f":"+IF(AND(C591-シート!$BV$67>=0,シート!$AI$19-C591>=0),1,0)","v":{"$error":"#N/A"}},{"$f":"IF(AND(C591-シート!$C$87>=0,シート!$X$87-C591>=0),1,0)","v":{"$error":"#VALUE!"}},{"$error":"#N/A"},{"$error":"#N/A"},{"$f":"IF(AND(C591-シート!$CP$87>=0,シート!$DK$87-C591>=0),1,0)","v":{"$error":"#VALUE!"}},{"$error":"#N/A"},{"$error":"#N/A"},"1901-08-10"]
[590,59,"1901-08-11",{"$f":"+IF(AND(C592-シート!$BV$67>=0,シート!$AI$19-C592>=0),1,0)","v":{"$error":"#N/A"}},{"$f":"IF(AND(C592-シート!$C$87>=0,シート!$X$87-C592>=0),1,0)","v":{"$error":"#VALUE!"}},{"$error":"#N/A"},{"$error":"#N/A"},{"$f":"IF(AND(C592-シート!$CP$87>=0,シート!$DK$87-C592>=0),1,0)","v":{"$error":"#VALUE!"}},{"$error":"#N/A"},{"$error":"#N/A"},"1901-08-11"]
[591,59,"1901-08-12",{"$f":"+IF(AND(C593-シート!$BV$67>=0,シート!$AI$19-C593>=0),1,0)","v":{"$error":"#N/A"}},{"$f":"IF(AND(C593-シート!$C$87>=0,シート!$X$87-C593>=0),1,0)","v":{"$error":"#VALUE!"}},{"$error":"#N/A"},{"$error":"#N/A"},{"$f":"IF(AND(C593-シート!$CP$87>=0,シート!$DK$87-C593>=0),1,0)","v":{"$error":"#VALUE!"}},{"$error":"#N/A"},{"$error":"#N/A"},"1901-08-12"]
[592,59,"1901-08-13",{"$f":"+IF(AND(C594-シート!$BV$67>=0,シート!$AI$19-C594>=0),1,0)","v":{"$error":"#N/A"}},{"$f":"IF(AND(C594-シート!$C$87>=0,シート!$X$87-C594>=0),1,0)","v":{"$error":"#VALUE!"}},{"$error":"#N/A"},{"$error":"#N/A"},{"$f":"IF(AND(C594-シート!$CP$87>=0,シート!$DK$87-C594>=0),1,0)","v":{"$error":"#VALUE!"}},{"$error":"#N/A"},{"$error":"#N/A"},"1901-08-13"]
[593,59,"1901-08-14",{"$f":"+IF(AND(C595-シート!$BV$67>=0,シート!$AI$19-C595>=0),1,0)","v":{"$error":"#N/A"}},{"$f":"IF(AND(C595-シート!$C$87>=0,シート!$X$87-C595>=0),1,0)","v":{"$error":"#VALUE!"}},{"$error":"#N/A"},{"$error":"#N/A"},{"$f":"IF(AND(C595-シート!$CP$87>=0,シート!$DK$87-C595>=0),1,0)","v":{"$error":"#VALUE!"}},{"$error":"#N/A"},{"$error":"#N/A"},"1901-08-14"]
[594,59,"1901-08-15",{"$f":"+IF(AND(C596-シート!$BV$67>=0,シート!$AI$19-C596>=0),1,0)","v":{"$error":"#N/A"}},{"$f":"IF(AND(C596-シート!$C$87>=0,シート!$X$87-C596>=0),1,0)","v":{"$error":"#VALUE!"}},{"$error":"#N/A"},{"$error":"#N/A"},{"$f":"IF(AND(C596-シート!$CP$87>=0,シート!$DK$87-C596>=0),1,0)","v":{"$error":"#VALUE!"}},{"$error":"#N/A"},{"$error":"#N/A"},"1901-08-15"]
[595,59,"1901-08-16",{"$f":"+IF(AND(C597-シート!$BV$67>=0,シート!$AI$19-C597>=0),1,0)","v":{"$error":"#N/A"}},{"$f":"IF(AND(C597-シート!$C$87>=0,シート!$X$87-C597>=0),1,0)","v":{"$error":"#VALUE!"}},{"$error":"#N/A"},{"$error":"#N/A"},{"$f":"IF(AND(C597-シート!$CP$87>=0,シート!$DK$87-C597>=0),1,0)","v":{"$error":"#VALUE!"}},{"$error":"#N/A"},{"$error":"#N/A"},"1901-08-16"]
[596,59,"1901-08-17",{"$f":"+IF(AND(C598-シート!$BV$67>=0,シート!$AI$19-C598>=0),1,0)","v":{"$error":"#N/A"}},{"$f":"IF(AND(C598-シート!$C$87>=0,シート!$X$87-C598>=0),1,0)","v":{"$error":"#VALUE!"}},{"$error":"#N/A"},{"$error":"#N/A"},{"$f":"IF(AND(C598-シート!$CP$87>=0,シート!$DK$87-C598>=0),1,0)","v":{"$error":"#VALUE!"}},{"$error":"#N/A"},{"$error":"#N/A"},"1901-08-17"]
[597,59,"1901-08-18",{"$f":"+IF(AND(C599-シート!$BV$67>=0,シート!$AI$19-C599>=0),1,0)","v":{"$error":"#N/A"}},{"$f":"IF(AND(C599-シート!$C$87>=0,シート!$X$87-C599>=0),1,0)","v":{"$error":"#VALUE!"}},{"$error":"#N/A"},{"$error":"#N/A"},{"$f":"IF(AND(C599-シート!$CP$87>=0,シート!$DK$87-C599>=0),1,0)","v":{"$error":"#VALUE!"}},{"$error":"#N/A"},{"$error":"#N/A"},"1901-08-18"]
[598,59,"1901-08-19",{"$f":"+IF(AND(C600-シート!$BV$67>=0,シート!$AI$19-C600>=0),1,0)","v":{"$error":"#N/A"}},{"$f":"IF(AND(C600-シート!$C$87>=0,シート!$X$87-C600>=0),1,0)","v":{"$error":"#VALUE!"}},{"$error":"#N/A"},{"$error":"#N/A"},{"$f":"IF(AND(C600-シート!$CP$87>=0,シート!$DK$87-C600>=0),1,0)","v":{"$error":"#VALUE!"}},{"$error":"#N/A"},{"$error":"#N/A"},"1901-08-19"]
[599,59,"1901-08-20",{"$f":"+IF(AND(C601-シート!$BV$67>=0,シート!$AI$19-C601>=0),1,0)","v":{"$error":"#N/A"}},{"$f":"IF(AND(C601-シート!$C$87>=0,シート!$X$87-C601>=0),1,0)","v":{"$error":"#VALUE!"}},{"$error":"#N/A"},{"$error":"#N/A"},{"$f":"IF(AND(C601-シート!$CP$87>=0,シート!$DK$87-C601>=0),1,0)","v":{"$error":"#VALUE!"}},{"$error":"#N/A"},{"$error":"#N/A"},"1901-08-20"]
[600,60,"1901-08-21",{"$f":"+IF(AND(C602-シート!$BV$67>=0,シート!$AI$19-C602>=0),1,0)","v":{"$error":"#N/A"}},{"$f":"IF(AND(C602-シート!$C$87>=0,シート!$X$87-C602>=0),1,0)","v":{"$error":"#VALUE!"}},{"$error":"#N/A"},{"$error":"#N/A"},{"$f":"IF(AND(C602-シート!$CP$87>=0,シート!$DK$87-C602>=0),1,0)","v":{"$error":"#VALUE!"}},{"$error":"#N/A"},{"$error":"#N/A"},"1901-08-21"]
[601,60,"1901-08-22",{"$f":"+IF(AND(C603-シート!$BV$67>=0,シート!$AI$19-C603>=0),1,0)","v":{"$error":"#N/A"}},{"$f":"IF(AND(C603-シート!$C$87>=0,シート!$X$87-C603>=0),1,0)","v":{"$error":"#VALUE!"}},{"$error":"#N/A"},{"$error":"#N/A"},{"$f":"IF(AND(C603-シート!$CP$87>=0,シート!$DK$87-C603>=0),1,0)","v":{"$error":"#VALUE!"}},{"$error":"#N/A"},{"$error":"#N/A"},"1901-08-22"]
[602,60,"1901-08-23",{"$f":"+IF(AND(C604-シート!$BV$67>=0,シート!$AI$19-C604>=0),1,0)","v":{"$error":"#N/A"}},{"$f":"IF(AND(C604-シート!$C$87>=0,シート!$X$87-C604>=0),1,0)","v":{"$error":"#VALUE!"}},{"$error":"#N/A"},{"$error":"#N/A"},{"$f":"IF(AND(C604-シート!$CP$87>=0,シート!$DK$87-C604>=0),1,0)","v":{"$error":"#VALUE!"}},{"$error":"#N/A"},{"$error":"#N/A"},"1901-08-23"]
[603,60,"1901-08-24",{"$f":"+IF(AND(C605-シート!$BV$67>=0,シート!$AI$19-C605>=0),1,0)","v":{"$error":"#N/A"}},{"$f":"IF(AND(C605-シート!$C$87>=0,シート!$X$87-C605>=0),1,0)","v":{"$error":"#VALUE!"}},{"$error":"#N/A"},{"$error":"#N/A"},{"$f":"IF(AND(C605-シート!$CP$87>=0,シート!$DK$87-C605>=0),1,0)","v":{"$error":"#VALUE!"}},{"$error":"#N/A"},{"$error":"#N/A"},"1901-08-24"]
[604,60,"1901-08-25",{"$f":"+IF(AND(C606-シート!$BV$67>=0,シート!$AI$19-C606>=0),1,0)","v":{"$error":"#N/A"}},{"$f":"IF(AND(C606-シート!$C$87>=0,シート!$X$87-C606>=0),1,0)","v":{"$error":"#VALUE!"}},{"$error":"#N/A"},{"$error":"#N/A"},{"$f":"IF(AND(C606-シート!$CP$87>=0,シート!$DK$87-C606>=0),1,0)","v":{"$error":"#VALUE!"}},{"$error":"#N/A"},{"$error":"#N/A"},"1901-08-25"]
[605,60,"1901-08-26",{"$f":"+IF(AND(C607-シート!$BV$67>=0,シート!$AI$19-C607>=0),1,0)","v":{"$error":"#N/A"}},{"$f":"IF(AND(C607-シート!$C$87>=0,シート!$X$87-C607>=0),1,0)","v":{"$error":"#VALUE!"}},{"$error":"#N/A"},{"$error":"#N/A"},{"$f":"IF(AND(C607-シート!$CP$87>=0,シート!$DK$87-C607>=0),1,0)","v":{"$error":"#VALUE!"}},{"$error":"#N/A"},{"$error":"#N/A"},"1901-08-26"]
[606,60,"1901-08-27",{"$f":"+IF(AND(C608-シート!$BV$67>=0,シート!$AI$19-C608>=0),1,0)","v":{"$error":"#N/A"}},{"$f":"IF(AND(C608-シート!$C$87>=0,シート!$X$87-C608>=0),1,0)","v":{"$error":"#VALUE!"}},{"$error":"#N/A"},{"$error":"#N/A"},{"$f":"IF(AND(C608-シート!$CP$87>=0,シート!$DK$87-C608>=0),1,0)","v":{"$error":"#VALUE!"}},{"$error":"#N/A"},{"$error":"#N/A"},"1901-08-27"]
[607,60,"1901-08-28",{"$f":"+IF(AND(C609-シート!$BV$67>=0,シート!$AI$19-C609>=0),1,0)","v":{"$error":"#N/A"}},{"$f":"IF(AND(C609-シート!$C$87>=0,シート!$X$87-C609>=0),1,0)","v":{"$error":"#VALUE!"}},{"$error":"#N/A"},{"$error":"#N/A"},{"$f":"IF(AND(C609-シート!$CP$87>=0,シート!$DK$87-C609>=0),1,0)","v":{"$error":"#VALUE!"}},{"$error":"#N/A"},{"$error":"#N/A"},"1901-08-28"]
[608,60,"1901-08-29",{"$f":"+IF(AND(C610-シート!$BV$67>=0,シート!$AI$19-C610>=0),1,0)","v":{"$error":"#N/A"}},{"$f":"IF(AND(C610-シート!$C$87>=0,シート!$X$87-C610>=0),1,0)","v":{"$error":"#VALUE!"}},{"$error":"#N/A"},{"$error":"#N/A"},{"$f":"IF(AND(C610-シート!$CP$87>=0,シート!$DK$87-C610>=0),1,0)","v":{"$error":"#VALUE!"}},{"$error":"#N/A"},{"$error":"#N/A"},"1901-08-29"]
[609,60,"1901-08-30",{"$f":"+IF(AND(C611-シート!$BV$67>=0,シート!$AI$19-C611>=0),1,0)","v":{"$error":"#N/A"}},{"$f":"IF(AND(C611-シート!$C$87>=0,シート!$X$87-C611>=0),1,0)","v":{"$error":"#VALUE!"}},{"$error":"#N/A"},{"$error":"#N/A"},{"$f":"IF(AND(C611-シート!$CP$87>=0,シート!$DK$87-C611>=0),1,0)","v":{"$error":"#VALUE!"}},{"$error":"#N/A"},{"$error":"#N/A"},"1901-08-30"]
[610,61,"1901-08-31",{"$f":"+IF(AND(C612-シート!$BV$67>=0,シート!$AI$19-C612>=0),1,0)","v":{"$error":"#N/A"}},{"$f":"IF(AND(C612-シート!$C$87>=0,シート!$X$87-C612>=0),1,0)","v":{"$error":"#VALUE!"}},{"$error":"#N/A"},{"$error":"#N/A"},{"$f":"IF(AND(C612-シート!$CP$87>=0,シート!$DK$87-C612>=0),1,0)","v":{"$error":"#VALUE!"}},{"$error":"#N/A"},{"$error":"#N/A"},"1901-08-31"]
[611,61,"1901-09-01",{"$f":"+IF(AND(C613-シート!$BV$67>=0,シート!$AI$19-C613>=0),1,0)","v":{"$error":"#N/A"}},{"$f":"IF(AND(C613-シート!$C$87>=0,シート!$X$87-C613>=0),1,0)","v":{"$error":"#VALUE!"}},{"$error":"#N/A"},{"$error":"#N/A"},{"$f":"IF(AND(C613-シート!$CP$87>=0,シート!$DK$87-C613>=0),1,0)","v":{"$error":"#VALUE!"}},{"$error":"#N/A"},{"$error":"#N/A"},"1901-09-01"]
[612,61,"1901-09-02",{"$f":"+IF(AND(C614-シート!$BV$67>=0,シート!$AI$19-C614>=0),1,0)","v":{"$error":"#N/A"}},{"$f":"IF(AND(C614-シート!$C$87>=0,シート!$X$87-C614>=0),1,0)","v":{"$error":"#VALUE!"}},{"$error":"#N/A"},{"$error":"#N/A"},{"$f":"IF(AND(C614-シート!$CP$87>=0,シート!$DK$87-C614>=0),1,0)","v":{"$error":"#VALUE!"}},{"$error":"#N/A"},{"$error":"#N/A"},"1901-09-02"]
[613,61,"1901-09-03",{"$f":"+IF(AND(C615-シート!$BV$67>=0,シート!$AI$19-C615>=0),1,0)","v":{"$error":"#N/A"}},{"$f":"IF(AND(C615-シート!$C$87>=0,シート!$X$87-C615>=0),1,0)","v":{"$error":"#VALUE!"}},{"$error":"#N/A"},{"$error":"#N/A"},{"$f":"IF(AND(C615-シート!$CP$87>=0,シート!$DK$87-C615>=0),1,0)","v":{"$error":"#VALUE!"}},{"$error":"#N/A"},{"$error":"#N/A"},"1901-09-03"]
[614,61,"1901-09-04",{"$f":"+IF(AND(C616-シート!$BV$67>=0,シート!$AI$19-C616>=0),1,0)","v":{"$error":"#N/A"}},{"$f":"IF(AND(C616-シート!$C$87>=0,シート!$X$87-C616>=0),1,0)","v":{"$error":"#VALUE!"}},{"$error":"#N/A"},{"$error":"#N/A"},{"$f":"IF(AND(C616-シート!$CP$87>=0,シート!$DK$87-C616>=0),1,0)","v":{"$error":"#VALUE!"}},{"$error":"#N/A"},{"$error":"#N/A"},"1901-09-04"]
[615,61,"1901-09-05",{"$f":"+IF(AND(C617-シート!$BV$67>=0,シート!$AI$19-C617>=0),1,0)","v":{"$error":"#N/A"}},{"$f":"IF(AND(C617-シート!$C$87>=0,シート!$X$87-C617>=0),1,0)","v":{"$error":"#VALUE!"}},{"$error":"#N/A"},{"$error":"#N/A"},{"$f":"IF(AND(C617-シート!$CP$87>=0,シート!$DK$87-C617>=0),1,0)","v":{"$error":"#VALUE!"}},{"$error":"#N/A"},{"$error":"#N/A"},"1901-09-05"]
[616,61,"1901-09-06",{"$f":"+IF(AND(C618-シート!$BV$67>=0,シート!$AI$19-C618>=0),1,0)","v":{"$error":"#N/A"}},{"$f":"IF(AND(C618-シート!$C$87>=0,シート!$X$87-C618>=0),1,0)","v":{"$error":"#VALUE!"}},{"$error":"#N/A"},{"$error":"#N/A"},{"$f":"IF(AND(C618-シート!$CP$87>=0,シート!$DK$87-C618>=0),1,0)","v":{"$error":"#VALUE!"}},{"$error":"#N/A"},{"$error":"#N/A"},"1901-09-06"]
[617,61,"1901-09-07",{"$f":"+IF(AND(C619-シート!$BV$67>=0,シート!$AI$19-C619>=0),1,0)","v":{"$error":"#N/A"}},{"$f":"IF(AND(C619-シート!$C$87>=0,シート!$X$87-C619>=0),1,0)","v":{"$error":"#VALUE!"}},{"$error":"#N/A"},{"$error":"#N/A"},{"$f":"IF(AND(C619-シート!$CP$87>=0,シート!$DK$87-C619>=0),1,0)","v":{"$error":"#VALUE!"}},{"$error":"#N/A"},{"$error":"#N/A"},"1901-09-07"]
[618,61,"1901-09-08",{"$f":"+IF(AND(C620-シート!$BV$67>=0,シート!$AI$19-C620>=0),1,0)","v":{"$error":"#N/A"}},{"$f":"IF(AND(C620-シート!$C$87>=0,シート!$X$87-C620>=0),1,0)","v":{"$error":"#VALUE!"}},{"$error":"#N/A"},{"$error":"#N/A"},{"$f":"IF(AND(C620-シート!$CP$87>=0,シート!$DK$87-C620>=0),1,0)","v":{"$error":"#VALUE!"}},{"$error":"#N/A"},{"$error":"#N/A"},"1901-09-08"]
[619,61,"1901-09-09",{"$f":"+IF(AND(C621-シート!$BV$67>=0,シート!$AI$19-C621>=0),1,0)","v":{"$error":"#N/A"}},{"$f":"IF(AND(C621-シート!$C$87>=0,シート!$X$87-C621>=0),1,0)","v":{"$error":"#VALUE!"}},{"$error":"#N/A"},{"$error":"#N/A"},{"$f":"IF(AND(C621-シート!$CP$87>=0,シート!$DK$87-C621>=0),1,0)","v":{"$error":"#VALUE!"}},{"$error":"#N/A"},{"$error":"#N/A"},"1901-09-09"]
[620,62,"1901-09-10",{"$f":"+IF(AND(C622-シート!$BV$67>=0,シート!$AI$19-C622>=0),1,0)","v":{"$error":"#N/A"}},{"$f":"IF(AND(C622-シート!$C$87>=0,シート!$X$87-C622>=0),1,0)","v":{"$error":"#VALUE!"}},{"$error":"#N/A"},{"$error":"#N/A"},{"$f":"IF(AND(C622-シート!$CP$87>=0,シート!$DK$87-C622>=0),1,0)","v":{"$error":"#VALUE!"}},{"$error":"#N/A"},{"$error":"#N/A"},"1901-09-10"]
[621,62,"1901-09-11",{"$f":"+IF(AND(C623-シート!$BV$67>=0,シート!$AI$19-C623>=0),1,0)","v":{"$error":"#N/A"}},{"$f":"IF(AND(C623-シート!$C$87>=0,シート!$X$87-C623>=0),1,0)","v":{"$error":"#VALUE!"}},{"$error":"#N/A"},{"$error":"#N/A"},{"$f":"IF(AND(C623-シート!$CP$87>=0,シート!$DK$87-C623>=0),1,0)","v":{"$error":"#VALUE!"}},{"$error":"#N/A"},{"$error":"#N/A"},"1901-09-11"]
[622,62,"1901-09-12",{"$f":"+IF(AND(C624-シート!$BV$67>=0,シート!$AI$19-C624>=0),1,0)","v":{"$error":"#N/A"}},{"$f":"IF(AND(C624-シート!$C$87>=0,シート!$X$87-C624>=0),1,0)","v":{"$error":"#VALUE!"}},{"$error":"#N/A"},{"$error":"#N/A"},{"$f":"IF(AND(C624-シート!$CP$87>=0,シート!$DK$87-C624>=0),1,0)","v":{"$error":"#VALUE!"}},{"$error":"#N/A"},{"$error":"#N/A"},"1901-09-12"]
[623,62,"1901-09-13",{"$f":"+IF(AND(C625-シート!$BV$67>=0,シート!$AI$19-C625>=0),1,0)","v":{"$error":"#N/A"}},{"$f":"IF(AND(C625-シート!$C$87>=0,シート!$X$87-C625>=0),1,0)","v":{"$error":"#VALUE!"}},{"$error":"#N/A"},{"$error":"#N/A"},{"$f":"IF(AND(C625-シート!$CP$87>=0,シート!$DK$87-C625>=0),1,0)","v":{"$error":"#VALUE!"}},{"$error":"#N/A"},{"$error":"#N/A"},"1901-09-13"]
[624,62,"1901-09-14",{"$f":"+IF(AND(C626-シート!$BV$67>=0,シート!$AI$19-C626>=0),1,0)","v":{"$error":"#N/A"}},{"$f":"IF(AND(C626-シート!$C$87>=0,シート!$X$87-C626>=0),1,0)","v":{"$error":"#VALUE!"}},{"$error":"#N/A"},{"$error":"#N/A"},{"$f":"IF(AND(C626-シート!$CP$87>=0,シート!$DK$87-C626>=0),1,0)","v":{"$error":"#VALUE!"}},{"$error":"#N/A"},{"$error":"#N/A"},"1901-09-14"]
[625,62,"1901-09-15",{"$f":"+IF(AND(C627-シート!$BV$67>=0,シート!$AI$19-C627>=0),1,0)","v":{"$error":"#N/A"}},{"$f":"IF(AND(C627-シート!$C$87>=0,シート!$X$87-C627>=0),1,0)","v":{"$error":"#VALUE!"}},{"$error":"#N/A"},{"$error":"#N/A"},{"$f":"IF(AND(C627-シート!$CP$87>=0,シート!$DK$87-C627>=0),1,0)","v":{"$error":"#VALUE!"}},{"$error":"#N/A"},{"$error":"#N/A"},"1901-09-15"]
[626,62,"1901-09-16",{"$f":"+IF(AND(C628-シート!$BV$67>=0,シート!$AI$19-C628>=0),1,0)","v":{"$error":"#N/A"}},{"$f":"IF(AND(C628-シート!$C$87>=0,シート!$X$87-C628>=0),1,0)","v":{"$error":"#VALUE!"}},{"$error":"#N/A"},{"$error":"#N/A"},{"$f":"IF(AND(C628-シート!$CP$87>=0,シート!$DK$87-C628>=0),1,0)","v":{"$error":"#VALUE!"}},{"$error":"#N/A"},{"$error":"#N/A"},"1901-09-16"]
[627,62,"1901-09-17",{"$f":"+IF(AND(C629-シート!$BV$67>=0,シート!$AI$19-C629>=0),1,0)","v":{"$error":"#N/A"}},{"$f":"IF(AND(C629-シート!$C$87>=0,シート!$X$87-C629>=0),1,0)","v":{"$error":"#VALUE!"}},{"$error":"#N/A"},{"$error":"#N/A"},{"$f":"IF(AND(C629-シート!$CP$87>=0,シート!$DK$87-C629>=0),1,0)","v":{"$error":"#VALUE!"}},{"$error":"#N/A"},{"$error":"#N/A"},"1901-09-17"]
[628,62,"1901-09-18",{"$f":"+IF(AND(C630-シート!$BV$67>=0,シート!$AI$19-C630>=0),1,0)","v":{"$error":"#N/A"}},{"$f":"IF(AND(C630-シート!$C$87>=0,シート!$X$87-C630>=0),1,0)","v":{"$error":"#VALUE!"}},{"$error":"#N/A"},{"$error":"#N/A"},{"$f":"IF(AND(C630-シート!$CP$87>=0,シート!$DK$87-C630>=0),1,0)","v":{"$error":"#VALUE!"}},{"$error":"#N/A"},{"$error":"#N/A"},"1901-09-18"]
[629,62,"1901-09-19",{"$f":"+IF(AND(C631-シート!$BV$67>=0,シート!$AI$19-C631>=0),1,0)","v":{"$error":"#N/A"}},{"$f":"IF(AND(C631-シート!$C$87>=0,シート!$X$87-C631>=0),1,0)","v":{"$error":"#VALUE!"}},{"$error":"#N/A"},{"$error":"#N/A"},{"$f":"IF(AND(C631-シート!$CP$87>=0,シート!$DK$87-C631>=0),1,0)","v":{"$error":"#VALUE!"}},{"$error":"#N/A"},{"$error":"#N/A"},"1901-09-19"]
[630,62,"1901-09-20",{"$f":"+IF(AND(C632-シート!$BV$67>=0,シート!$AI$19-C632>=0),1,0)","v":{"$error":"#N/A"}},{"$f":"IF(AND(C632-シート!$C$87>=0,シート!$X$87-C632>=0),1,0)","v":{"$error":"#VALUE!"}},{"$error":"#N/A"},{"$error":"#N/A"},{"$f":"IF(AND(C632-シート!$CP$87>=0,シート!$DK$87-C632>=0),1,0)","v":{"$error":"#VALUE!"}},{"$error":"#N/A"},{"$error":"#N/A"},"1901-09-20"]
[631,63,"1901-09-21",{"$f":"+IF(AND(C633-シート!$BV$67>=0,シート!$AI$19-C633>=0),1,0)","v":{"$error":"#N/A"}},{"$f":"IF(AND(C633-シート!$C$87>=0,シート!$X$87-C633>=0),1,0)","v":{"$error":"#VALUE!"}},{"$error":"#N/A"},{"$error":"#N/A"},{"$f":"IF(AND(C633-シート!$CP$87>=0,シート!$DK$87-C633>=0),1,0)","v":{"$error":"#VALUE!"}},{"$error":"#N/A"},{"$error":"#N/A"},"1901-09-21"]
[632,63,"1901-09-22",{"$f":"+IF(AND(C634-シート!$BV$67>=0,シート!$AI$19-C634>=0),1,0)","v":{"$error":"#N/A"}},{"$f":"IF(AND(C634-シート!$C$87>=0,シート!$X$87-C634>=0),1,0)","v":{"$error":"#VALUE!"}},{"$error":"#N/A"},{"$error":"#N/A"},{"$f":"IF(AND(C634-シート!$CP$87>=0,シート!$DK$87-C634>=0),1,0)","v":{"$error":"#VALUE!"}},{"$error":"#N/A"},{"$error":"#N/A"},"1901-09-22"]
[633,63,"1901-09-23",{"$f":"+IF(AND(C635-シート!$BV$67>=0,シート!$AI$19-C635>=0),1,0)","v":{"$error":"#N/A"}},{"$f":"IF(AND(C635-シート!$C$87>=0,シート!$X$87-C635>=0),1,0)","v":{"$error":"#VALUE!"}},{"$error":"#N/A"},{"$error":"#N/A"},{"$f":"IF(AND(C635-シート!$CP$87>=0,シート!$DK$87-C635>=0),1,0)","v":{"$error":"#VALUE!"}},{"$error":"#N/A"},{"$error":"#N/A"},"1901-09-23"]
[634,63,"1901-09-24",{"$f":"+IF(AND(C636-シート!$BV$67>=0,シート!$AI$19-C636>=0),1,0)","v":{"$error":"#N/A"}},{"$f":"IF(AND(C636-シート!$C$87>=0,シート!$X$87-C636>=0),1,0)","v":{"$error":"#VALUE!"}},{"$error":"#N/A"},{"$error":"#N/A"},{"$f":"IF(AND(C636-シート!$CP$87>=0,シート!$DK$87-C636>=0),1,0)","v":{"$error":"#VALUE!"}},{"$error":"#N/A"},{"$error":"#N/A"},"1901-09-24"]
[635,63,"1901-09-25",{"$f":"+IF(AND(C637-シート!$BV$67>=0,シート!$AI$19-C637>=0),1,0)","v":{"$error":"#N/A"}},{"$f":"IF(AND(C637-シート!$C$87>=0,シート!$X$87-C637>=0),1,0)","v":{"$error":"#VALUE!"}},{"$error":"#N/A"},{"$error":"#N/A"},{"$f":"IF(AND(C637-シート!$CP$87>=0,シート!$DK$87-C637>=0),1,0)","v":{"$error":"#VALUE!"}},{"$error":"#N/A"},{"$error":"#N/A"},"1901-09-25"]
[636,63,"1901-09-26",{"$f":"+IF(AND(C638-シート!$BV$67>=0,シート!$AI$19-C638>=0),1,0)","v":{"$error":"#N/A"}},{"$f":"IF(AND(C638-シート!$C$87>=0,シート!$X$87-C638>=0),1,0)","v":{"$error":"#VALUE!"}},{"$error":"#N/A"},{"$error":"#N/A"},{"$f":"IF(AND(C638-シート!$CP$87>=0,シート!$DK$87-C638>=0),1,0)","v":{"$error":"#VALUE!"}},{"$error":"#N/A"},{"$error":"#N/A"},"1901-09-26"]
[637,63,"1901-09-27",{"$f":"+IF(AND(C639-シート!$BV$67>=0,シート!$AI$19-C639>=0),1,0)","v":{"$error":"#N/A"}},{"$f":"IF(AND(C639-シート!$C$87>=0,シート!$X$87-C639>=0),1,0)","v":{"$error":"#VALUE!"}},{"$error":"#N/A"},{"$error":"#N/A"},{"$f":"IF(AND(C639-シート!$CP$87>=0,シート!$DK$87-C639>=0),1,0)","v":{"$error":"#VALUE!"}},{"$error":"#N/A"},{"$error":"#N/A"},"1901-09-27"]
[638,63,"1901-09-28",{"$f":"+IF(AND(C640-シート!$BV$67>=0,シート!$AI$19-C640>=0),1,0)","v":{"$error":"#N/A"}},{"$f":"IF(AND(C640-シート!$C$87>=0,シート!$X$87-C640>=0),1,0)","v":{"$error":"#VALUE!"}},{"$error":"#N/A"},{"$error":"#N/A"},{"$f":"IF(AND(C640-シート!$CP$87>=0,シート!$DK$87-C640>=0),1,0)","v":{"$error":"#VALUE!"}},{"$error":"#N/A"},{"$error":"#N/A"},"1901-09-28"]
[639,63,"1901-09-29",{"$f":"+IF(AND(C641-シート!$BV$67>=0,シート!$AI$19-C641>=0),1,0)","v":{"$error":"#N/A"}},{"$f":"IF(AND(C641-シート!$C$87>=0,シート!$X$87-C641>=0),1,0)","v":{"$error":"#VALUE!"}},{"$error":"#N/A"},{"$error":"#N/A"},{"$f":"IF(AND(C641-シート!$CP$87>=0,シート!$DK$87-C641>=0),1,0)","v":{"$error":"#VALUE!"}},{"$error":"#N/A"},{"$error":"#N/A"},"1901-09-29"]
[640,63,"1901-09-30",{"$f":"+IF(AND(C642-シート!$BV$67>=0,シート!$AI$19-C642>=0),1,0)","v":{"$error":"#N/A"}},{"$f":"IF(AND(C642-シート!$C$87>=0,シート!$X$87-C642>=0),1,0)","v":{"$error":"#VALUE!"}},{"$error":"#N/A"},{"$error":"#N/A"},{"$f":"IF(AND(C642-シート!$CP$87>=0,シート!$DK$87-C642>=0),1,0)","v":{"$error":"#VALUE!"}},{"$error":"#N/A"},{"$error":"#N/A"},"1901-09-30"]
[641,64,"1901-10-01",{"$f":"+IF(AND(C643-シート!$BV$67>=0,シート!$AI$19-C643>=0),1,0)","v":{"$error":"#N/A"}},{"$f":"IF(AND(C643-シート!$C$87>=0,シート!$X$87-C643>=0),1,0)","v":{"$error":"#VALUE!"}},{"$error":"#N/A"},{"$error":"#N/A"},{"$f":"IF(AND(C643-シート!$CP$87>=0,シート!$DK$87-C643>=0),1,0)","v":{"$error":"#VALUE!"}},{"$error":"#N/A"},{"$error":"#N/A"},"1901-10-01"]
[642,64,"1901-10-02",{"$f":"+IF(AND(C644-シート!$BV$67>=0,シート!$AI$19-C644>=0),1,0)","v":{"$error":"#N/A"}},{"$f":"IF(AND(C644-シート!$C$87>=0,シート!$X$87-C644>=0),1,0)","v":{"$error":"#VALUE!"}},{"$f":"IF(+D644+E644=2,1,0)","v":{"$error":"#N/A"}},{"$error":"#N/A"},{"$f":"IF(AND(C644-シート!$CP$87>=0,シート!$DK$87-C644>=0),1,0)","v":{"$error":"#VALUE!"}},{"$f":"IF(+D644+H644=2,1,0)","v":{"$error":"#N/A"}},{"$error":"#N/A"},{"$f":"+C644","v":"1901-10-02"}]
[{"$f":"+A644+1","v":643},64,{"$f":"+C644+1","v":"1901-10-03"},{"$f":"+IF(AND(C645-シート!$BV$67>=0,シート!$AI$19-C645>=0),1,0)","v":{"$error":"#N/A"}},{"$f":"IF(AND(C645-シート!$C$87>=0,シート!$X$87-C645>=0),1,0)","v":{"$error":"#VALUE!"}},{"$error":"#N/A"},{"$f":"+G644+F645","v":{"$error":"#N/A"}},{"$f":"IF(AND(C645-シート!$CP$87>=0,シート!$DK$87-C645>=0),1,0)","v":{"$error":"#VALUE!"}},{"$error":"#N/A"},{"$f":"+J644+I645","v":{"$error":"#N/A"}},"1901-10-03"]
[644,64,"1901-10-04",{"$f":"+IF(AND(C646-シート!$BV$67>=0,シート!$AI$19-C646>=0),1,0)","v":{"$error":"#N/A"}},{"$f":"IF(AND(C646-シート!$C$87>=0,シート!$X$87-C646>=0),1,0)","v":{"$error":"#VALUE!"}},{"$error":"#N/A"},{"$error":"#N/A"},{"$f":"IF(AND(C646-シート!$CP$87>=0,シート!$DK$87-C646>=0),1,0)","v":{"$error":"#VALUE!"}},{"$error":"#N/A"},{"$error":"#N/A"},"1901-10-04"]
[645,64,"1901-10-05",{"$f":"+IF(AND(C647-シート!$BV$67>=0,シート!$AI$19-C647>=0),1,0)","v":{"$error":"#N/A"}},{"$f":"IF(AND(C647-シート!$C$87>=0,シート!$X$87-C647>=0),1,0)","v":{"$error":"#VALUE!"}},{"$error":"#N/A"},{"$error":"#N/A"},{"$f":"IF(AND(C647-シート!$CP$87>=0,シート!$DK$87-C647>=0),1,0)","v":{"$error":"#VALUE!"}},{"$error":"#N/A"},{"$error":"#N/A"},"1901-10-05"]
[646,64,"1901-10-06",{"$f":"+IF(AND(C648-シート!$BV$67>=0,シート!$AI$19-C648>=0),1,0)","v":{"$error":"#N/A"}},{"$f":"IF(AND(C648-シート!$C$87>=0,シート!$X$87-C648>=0),1,0)","v":{"$error":"#VALUE!"}},{"$error":"#N/A"},{"$error":"#N/A"},{"$f":"IF(AND(C648-シート!$CP$87>=0,シート!$DK$87-C648>=0),1,0)","v":{"$error":"#VALUE!"}},{"$error":"#N/A"},{"$error":"#N/A"},"1901-10-06"]
[647,64,"1901-10-07",{"$f":"+IF(AND(C649-シート!$BV$67>=0,シート!$AI$19-C649>=0),1,0)","v":{"$error":"#N/A"}},{"$f":"IF(AND(C649-シート!$C$87>=0,シート!$X$87-C649>=0),1,0)","v":{"$error":"#VALUE!"}},{"$error":"#N/A"},{"$error":"#N/A"},{"$f":"IF(AND(C649-シート!$CP$87>=0,シート!$DK$87-C649>=0),1,0)","v":{"$error":"#VALUE!"}},{"$error":"#N/A"},{"$error":"#N/A"},"1901-10-07"]
[648,64,"1901-10-08",{"$f":"+IF(AND(C650-シート!$BV$67>=0,シート!$AI$19-C650>=0),1,0)","v":{"$error":"#N/A"}},{"$f":"IF(AND(C650-シート!$C$87>=0,シート!$X$87-C650>=0),1,0)","v":{"$error":"#VALUE!"}},{"$error":"#N/A"},{"$error":"#N/A"},{"$f":"IF(AND(C650-シート!$CP$87>=0,シート!$DK$87-C650>=0),1,0)","v":{"$error":"#VALUE!"}},{"$error":"#N/A"},{"$error":"#N/A"},"1901-10-08"]
[649,64,"1901-10-09",{"$f":"+IF(AND(C651-シート!$BV$67>=0,シート!$AI$19-C651>=0),1,0)","v":{"$error":"#N/A"}},{"$f":"IF(AND(C651-シート!$C$87>=0,シート!$X$87-C651>=0),1,0)","v":{"$error":"#VALUE!"}},{"$error":"#N/A"},{"$error":"#N/A"},{"$f":"IF(AND(C651-シート!$CP$87>=0,シート!$DK$87-C651>=0),1,0)","v":{"$error":"#VALUE!"}},{"$error":"#N/A"},{"$error":"#N/A"},"1901-10-09"]
[650,64,"1901-10-10",{"$f":"+IF(AND(C652-シート!$BV$67>=0,シート!$AI$19-C652>=0),1,0)","v":{"$error":"#N/A"}},{"$f":"IF(AND(C652-シート!$C$87>=0,シート!$X$87-C652>=0),1,0)","v":{"$error":"#VALUE!"}},{"$error":"#N/A"},{"$error":"#N/A"},{"$f":"IF(AND(C652-シート!$CP$87>=0,シート!$DK$87-C652>=0),1,0)","v":{"$error":"#VALUE!"}},{"$error":"#N/A"},{"$error":"#N/A"},"1901-10-10"]
[651,65,"1901-10-11",{"$f":"+IF(AND(C653-シート!$BV$67>=0,シート!$AI$19-C653>=0),1,0)","v":{"$error":"#N/A"}},{"$f":"IF(AND(C653-シート!$C$87>=0,シート!$X$87-C653>=0),1,0)","v":{"$error":"#VALUE!"}},{"$error":"#N/A"},{"$error":"#N/A"},{"$f":"IF(AND(C653-シート!$CP$87>=0,シート!$DK$87-C653>=0),1,0)","v":{"$error":"#VALUE!"}},{"$error":"#N/A"},{"$error":"#N/A"},"1901-10-11"]
[652,65,"1901-10-12",{"$f":"+IF(AND(C654-シート!$BV$67>=0,シート!$AI$19-C654>=0),1,0)","v":{"$error":"#N/A"}},{"$f":"IF(AND(C654-シート!$C$87>=0,シート!$X$87-C654>=0),1,0)","v":{"$error":"#VALUE!"}},{"$error":"#N/A"},{"$error":"#N/A"},{"$f":"IF(AND(C654-シート!$CP$87>=0,シート!$DK$87-C654>=0),1,0)","v":{"$error":"#VALUE!"}},{"$error":"#N/A"},{"$error":"#N/A"},"1901-10-12"]
[653,65,"1901-10-13",{"$f":"+IF(AND(C655-シート!$BV$67>=0,シート!$AI$19-C655>=0),1,0)","v":{"$error":"#N/A"}},{"$f":"IF(AND(C655-シート!$C$87>=0,シート!$X$87-C655>=0),1,0)","v":{"$error":"#VALUE!"}},{"$error":"#N/A"},{"$error":"#N/A"},{"$f":"IF(AND(C655-シート!$CP$87>=0,シート!$DK$87-C655>=0),1,0)","v":{"$error":"#VALUE!"}},{"$error":"#N/A"},{"$error":"#N/A"},"1901-10-13"]
[654,65,"1901-10-14",{"$f":"+IF(AND(C656-シート!$BV$67>=0,シート!$AI$19-C656>=0),1,0)","v":{"$error":"#N/A"}},{"$f":"IF(AND(C656-シート!$C$87>=0,シート!$X$87-C656>=0),1,0)","v":{"$error":"#VALUE!"}},{"$error":"#N/A"},{"$error":"#N/A"},{"$f":"IF(AND(C656-シート!$CP$87>=0,シート!$DK$87-C656>=0),1,0)","v":{"$error":"#VALUE!"}},{"$error":"#N/A"},{"$error":"#N/A"},"1901-10-14"]
[655,65,"1901-10-15",{"$f":"+IF(AND(C657-シート!$BV$67>=0,シート!$AI$19-C657>=0),1,0)","v":{"$error":"#N/A"}},{"$f":"IF(AND(C657-シート!$C$87>=0,シート!$X$87-C657>=0),1,0)","v":{"$error":"#VALUE!"}},{"$error":"#N/A"},{"$error":"#N/A"},{"$f":"IF(AND(C657-シート!$CP$87>=0,シート!$DK$87-C657>=0),1,0)","v":{"$error":"#VALUE!"}},{"$error":"#N/A"},{"$error":"#N/A"},"1901-10-15"]
[656,65,"1901-10-16",{"$f":"+IF(AND(C658-シート!$BV$67>=0,シート!$AI$19-C658>=0),1,0)","v":{"$error":"#N/A"}},{"$f":"IF(AND(C658-シート!$C$87>=0,シート!$X$87-C658>=0),1,0)","v":{"$error":"#VALUE!"}},{"$error":"#N/A"},{"$error":"#N/A"},{"$f":"IF(AND(C658-シート!$CP$87>=0,シート!$DK$87-C658>=0),1,0)","v":{"$error":"#VALUE!"}},{"$error":"#N/A"},{"$error":"#N/A"},"1901-10-16"]
[657,65,"1901-10-17",{"$f":"+IF(AND(C659-シート!$BV$67>=0,シート!$AI$19-C659>=0),1,0)","v":{"$error":"#N/A"}},{"$f":"IF(AND(C659-シート!$C$87>=0,シート!$X$87-C659>=0),1,0)","v":{"$error":"#VALUE!"}},{"$error":"#N/A"},{"$error":"#N/A"},{"$f":"IF(AND(C659-シート!$CP$87>=0,シート!$DK$87-C659>=0),1,0)","v":{"$error":"#VALUE!"}},{"$error":"#N/A"},{"$error":"#N/A"},"1901-10-17"]
[658,65,"1901-10-18",{"$f":"+IF(AND(C660-シート!$BV$67>=0,シート!$AI$19-C660>=0),1,0)","v":{"$error":"#N/A"}},{"$f":"IF(AND(C660-シート!$C$87>=0,シート!$X$87-C660>=0),1,0)","v":{"$error":"#VALUE!"}},{"$error":"#N/A"},{"$error":"#N/A"},{"$f":"IF(AND(C660-シート!$CP$87>=0,シート!$DK$87-C660>=0),1,0)","v":{"$error":"#VALUE!"}},{"$error":"#N/A"},{"$error":"#N/A"},"1901-10-18"]
[659,65,"1901-10-19",{"$f":"+IF(AND(C661-シート!$BV$67>=0,シート!$AI$19-C661>=0),1,0)","v":{"$error":"#N/A"}},{"$f":"IF(AND(C661-シート!$C$87>=0,シート!$X$87-C661>=0),1,0)","v":{"$error":"#VALUE!"}},{"$error":"#N/A"},{"$error":"#N/A"},{"$f":"IF(AND(C661-シート!$CP$87>=0,シート!$DK$87-C661>=0),1,0)","v":{"$error":"#VALUE!"}},{"$error":"#N/A"},{"$error":"#N/A"},"1901-10-19"]
[660,65,"1901-10-20",{"$f":"+IF(AND(C662-シート!$BV$67>=0,シート!$AI$19-C662>=0),1,0)","v":{"$error":"#N/A"}},{"$f":"IF(AND(C662-シート!$C$87>=0,シート!$X$87-C662>=0),1,0)","v":{"$error":"#VALUE!"}},{"$error":"#N/A"},{"$error":"#N/A"},{"$f":"IF(AND(C662-シート!$CP$87>=0,シート!$DK$87-C662>=0),1,0)","v":{"$error":"#VALUE!"}},{"$error":"#N/A"},{"$error":"#N/A"},"1901-10-20"]
[661,66,"1901-10-21",{"$f":"+IF(AND(C663-シート!$BV$67>=0,シート!$AI$19-C663>=0),1,0)","v":{"$error":"#N/A"}},{"$f":"IF(AND(C663-シート!$C$87>=0,シート!$X$87-C663>=0),1,0)","v":{"$error":"#VALUE!"}},{"$error":"#N/A"},{"$error":"#N/A"},{"$f":"IF(AND(C663-シート!$CP$87>=0,シート!$DK$87-C663>=0),1,0)","v":{"$error":"#VALUE!"}},{"$error":"#N/A"},{"$error":"#N/A"},"1901-10-21"]
[662,66,"1901-10-22",{"$f":"+IF(AND(C664-シート!$BV$67>=0,シート!$AI$19-C664>=0),1,0)","v":{"$error":"#N/A"}},{"$f":"IF(AND(C664-シート!$C$87>=0,シート!$X$87-C664>=0),1,0)","v":{"$error":"#VALUE!"}},{"$error":"#N/A"},{"$error":"#N/A"},{"$f":"IF(AND(C664-シート!$CP$87>=0,シート!$DK$87-C664>=0),1,0)","v":{"$error":"#VALUE!"}},{"$error":"#N/A"},{"$error":"#N/A"},"1901-10-22"]
[663,66,"1901-10-23",{"$f":"+IF(AND(C665-シート!$BV$67>=0,シート!$AI$19-C665>=0),1,0)","v":{"$error":"#N/A"}},{"$f":"IF(AND(C665-シート!$C$87>=0,シート!$X$87-C665>=0),1,0)","v":{"$error":"#VALUE!"}},{"$error":"#N/A"},{"$error":"#N/A"},{"$f":"IF(AND(C665-シート!$CP$87>=0,シート!$DK$87-C665>=0),1,0)","v":{"$error":"#VALUE!"}},{"$error":"#N/A"},{"$error":"#N/A"},"1901-10-23"]
[664,66,"1901-10-24",{"$f":"+IF(AND(C666-シート!$BV$67>=0,シート!$AI$19-C666>=0),1,0)","v":{"$error":"#N/A"}},{"$f":"IF(AND(C666-シート!$C$87>=0,シート!$X$87-C666>=0),1,0)","v":{"$error":"#VALUE!"}},{"$error":"#N/A"},{"$error":"#N/A"},{"$f":"IF(AND(C666-シート!$CP$87>=0,シート!$DK$87-C666>=0),1,0)","v":{"$error":"#VALUE!"}},{"$error":"#N/A"},{"$error":"#N/A"},"1901-10-24"]
[665,66,"1901-10-25",{"$f":"+IF(AND(C667-シート!$BV$67>=0,シート!$AI$19-C667>=0),1,0)","v":{"$error":"#N/A"}},{"$f":"IF(AND(C667-シート!$C$87>=0,シート!$X$87-C667>=0),1,0)","v":{"$error":"#VALUE!"}},{"$error":"#N/A"},{"$error":"#N/A"},{"$f":"IF(AND(C667-シート!$CP$87>=0,シート!$DK$87-C667>=0),1,0)","v":{"$error":"#VALUE!"}},{"$error":"#N/A"},{"$error":"#N/A"},"1901-10-25"]
[666,66,"1901-10-26",{"$f":"+IF(AND(C668-シート!$BV$67>=0,シート!$AI$19-C668>=0),1,0)","v":{"$error":"#N/A"}},{"$f":"IF(AND(C668-シート!$C$87>=0,シート!$X$87-C668>=0),1,0)","v":{"$error":"#VALUE!"}},{"$error":"#N/A"},{"$error":"#N/A"},{"$f":"IF(AND(C668-シート!$CP$87>=0,シート!$DK$87-C668>=0),1,0)","v":{"$error":"#VALUE!"}},{"$error":"#N/A"},{"$error":"#N/A"},"1901-10-26"]
[667,66,"1901-10-27",{"$f":"+IF(AND(C669-シート!$BV$67>=0,シート!$AI$19-C669>=0),1,0)","v":{"$error":"#N/A"}},{"$f":"IF(AND(C669-シート!$C$87>=0,シート!$X$87-C669>=0),1,0)","v":{"$error":"#VALUE!"}},{"$error":"#N/A"},{"$error":"#N/A"},{"$f":"IF(AND(C669-シート!$CP$87>=0,シート!$DK$87-C669>=0),1,0)","v":{"$error":"#VALUE!"}},{"$error":"#N/A"},{"$error":"#N/A"},"1901-10-27"]
[668,66,"1901-10-28",{"$f":"+IF(AND(C670-シート!$BV$67>=0,シート!$AI$19-C670>=0),1,0)","v":{"$error":"#N/A"}},{"$f":"IF(AND(C670-シート!$C$87>=0,シート!$X$87-C670>=0),1,0)","v":{"$error":"#VALUE!"}},{"$error":"#N/A"},{"$error":"#N/A"},{"$f":"IF(AND(C670-シート!$CP$87>=0,シート!$DK$87-C670>=0),1,0)","v":{"$error":"#VALUE!"}},{"$error":"#N/A"},{"$error":"#N/A"},"1901-10-28"]
[669,66,"1901-10-29",{"$f":"+IF(AND(C671-シート!$BV$67>=0,シート!$AI$19-C671>=0),1,0)","v":{"$error":"#N/A"}},{"$f":"IF(AND(C671-シート!$C$87>=0,シート!$X$87-C671>=0),1,0)","v":{"$error":"#VALUE!"}},{"$error":"#N/A"},{"$error":"#N/A"},{"$f":"IF(AND(C671-シート!$CP$87>=0,シート!$DK$87-C671>=0),1,0)","v":{"$error":"#VALUE!"}},{"$error":"#N/A"},{"$error":"#N/A"},"1901-10-29"]
[670,66,"1901-10-30",{"$f":"+IF(AND(C672-シート!$BV$67>=0,シート!$AI$19-C672>=0),1,0)","v":{"$error":"#N/A"}},{"$f":"IF(AND(C672-シート!$C$87>=0,シート!$X$87-C672>=0),1,0)","v":{"$error":"#VALUE!"}},{"$error":"#N/A"},{"$error":"#N/A"},{"$f":"IF(AND(C672-シート!$CP$87>=0,シート!$DK$87-C672>=0),1,0)","v":{"$error":"#VALUE!"}},{"$error":"#N/A"},{"$error":"#N/A"},"1901-10-30"]
[671,67,"1901-10-31",{"$f":"+IF(AND(C673-シート!$BV$67>=0,シート!$AI$19-C673>=0),1,0)","v":{"$error":"#N/A"}},{"$f":"IF(AND(C673-シート!$C$87>=0,シート!$X$87-C673>=0),1,0)","v":{"$error":"#VALUE!"}},{"$error":"#N/A"},{"$error":"#N/A"},{"$f":"IF(AND(C673-シート!$CP$87>=0,シート!$DK$87-C673>=0),1,0)","v":{"$error":"#VALUE!"}},{"$error":"#N/A"},{"$error":"#N/A"},"1901-10-31"]
[672,67,"1901-11-01",{"$f":"+IF(AND(C674-シート!$BV$67>=0,シート!$AI$19-C674>=0),1,0)","v":{"$error":"#N/A"}},{"$f":"IF(AND(C674-シート!$C$87>=0,シート!$X$87-C674>=0),1,0)","v":{"$error":"#VALUE!"}},{"$error":"#N/A"},{"$error":"#N/A"},{"$f":"IF(AND(C674-シート!$CP$87>=0,シート!$DK$87-C674>=0),1,0)","v":{"$error":"#VALUE!"}},{"$error":"#N/A"},{"$error":"#N/A"},"1901-11-01"]
[673,67,"1901-11-02",{"$f":"+IF(AND(C675-シート!$BV$67>=0,シート!$AI$19-C675>=0),1,0)","v":{"$error":"#N/A"}},{"$f":"IF(AND(C675-シート!$C$87>=0,シート!$X$87-C675>=0),1,0)","v":{"$error":"#VALUE!"}},{"$error":"#N/A"},{"$error":"#N/A"},{"$f":"IF(AND(C675-シート!$CP$87>=0,シート!$DK$87-C675>=0),1,0)","v":{"$error":"#VALUE!"}},{"$error":"#N/A"},{"$error":"#N/A"},"1901-11-02"]
[674,67,"1901-11-03",{"$f":"+IF(AND(C676-シート!$BV$67>=0,シート!$AI$19-C676>=0),1,0)","v":{"$error":"#N/A"}},{"$f":"IF(AND(C676-シート!$C$87>=0,シート!$X$87-C676>=0),1,0)","v":{"$error":"#VALUE!"}},{"$error":"#N/A"},{"$error":"#N/A"},{"$f":"IF(AND(C676-シート!$CP$87>=0,シート!$DK$87-C676>=0),1,0)","v":{"$error":"#VALUE!"}},{"$error":"#N/A"},{"$error":"#N/A"},"1901-11-03"]
[675,67,"1901-11-04",{"$f":"+IF(AND(C677-シート!$BV$67>=0,シート!$AI$19-C677>=0),1,0)","v":{"$error":"#N/A"}},{"$f":"IF(AND(C677-シート!$C$87>=0,シート!$X$87-C677>=0),1,0)","v":{"$error":"#VALUE!"}},{"$error":"#N/A"},{"$error":"#N/A"},{"$f":"IF(AND(C677-シート!$CP$87>=0,シート!$DK$87-C677>=0),1,0)","v":{"$error":"#VALUE!"}},{"$error":"#N/A"},{"$error":"#N/A"},"1901-11-04"]
[676,67,"1901-11-05",{"$f":"+IF(AND(C678-シート!$BV$67>=0,シート!$AI$19-C678>=0),1,0)","v":{"$error":"#N/A"}},{"$f":"IF(AND(C678-シート!$C$87>=0,シート!$X$87-C678>=0),1,0)","v":{"$error":"#VALUE!"}},{"$error":"#N/A"},{"$error":"#N/A"},{"$f":"IF(AND(C678-シート!$CP$87>=0,シート!$DK$87-C678>=0),1,0)","v":{"$error":"#VALUE!"}},{"$error":"#N/A"},{"$error":"#N/A"},"1901-11-05"]
[677,67,"1901-11-06",{"$f":"+IF(AND(C679-シート!$BV$67>=0,シート!$AI$19-C679>=0),1,0)","v":{"$error":"#N/A"}},{"$f":"IF(AND(C679-シート!$C$87>=0,シート!$X$87-C679>=0),1,0)","v":{"$error":"#VALUE!"}},{"$error":"#N/A"},{"$error":"#N/A"},{"$f":"IF(AND(C679-シート!$CP$87>=0,シート!$DK$87-C679>=0),1,0)","v":{"$error":"#VALUE!"}},{"$error":"#N/A"},{"$error":"#N/A"},"1901-11-06"]
[678,67,"1901-11-07",{"$f":"+IF(AND(C680-シート!$BV$67>=0,シート!$AI$19-C680>=0),1,0)","v":{"$error":"#N/A"}},{"$f":"IF(AND(C680-シート!$C$87>=0,シート!$X$87-C680>=0),1,0)","v":{"$error":"#VALUE!"}},{"$error":"#N/A"},{"$error":"#N/A"},{"$f":"IF(AND(C680-シート!$CP$87>=0,シート!$DK$87-C680>=0),1,0)","v":{"$error":"#VALUE!"}},{"$error":"#N/A"},{"$error":"#N/A"},"1901-11-07"]
[679,67,"1901-11-08",{"$f":"+IF(AND(C681-シート!$BV$67>=0,シート!$AI$19-C681>=0),1,0)","v":{"$error":"#N/A"}},{"$f":"IF(AND(C681-シート!$C$87>=0,シート!$X$87-C681>=0),1,0)","v":{"$error":"#VALUE!"}},{"$error":"#N/A"},{"$error":"#N/A"},{"$f":"IF(AND(C681-シート!$CP$87>=0,シート!$DK$87-C681>=0),1,0)","v":{"$error":"#VALUE!"}},{"$error":"#N/A"},{"$error":"#N/A"},"1901-11-08"]
[680,67,"1901-11-09",{"$f":"+IF(AND(C682-シート!$BV$67>=0,シート!$AI$19-C682>=0),1,0)","v":{"$error":"#N/A"}},{"$f":"IF(AND(C682-シート!$C$87>=0,シート!$X$87-C682>=0),1,0)","v":{"$error":"#VALUE!"}},{"$error":"#N/A"},{"$error":"#N/A"},{"$f":"IF(AND(C682-シート!$CP$87>=0,シート!$DK$87-C682>=0),1,0)","v":{"$error":"#VALUE!"}},{"$error":"#N/A"},{"$error":"#N/A"},"1901-11-09"]
[681,68,"1901-11-10",{"$f":"+IF(AND(C683-シート!$BV$67>=0,シート!$AI$19-C683>=0),1,0)","v":{"$error":"#N/A"}},{"$f":"IF(AND(C683-シート!$C$87>=0,シート!$X$87-C683>=0),1,0)","v":{"$error":"#VALUE!"}},{"$error":"#N/A"},{"$error":"#N/A"},{"$f":"IF(AND(C683-シート!$CP$87>=0,シート!$DK$87-C683>=0),1,0)","v":{"$error":"#VALUE!"}},{"$error":"#N/A"},{"$error":"#N/A"},"1901-11-10"]
[682,68,"1901-11-11",{"$f":"+IF(AND(C684-シート!$BV$67>=0,シート!$AI$19-C684>=0),1,0)","v":{"$error":"#N/A"}},{"$f":"IF(AND(C684-シート!$C$87>=0,シート!$X$87-C684>=0),1,0)","v":{"$error":"#VALUE!"}},{"$error":"#N/A"},{"$error":"#N/A"},{"$f":"IF(AND(C684-シート!$CP$87>=0,シート!$DK$87-C684>=0),1,0)","v":{"$error":"#VALUE!"}},{"$error":"#N/A"},{"$error":"#N/A"},"1901-11-11"]
[683,68,"1901-11-12",{"$f":"+IF(AND(C685-シート!$BV$67>=0,シート!$AI$19-C685>=0),1,0)","v":{"$error":"#N/A"}},{"$f":"IF(AND(C685-シート!$C$87>=0,シート!$X$87-C685>=0),1,0)","v":{"$error":"#VALUE!"}},{"$error":"#N/A"},{"$error":"#N/A"},{"$f":"IF(AND(C685-シート!$CP$87>=0,シート!$DK$87-C685>=0),1,0)","v":{"$error":"#VALUE!"}},{"$error":"#N/A"},{"$error":"#N/A"},"1901-11-12"]
[684,68,"1901-11-13",{"$f":"+IF(AND(C686-シート!$BV$67>=0,シート!$AI$19-C686>=0),1,0)","v":{"$error":"#N/A"}},{"$f":"IF(AND(C686-シート!$C$87>=0,シート!$X$87-C686>=0),1,0)","v":{"$error":"#VALUE!"}},{"$error":"#N/A"},{"$error":"#N/A"},{"$f":"IF(AND(C686-シート!$CP$87>=0,シート!$DK$87-C686>=0),1,0)","v":{"$error":"#VALUE!"}},{"$error":"#N/A"},{"$error":"#N/A"},"1901-11-13"]
[685,68,"1901-11-14",{"$f":"+IF(AND(C687-シート!$BV$67>=0,シート!$AI$19-C687>=0),1,0)","v":{"$error":"#N/A"}},{"$f":"IF(AND(C687-シート!$C$87>=0,シート!$X$87-C687>=0),1,0)","v":{"$error":"#VALUE!"}},{"$error":"#N/A"},{"$error":"#N/A"},{"$f":"IF(AND(C687-シート!$CP$87>=0,シート!$DK$87-C687>=0),1,0)","v":{"$error":"#VALUE!"}},{"$error":"#N/A"},{"$error":"#N/A"},"1901-11-14"]
[686,68,"1901-11-15",{"$f":"+IF(AND(C688-シート!$BV$67>=0,シート!$AI$19-C688>=0),1,0)","v":{"$error":"#N/A"}},{"$f":"IF(AND(C688-シート!$C$87>=0,シート!$X$87-C688>=0),1,0)","v":{"$error":"#VALUE!"}},{"$error":"#N/A"},{"$error":"#N/A"},{"$f":"IF(AND(C688-シート!$CP$87>=0,シート!$DK$87-C688>=0),1,0)","v":{"$error":"#VALUE!"}},{"$error":"#N/A"},{"$error":"#N/A"},"1901-11-15"]
[687,68,"1901-11-16",{"$f":"+IF(AND(C689-シート!$BV$67>=0,シート!$AI$19-C689>=0),1,0)","v":{"$error":"#N/A"}},{"$f":"IF(AND(C689-シート!$C$87>=0,シート!$X$87-C689>=0),1,0)","v":{"$error":"#VALUE!"}},{"$error":"#N/A"},{"$error":"#N/A"},{"$f":"IF(AND(C689-シート!$CP$87>=0,シート!$DK$87-C689>=0),1,0)","v":{"$error":"#VALUE!"}},{"$error":"#N/A"},{"$error":"#N/A"},"1901-11-16"]
[688,68,"1901-11-17",{"$f":"+IF(AND(C690-シート!$BV$67>=0,シート!$AI$19-C690>=0),1,0)","v":{"$error":"#N/A"}},{"$f":"IF(AND(C690-シート!$C$87>=0,シート!$X$87-C690>=0),1,0)","v":{"$error":"#VALUE!"}},{"$error":"#N/A"},{"$error":"#N/A"},{"$f":"IF(AND(C690-シート!$CP$87>=0,シート!$DK$87-C690>=0),1,0)","v":{"$error":"#VALUE!"}},{"$error":"#N/A"},{"$error":"#N/A"},"1901-11-17"]
[689,68,"1901-11-18",{"$f":"+IF(AND(C691-シート!$BV$67>=0,シート!$AI$19-C691>=0),1,0)","v":{"$error":"#N/A"}},{"$f":"IF(AND(C691-シート!$C$87>=0,シート!$X$87-C691>=0),1,0)","v":{"$error":"#VALUE!"}},{"$error":"#N/A"},{"$error":"#N/A"},{"$f":"IF(AND(C691-シート!$CP$87>=0,シート!$DK$87-C691>=0),1,0)","v":{"$error":"#VALUE!"}},{"$error":"#N/A"},{"$error":"#N/A"},"1901-11-18"]
[690,68,"1901-11-19",{"$f":"+IF(AND(C692-シート!$BV$67>=0,シート!$AI$19-C692>=0),1,0)","v":{"$error":"#N/A"}},{"$f":"IF(AND(C692-シート!$C$87>=0,シート!$X$87-C692>=0),1,0)","v":{"$error":"#VALUE!"}},{"$error":"#N/A"},{"$error":"#N/A"},{"$f":"IF(AND(C692-シート!$CP$87>=0,シート!$DK$87-C692>=0),1,0)","v":{"$error":"#VALUE!"}},{"$error":"#N/A"},{"$error":"#N/A"},"1901-11-19"]
[691,68,"1901-11-20",{"$f":"+IF(AND(C693-シート!$BV$67>=0,シート!$AI$19-C693>=0),1,0)","v":{"$error":"#N/A"}},{"$f":"IF(AND(C693-シート!$C$87>=0,シート!$X$87-C693>=0),1,0)","v":{"$error":"#VALUE!"}},{"$error":"#N/A"},{"$error":"#N/A"},{"$f":"IF(AND(C693-シート!$CP$87>=0,シート!$DK$87-C693>=0),1,0)","v":{"$error":"#VALUE!"}},{"$error":"#N/A"},{"$error":"#N/A"},"1901-11-20"]
[692,69,"1901-11-21",{"$f":"+IF(AND(C694-シート!$BV$67>=0,シート!$AI$19-C694>=0),1,0)","v":{"$error":"#N/A"}},{"$f":"IF(AND(C694-シート!$C$87>=0,シート!$X$87-C694>=0),1,0)","v":{"$error":"#VALUE!"}},{"$error":"#N/A"},{"$error":"#N/A"},{"$f":"IF(AND(C694-シート!$CP$87>=0,シート!$DK$87-C694>=0),1,0)","v":{"$error":"#VALUE!"}},{"$error":"#N/A"},{"$error":"#N/A"},"1901-11-21"]
[693,69,"1901-11-22",{"$f":"+IF(AND(C695-シート!$BV$67>=0,シート!$AI$19-C695>=0),1,0)","v":{"$error":"#N/A"}},{"$f":"IF(AND(C695-シート!$C$87>=0,シート!$X$87-C695>=0),1,0)","v":{"$error":"#VALUE!"}},{"$error":"#N/A"},{"$error":"#N/A"},{"$f":"IF(AND(C695-シート!$CP$87>=0,シート!$DK$87-C695>=0),1,0)","v":{"$error":"#VALUE!"}},{"$error":"#N/A"},{"$error":"#N/A"},"1901-11-22"]
[694,69,"1901-11-23",{"$f":"+IF(AND(C696-シート!$BV$67>=0,シート!$AI$19-C696>=0),1,0)","v":{"$error":"#N/A"}},{"$f":"IF(AND(C696-シート!$C$87>=0,シート!$X$87-C696>=0),1,0)","v":{"$error":"#VALUE!"}},{"$error":"#N/A"},{"$error":"#N/A"},{"$f":"IF(AND(C696-シート!$CP$87>=0,シート!$DK$87-C696>=0),1,0)","v":{"$error":"#VALUE!"}},{"$error":"#N/A"},{"$error":"#N/A"},"1901-11-23"]
[695,69,"1901-11-24",{"$f":"+IF(AND(C697-シート!$BV$67>=0,シート!$AI$19-C697>=0),1,0)","v":{"$error":"#N/A"}},{"$f":"IF(AND(C697-シート!$C$87>=0,シート!$X$87-C697>=0),1,0)","v":{"$error":"#VALUE!"}},{"$error":"#N/A"},{"$error":"#N/A"},{"$f":"IF(AND(C697-シート!$CP$87>=0,シート!$DK$87-C697>=0),1,0)","v":{"$error":"#VALUE!"}},{"$error":"#N/A"},{"$error":"#N/A"},"1901-11-24"]
[696,69,"1901-11-25",{"$f":"+IF(AND(C698-シート!$BV$67>=0,シート!$AI$19-C698>=0),1,0)","v":{"$error":"#N/A"}},{"$f":"IF(AND(C698-シート!$C$87>=0,シート!$X$87-C698>=0),1,0)","v":{"$error":"#VALUE!"}},{"$error":"#N/A"},{"$error":"#N/A"},{"$f":"IF(AND(C698-シート!$CP$87>=0,シート!$DK$87-C698>=0),1,0)","v":{"$error":"#VALUE!"}},{"$error":"#N/A"},{"$error":"#N/A"},"1901-11-25"]
[697,69,"1901-11-26",{"$f":"+IF(AND(C699-シート!$BV$67>=0,シート!$AI$19-C699>=0),1,0)","v":{"$error":"#N/A"}},{"$f":"IF(AND(C699-シート!$C$87>=0,シート!$X$87-C699>=0),1,0)","v":{"$error":"#VALUE!"}},{"$error":"#N/A"},{"$error":"#N/A"},{"$f":"IF(AND(C699-シート!$CP$87>=0,シート!$DK$87-C699>=0),1,0)","v":{"$error":"#VALUE!"}},{"$error":"#N/A"},{"$error":"#N/A"},"1901-11-26"]
[698,69,"1901-11-27",{"$f":"+IF(AND(C700-シート!$BV$67>=0,シート!$AI$19-C700>=0),1,0)","v":{"$error":"#N/A"}},{"$f":"IF(AND(C700-シート!$C$87>=0,シート!$X$87-C700>=0),1,0)","v":{"$error":"#VALUE!"}},{"$error":"#N/A"},{"$error":"#N/A"},{"$f":"IF(AND(C700-シート!$CP$87>=0,シート!$DK$87-C700>=0),1,0)","v":{"$error":"#VALUE!"}},{"$error":"#N/A"},{"$error":"#N/A"},"1901-11-27"]
[699,69,"1901-11-28",{"$f":"+IF(AND(C701-シート!$BV$67>=0,シート!$AI$19-C701>=0),1,0)","v":{"$error":"#N/A"}},{"$f":"IF(AND(C701-シート!$C$87>=0,シート!$X$87-C701>=0),1,0)","v":{"$error":"#VALUE!"}},{"$error":"#N/A"},{"$error":"#N/A"},{"$f":"IF(AND(C701-シート!$CP$87>=0,シート!$DK$87-C701>=0),1,0)","v":{"$error":"#VALUE!"}},{"$error":"#N/A"},{"$error":"#N/A"},"1901-11-28"]
[700,69,"1901-11-29",{"$f":"+IF(AND(C702-シート!$BV$67>=0,シート!$AI$19-C702>=0),1,0)","v":{"$error":"#N/A"}},{"$f":"IF(AND(C702-シート!$C$87>=0,シート!$X$87-C702>=0),1,0)","v":{"$error":"#VALUE!"}},{"$error":"#N/A"},{"$error":"#N/A"},{"$f":"IF(AND(C702-シート!$CP$87>=0,シート!$DK$87-C702>=0),1,0)","v":{"$error":"#VALUE!"}},{"$error":"#N/A"},{"$error":"#N/A"},"1901-11-29"]
[701,69,"1901-11-30",{"$f":"+IF(AND(C703-シート!$BV$67>=0,シート!$AI$19-C703>=0),1,0)","v":{"$error":"#N/A"}},{"$f":"IF(AND(C703-シート!$C$87>=0,シート!$X$87-C703>=0),1,0)","v":{"$error":"#VALUE!"}},{"$error":"#N/A"},{"$error":"#N/A"},{"$f":"IF(AND(C703-シート!$CP$87>=0,シート!$DK$87-C703>=0),1,0)","v":{"$error":"#VALUE!"}},{"$error":"#N/A"},{"$error":"#N/A"},"1901-11-30"]
[702,70,"1901-12-01",{"$f":"+IF(AND(C704-シート!$BV$67>=0,シート!$AI$19-C704>=0),1,0)","v":{"$error":"#N/A"}},{"$f":"IF(AND(C704-シート!$C$87>=0,シート!$X$87-C704>=0),1,0)","v":{"$error":"#VALUE!"}},{"$error":"#N/A"},{"$error":"#N/A"},{"$f":"IF(AND(C704-シート!$CP$87>=0,シート!$DK$87-C704>=0),1,0)","v":{"$error":"#VALUE!"}},{"$error":"#N/A"},{"$error":"#N/A"},"1901-12-01"]
[703,70,"1901-12-02",{"$f":"+IF(AND(C705-シート!$BV$67>=0,シート!$AI$19-C705>=0),1,0)","v":{"$error":"#N/A"}},{"$f":"IF(AND(C705-シート!$C$87>=0,シート!$X$87-C705>=0),1,0)","v":{"$error":"#VALUE!"}},{"$error":"#N/A"},{"$error":"#N/A"},{"$f":"IF(AND(C705-シート!$CP$87>=0,シート!$DK$87-C705>=0),1,0)","v":{"$error":"#VALUE!"}},{"$error":"#N/A"},{"$error":"#N/A"},"1901-12-02"]
[704,70,"1901-12-03",{"$f":"+IF(AND(C706-シート!$BV$67>=0,シート!$AI$19-C706>=0),1,0)","v":{"$error":"#N/A"}},{"$f":"IF(AND(C706-シート!$C$87>=0,シート!$X$87-C706>=0),1,0)","v":{"$error":"#VALUE!"}},{"$error":"#N/A"},{"$error":"#N/A"},{"$f":"IF(AND(C706-シート!$CP$87>=0,シート!$DK$87-C706>=0),1,0)","v":{"$error":"#VALUE!"}},{"$error":"#N/A"},{"$error":"#N/A"},"1901-12-03"]
[705,70,"1901-12-04",{"$f":"+IF(AND(C707-シート!$BV$67>=0,シート!$AI$19-C707>=0),1,0)","v":{"$error":"#N/A"}},{"$f":"IF(AND(C707-シート!$C$87>=0,シート!$X$87-C707>=0),1,0)","v":{"$error":"#VALUE!"}},{"$error":"#N/A"},{"$error":"#N/A"},{"$f":"IF(AND(C707-シート!$CP$87>=0,シート!$DK$87-C707>=0),1,0)","v":{"$error":"#VALUE!"}},{"$error":"#N/A"},{"$error":"#N/A"},"1901-12-04"]
[706,70,"1901-12-05",{"$f":"+IF(AND(C708-シート!$BV$67>=0,シート!$AI$19-C708>=0),1,0)","v":{"$error":"#N/A"}},{"$f":"IF(AND(C708-シート!$C$87>=0,シート!$X$87-C708>=0),1,0)","v":{"$error":"#VALUE!"}},{"$f":"IF(+D708+E708=2,1,0)","v":{"$error":"#N/A"}},{"$error":"#N/A"},{"$f":"IF(AND(C708-シート!$CP$87>=0,シート!$DK$87-C708>=0),1,0)","v":{"$error":"#VALUE!"}},{"$f":"IF(+D708+H708=2,1,0)","v":{"$error":"#N/A"}},{"$error":"#N/A"},{"$f":"+C708","v":"1901-12-05"}]
[{"$f":"+A708+1","v":707},70,{"$f":"+C708+1","v":"1901-12-06"},{"$f":"+IF(AND(C709-シート!$BV$67>=0,シート!$AI$19-C709>=0),1,0)","v":{"$error":"#N/A"}},{"$f":"IF(AND(C709-シート!$C$87>=0,シート!$X$87-C709>=0),1,0)","v":{"$error":"#VALUE!"}},{"$error":"#N/A"},{"$f":"+G708+F709","v":{"$error":"#N/A"}},{"$f":"IF(AND(C709-シート!$CP$87>=0,シート!$DK$87-C709>=0),1,0)","v":{"$error":"#VALUE!"}},{"$error":"#N/A"},{"$f":"+J708+I709","v":{"$error":"#N/A"}},"1901-12-06"]
[708,70,"1901-12-07",{"$f":"+IF(AND(C710-シート!$BV$67>=0,シート!$AI$19-C710>=0),1,0)","v":{"$error":"#N/A"}},{"$f":"IF(AND(C710-シート!$C$87>=0,シート!$X$87-C710>=0),1,0)","v":{"$error":"#VALUE!"}},{"$error":"#N/A"},{"$error":"#N/A"},{"$f":"IF(AND(C710-シート!$CP$87>=0,シート!$DK$87-C710>=0),1,0)","v":{"$error":"#VALUE!"}},{"$error":"#N/A"},{"$error":"#N/A"},"1901-12-07"]
[709,70,"1901-12-08",{"$f":"+IF(AND(C711-シート!$BV$67>=0,シート!$AI$19-C711>=0),1,0)","v":{"$error":"#N/A"}},{"$f":"IF(AND(C711-シート!$C$87>=0,シート!$X$87-C711>=0),1,0)","v":{"$error":"#VALUE!"}},{"$error":"#N/A"},{"$error":"#N/A"},{"$f":"IF(AND(C711-シート!$CP$87>=0,シート!$DK$87-C711>=0),1,0)","v":{"$error":"#VALUE!"}},{"$error":"#N/A"},{"$error":"#N/A"},"1901-12-08"]
[710,70,"1901-12-09",{"$f":"+IF(AND(C712-シート!$BV$67>=0,シート!$AI$19-C712>=0),1,0)","v":{"$error":"#N/A"}},{"$f":"IF(AND(C712-シート!$C$87>=0,シート!$X$87-C712>=0),1,0)","v":{"$error":"#VALUE!"}},{"$error":"#N/A"},{"$error":"#N/A"},{"$f":"IF(AND(C712-シート!$CP$87>=0,シート!$DK$87-C712>=0),1,0)","v":{"$error":"#VALUE!"}},{"$error":"#N/A"},{"$error":"#N/A"},"1901-12-09"]
[711,70,"1901-12-10",{"$f":"+IF(AND(C713-シート!$BV$67>=0,シート!$AI$19-C713>=0),1,0)","v":{"$error":"#N/A"}},{"$f":"IF(AND(C713-シート!$C$87>=0,シート!$X$87-C713>=0),1,0)","v":{"$error":"#VALUE!"}},{"$error":"#N/A"},{"$error":"#N/A"},{"$f":"IF(AND(C713-シート!$CP$87>=0,シート!$DK$87-C713>=0),1,0)","v":{"$error":"#VALUE!"}},{"$error":"#N/A"},{"$error":"#N/A"},"1901-12-10"]
[712,71,"1901-12-11",{"$f":"+IF(AND(C714-シート!$BV$67>=0,シート!$AI$19-C714>=0),1,0)","v":{"$error":"#N/A"}},{"$f":"IF(AND(C714-シート!$C$87>=0,シート!$X$87-C714>=0),1,0)","v":{"$error":"#VALUE!"}},{"$error":"#N/A"},{"$error":"#N/A"},{"$f":"IF(AND(C714-シート!$CP$87>=0,シート!$DK$87-C714>=0),1,0)","v":{"$error":"#VALUE!"}},{"$error":"#N/A"},{"$error":"#N/A"},"1901-12-11"]
[713,71,"1901-12-12",{"$f":"+IF(AND(C715-シート!$BV$67>=0,シート!$AI$19-C715>=0),1,0)","v":{"$error":"#N/A"}},{"$f":"IF(AND(C715-シート!$C$87>=0,シート!$X$87-C715>=0),1,0)","v":{"$error":"#VALUE!"}},{"$error":"#N/A"},{"$error":"#N/A"},{"$f":"IF(AND(C715-シート!$CP$87>=0,シート!$DK$87-C715>=0),1,0)","v":{"$error":"#VALUE!"}},{"$error":"#N/A"},{"$error":"#N/A"},"1901-12-12"]
[714,71,"1901-12-13",{"$f":"+IF(AND(C716-シート!$BV$67>=0,シート!$AI$19-C716>=0),1,0)","v":{"$error":"#N/A"}},{"$f":"IF(AND(C716-シート!$C$87>=0,シート!$X$87-C716>=0),1,0)","v":{"$error":"#VALUE!"}},{"$error":"#N/A"},{"$error":"#N/A"},{"$f":"IF(AND(C716-シート!$CP$87>=0,シート!$DK$87-C716>=0),1,0)","v":{"$error":"#VALUE!"}},{"$error":"#N/A"},{"$error":"#N/A"},"1901-12-13"]
[715,71,"1901-12-14",{"$f":"+IF(AND(C717-シート!$BV$67>=0,シート!$AI$19-C717>=0),1,0)","v":{"$error":"#N/A"}},{"$f":"IF(AND(C717-シート!$C$87>=0,シート!$X$87-C717>=0),1,0)","v":{"$error":"#VALUE!"}},{"$error":"#N/A"},{"$error":"#N/A"},{"$f":"IF(AND(C717-シート!$CP$87>=0,シート!$DK$87-C717>=0),1,0)","v":{"$error":"#VALUE!"}},{"$error":"#N/A"},{"$error":"#N/A"},"1901-12-14"]
[716,71,"1901-12-15",{"$f":"+IF(AND(C718-シート!$BV$67>=0,シート!$AI$19-C718>=0),1,0)","v":{"$error":"#N/A"}},{"$f":"IF(AND(C718-シート!$C$87>=0,シート!$X$87-C718>=0),1,0)","v":{"$error":"#VALUE!"}},{"$error":"#N/A"},{"$error":"#N/A"},{"$f":"IF(AND(C718-シート!$CP$87>=0,シート!$DK$87-C718>=0),1,0)","v":{"$error":"#VALUE!"}},{"$error":"#N/A"},{"$error":"#N/A"},"1901-12-15"]
[717,71,"1901-12-16",{"$f":"+IF(AND(C719-シート!$BV$67>=0,シート!$AI$19-C719>=0),1,0)","v":{"$error":"#N/A"}},{"$f":"IF(AND(C719-シート!$C$87>=0,シート!$X$87-C719>=0),1,0)","v":{"$error":"#VALUE!"}},{"$error":"#N/A"},{"$error":"#N/A"},{"$f":"IF(AND(C719-シート!$CP$87>=0,シート!$DK$87-C719>=0),1,0)","v":{"$error":"#VALUE!"}},{"$error":"#N/A"},{"$error":"#N/A"},"1901-12-16"]
[718,71,"1901-12-17",{"$f":"+IF(AND(C720-シート!$BV$67>=0,シート!$AI$19-C720>=0),1,0)","v":{"$error":"#N/A"}},{"$f":"IF(AND(C720-シート!$C$87>=0,シート!$X$87-C720>=0),1,0)","v":{"$error":"#VALUE!"}},{"$error":"#N/A"},{"$error":"#N/A"},{"$f":"IF(AND(C720-シート!$CP$87>=0,シート!$DK$87-C720>=0),1,0)","v":{"$error":"#VALUE!"}},{"$error":"#N/A"},{"$error":"#N/A"},"1901-12-17"]
[719,71,"1901-12-18",{"$f":"+IF(AND(C721-シート!$BV$67>=0,シート!$AI$19-C721>=0),1,0)","v":{"$error":"#N/A"}},{"$f":"IF(AND(C721-シート!$C$87>=0,シート!$X$87-C721>=0),1,0)","v":{"$error":"#VALUE!"}},{"$error":"#N/A"},{"$error":"#N/A"},{"$f":"IF(AND(C721-シート!$CP$87>=0,シート!$DK$87-C721>=0),1,0)","v":{"$error":"#VALUE!"}},{"$error":"#N/A"},{"$error":"#N/A"},"1901-12-18"]
[720,71,"1901-12-19",{"$f":"+IF(AND(C722-シート!$BV$67>=0,シート!$AI$19-C722>=0),1,0)","v":{"$error":"#N/A"}},{"$f":"IF(AND(C722-シート!$C$87>=0,シート!$X$87-C722>=0),1,0)","v":{"$error":"#VALUE!"}},{"$error":"#N/A"},{"$error":"#N/A"},{"$f":"IF(AND(C722-シート!$CP$87>=0,シート!$DK$87-C722>=0),1,0)","v":{"$error":"#VALUE!"}},{"$error":"#N/A"},{"$error":"#N/A"},"1901-12-19"]
[721,71,"1901-12-20",{"$f":"+IF(AND(C723-シート!$BV$67>=0,シート!$AI$19-C723>=0),1,0)","v":{"$error":"#N/A"}},{"$f":"IF(AND(C723-シート!$C$87>=0,シート!$X$87-C723>=0),1,0)","v":{"$error":"#VALUE!"}},{"$error":"#N/A"},{"$error":"#N/A"},{"$f":"IF(AND(C723-シート!$CP$87>=0,シート!$DK$87-C723>=0),1,0)","v":{"$error":"#VALUE!"}},{"$error":"#N/A"},{"$error":"#N/A"},"1901-12-20"]
[722,72,"1901-12-21",{"$f":"+IF(AND(C724-シート!$BV$67>=0,シート!$AI$19-C724>=0),1,0)","v":{"$error":"#N/A"}},{"$f":"IF(AND(C724-シート!$C$87>=0,シート!$X$87-C724>=0),1,0)","v":{"$error":"#VALUE!"}},{"$error":"#N/A"},{"$error":"#N/A"},{"$f":"IF(AND(C724-シート!$CP$87>=0,シート!$DK$87-C724>=0),1,0)","v":{"$error":"#VALUE!"}},{"$error":"#N/A"},{"$error":"#N/A"},"1901-12-21"]
[723,72,"1901-12-22",{"$f":"+IF(AND(C725-シート!$BV$67>=0,シート!$AI$19-C725>=0),1,0)","v":{"$error":"#N/A"}},{"$f":"IF(AND(C725-シート!$C$87>=0,シート!$X$87-C725>=0),1,0)","v":{"$error":"#VALUE!"}},{"$error":"#N/A"},{"$error":"#N/A"},{"$f":"IF(AND(C725-シート!$CP$87>=0,シート!$DK$87-C725>=0),1,0)","v":{"$error":"#VALUE!"}},{"$error":"#N/A"},{"$error":"#N/A"},"1901-12-22"]
[724,72,"1901-12-23",{"$f":"+IF(AND(C726-シート!$BV$67>=0,シート!$AI$19-C726>=0),1,0)","v":{"$error":"#N/A"}},{"$f":"IF(AND(C726-シート!$C$87>=0,シート!$X$87-C726>=0),1,0)","v":{"$error":"#VALUE!"}},{"$error":"#N/A"},{"$error":"#N/A"},{"$f":"IF(AND(C726-シート!$CP$87>=0,シート!$DK$87-C726>=0),1,0)","v":{"$error":"#VALUE!"}},{"$error":"#N/A"},{"$error":"#N/A"},"1901-12-23"]
[725,72,"1901-12-24",{"$f":"+IF(AND(C727-シート!$BV$67>=0,シート!$AI$19-C727>=0),1,0)","v":{"$error":"#N/A"}},{"$f":"IF(AND(C727-シート!$C$87>=0,シート!$X$87-C727>=0),1,0)","v":{"$error":"#VALUE!"}},{"$error":"#N/A"},{"$error":"#N/A"},{"$f":"IF(AND(C727-シート!$CP$87>=0,シート!$DK$87-C727>=0),1,0)","v":{"$error":"#VALUE!"}},{"$error":"#N/A"},{"$error":"#N/A"},"1901-12-24"]
[726,72,"1901-12-25",{"$f":"+IF(AND(C728-シート!$BV$67>=0,シート!$AI$19-C728>=0),1,0)","v":{"$error":"#N/A"}},{"$f":"IF(AND(C728-シート!$C$87>=0,シート!$X$87-C728>=0),1,0)","v":{"$error":"#VALUE!"}},{"$error":"#N/A"},{"$error":"#N/A"},{"$f":"IF(AND(C728-シート!$CP$87>=0,シート!$DK$87-C728>=0),1,0)","v":{"$error":"#VALUE!"}},{"$error":"#N/A"},{"$error":"#N/A"},"1901-12-25"]
[727,72,"1901-12-26",{"$f":"+IF(AND(C729-シート!$BV$67>=0,シート!$AI$19-C729>=0),1,0)","v":{"$error":"#N/A"}},{"$f":"IF(AND(C729-シート!$C$87>=0,シート!$X$87-C729>=0),1,0)","v":{"$error":"#VALUE!"}},{"$error":"#N/A"},{"$error":"#N/A"},{"$f":"IF(AND(C729-シート!$CP$87>=0,シート!$DK$87-C729>=0),1,0)","v":{"$error":"#VALUE!"}},{"$error":"#N/A"},{"$error":"#N/A"},"1901-12-26"]
[728,72,"1901-12-27",{"$f":"+IF(AND(C730-シート!$BV$67>=0,シート!$AI$19-C730>=0),1,0)","v":{"$error":"#N/A"}},{"$f":"IF(AND(C730-シート!$C$87>=0,シート!$X$87-C730>=0),1,0)","v":{"$error":"#VALUE!"}},{"$error":"#N/A"},{"$error":"#N/A"},{"$f":"IF(AND(C730-シート!$CP$87>=0,シート!$DK$87-C730>=0),1,0)","v":{"$error":"#VALUE!"}},{"$error":"#N/A"},{"$error":"#N/A"},"1901-12-27"]
[729,72,"1901-12-28",{"$f":"+IF(AND(C731-シート!$BV$67>=0,シート!$AI$19-C731>=0),1,0)","v":{"$error":"#N/A"}},{"$f":"IF(AND(C731-シート!$C$87>=0,シート!$X$87-C731>=0),1,0)","v":{"$error":"#VALUE!"}},{"$error":"#N/A"},{"$error":"#N/A"},{"$f":"IF(AND(C731-シート!$CP$87>=0,シート!$DK$87-C731>=0),1,0)","v":{"$error":"#VALUE!"}},{"$error":"#N/A"},{"$error":"#N/A"},"1901-12-28"]
[730,72,"1901-12-29",{"$f":"+IF(AND(C732-シート!$BV$67>=0,シート!$AI$19-C732>=0),1,0)","v":{"$error":"#N/A"}},{"$f":"IF(AND(C732-シート!$C$87>=0,シート!$X$87-C732>=0),1,0)","v":{"$error":"#VALUE!"}},{"$error":"#N/A"},{"$error":"#N/A"},{"$f":"IF(AND(C732-シート!$CP$87>=0,シート!$DK$87-C732>=0),1,0)","v":{"$error":"#VALUE!"}},{"$error":"#N/A"},{"$error":"#N/A"},"1901-12-29"]
[731,73,"1901-12-30",{"$f":"+IF(AND(C733-シート!$BV$67>=0,シート!$AI$19-C733>=0),1,0)","v":{"$error":"#N/A"}},{"$f":"IF(AND(C733-シート!$C$87>=0,シート!$X$87-C733>=0),1,0)","v":{"$error":"#VALUE!"}},{"$error":"#N/A"},{"$error":"#N/A"},{"$f":"IF(AND(C733-シート!$CP$87>=0,シート!$DK$87-C733>=0),1,0)","v":{"$error":"#VALUE!"}},{"$error":"#N/A"},{"$error":"#N/A"},"1901-12-30"]
[732,73,"1901-12-31",{"$f":"+IF(AND(C734-シート!$BV$67>=0,シート!$AI$19-C734>=0),1,0)","v":{"$error":"#N/A"}},{"$f":"IF(AND(C734-シート!$C$87>=0,シート!$X$87-C734>=0),1,0)","v":{"$error":"#VALUE!"}},{"$error":"#N/A"},{"$error":"#N/A"},{"$f":"IF(AND(C734-シート!$CP$87>=0,シート!$DK$87-C734>=0),1,0)","v":{"$error":"#VALUE!"}},{"$error":"#N/A"},{"$error":"#N/A"},"1901-12-31"]
[733,73,"1902-01-01",{"$f":"+IF(AND(C735-シート!$BV$67>=0,シート!$AI$19-C735>=0),1,0)","v":{"$error":"#N/A"}},{"$f":"IF(AND(C735-シート!$C$87>=0,シート!$X$87-C735>=0),1,0)","v":{"$error":"#VALUE!"}},{"$error":"#N/A"},{"$error":"#N/A"},{"$f":"IF(AND(C735-シート!$CP$87>=0,シート!$DK$87-C735>=0),1,0)","v":{"$error":"#VALUE!"}},{"$error":"#N/A"},{"$error":"#N/A"},"1902-01-01"]
[734,73,"1902-01-02",{"$f":"+IF(AND(C736-シート!$BV$67>=0,シート!$AI$19-C736>=0),1,0)","v":{"$error":"#N/A"}},{"$f":"IF(AND(C736-シート!$C$87>=0,シート!$X$87-C736>=0),1,0)","v":{"$error":"#VALUE!"}},{"$error":"#N/A"},{"$error":"#N/A"},{"$f":"IF(AND(C736-シート!$CP$87>=0,シート!$DK$87-C736>=0),1,0)","v":{"$error":"#VALUE!"}},{"$error":"#N/A"},{"$error":"#N/A"},"1902-01-02"]
[735,73,"1902-01-03",{"$f":"+IF(AND(C737-シート!$BV$67>=0,シート!$AI$19-C737>=0),1,0)","v":{"$error":"#N/A"}},{"$f":"IF(AND(C737-シート!$C$87>=0,シート!$X$87-C737>=0),1,0)","v":{"$error":"#VALUE!"}},{"$error":"#N/A"},{"$error":"#N/A"},{"$f":"IF(AND(C737-シート!$CP$87>=0,シート!$DK$87-C737>=0),1,0)","v":{"$error":"#VALUE!"}},{"$error":"#N/A"},{"$error":"#N/A"},"1902-01-03"]
[736,73,"1902-01-04",{"$f":"+IF(AND(C738-シート!$BV$67>=0,シート!$AI$19-C738>=0),1,0)","v":{"$error":"#N/A"}},{"$f":"IF(AND(C738-シート!$C$87>=0,シート!$X$87-C738>=0),1,0)","v":{"$error":"#VALUE!"}},{"$error":"#N/A"},{"$error":"#N/A"},{"$f":"IF(AND(C738-シート!$CP$87>=0,シート!$DK$87-C738>=0),1,0)","v":{"$error":"#VALUE!"}},{"$error":"#N/A"},{"$error":"#N/A"},"1902-01-04"]
[737,73,"1902-01-05",{"$f":"+IF(AND(C739-シート!$BV$67>=0,シート!$AI$19-C739>=0),1,0)","v":{"$error":"#N/A"}},{"$f":"IF(AND(C739-シート!$C$87>=0,シート!$X$87-C739>=0),1,0)","v":{"$error":"#VALUE!"}},{"$error":"#N/A"},{"$error":"#N/A"},{"$f":"IF(AND(C739-シート!$CP$87>=0,シート!$DK$87-C739>=0),1,0)","v":{"$error":"#VALUE!"}},{"$error":"#N/A"},{"$error":"#N/A"},"1902-01-05"]
[738,73,"1902-01-06",{"$f":"+IF(AND(C740-シート!$BV$67>=0,シート!$AI$19-C740>=0),1,0)","v":{"$error":"#N/A"}},{"$f":"IF(AND(C740-シート!$C$87>=0,シート!$X$87-C740>=0),1,0)","v":{"$error":"#VALUE!"}},{"$error":"#N/A"},{"$error":"#N/A"},{"$f":"IF(AND(C740-シート!$CP$87>=0,シート!$DK$87-C740>=0),1,0)","v":{"$error":"#VALUE!"}},{"$error":"#N/A"},{"$error":"#N/A"},"1902-01-06"]
[739,73,"1902-01-07",{"$f":"+IF(AND(C741-シート!$BV$67>=0,シート!$AI$19-C741>=0),1,0)","v":{"$error":"#N/A"}},{"$f":"IF(AND(C741-シート!$C$87>=0,シート!$X$87-C741>=0),1,0)","v":{"$error":"#VALUE!"}},{"$error":"#N/A"},{"$error":"#N/A"},{"$f":"IF(AND(C741-シート!$CP$87>=0,シート!$DK$87-C741>=0),1,0)","v":{"$error":"#VALUE!"}},{"$error":"#N/A"},{"$error":"#N/A"},"1902-01-07"]
[740,73,"1902-01-08",{"$f":"+IF(AND(C742-シート!$BV$67>=0,シート!$AI$19-C742>=0),1,0)","v":{"$error":"#N/A"}},{"$f":"IF(AND(C742-シート!$C$87>=0,シート!$X$87-C742>=0),1,0)","v":{"$error":"#VALUE!"}},{"$error":"#N/A"},{"$error":"#N/A"},{"$f":"IF(AND(C742-シート!$CP$87>=0,シート!$DK$87-C742>=0),1,0)","v":{"$error":"#VALUE!"}},{"$error":"#N/A"},{"$error":"#N/A"},"1902-01-08"]
[741,74,"1902-01-09",{"$f":"+IF(AND(C743-シート!$BV$67>=0,シート!$AI$19-C743>=0),1,0)","v":{"$error":"#N/A"}},{"$f":"IF(AND(C743-シート!$C$87>=0,シート!$X$87-C743>=0),1,0)","v":{"$error":"#VALUE!"}},{"$error":"#N/A"},{"$error":"#N/A"},{"$f":"IF(AND(C743-シート!$CP$87>=0,シート!$DK$87-C743>=0),1,0)","v":{"$error":"#VALUE!"}},{"$error":"#N/A"},{"$error":"#N/A"},"1902-01-09"]
[742,74,"1902-01-10",{"$f":"+IF(AND(C744-シート!$BV$67>=0,シート!$AI$19-C744>=0),1,0)","v":{"$error":"#N/A"}},{"$f":"IF(AND(C744-シート!$C$87>=0,シート!$X$87-C744>=0),1,0)","v":{"$error":"#VALUE!"}},{"$error":"#N/A"},{"$error":"#N/A"},{"$f":"IF(AND(C744-シート!$CP$87>=0,シート!$DK$87-C744>=0),1,0)","v":{"$error":"#VALUE!"}},{"$error":"#N/A"},{"$error":"#N/A"},"1902-01-10"]
[743,74,"1902-01-11",{"$f":"+IF(AND(C745-シート!$BV$67>=0,シート!$AI$19-C745>=0),1,0)","v":{"$error":"#N/A"}},{"$f":"IF(AND(C745-シート!$C$87>=0,シート!$X$87-C745>=0),1,0)","v":{"$error":"#VALUE!"}},{"$error":"#N/A"},{"$error":"#N/A"},{"$f":"IF(AND(C745-シート!$CP$87>=0,シート!$DK$87-C745>=0),1,0)","v":{"$error":"#VALUE!"}},{"$error":"#N/A"},{"$error":"#N/A"},"1902-01-11"]
[744,74,"1902-01-12",{"$f":"+IF(AND(C746-シート!$BV$67>=0,シート!$AI$19-C746>=0),1,0)","v":{"$error":"#N/A"}},{"$f":"IF(AND(C746-シート!$C$87>=0,シート!$X$87-C746>=0),1,0)","v":{"$error":"#VALUE!"}},{"$error":"#N/A"},{"$error":"#N/A"},{"$f":"IF(AND(C746-シート!$CP$87>=0,シート!$DK$87-C746>=0),1,0)","v":{"$error":"#VALUE!"}},{"$error":"#N/A"},{"$error":"#N/A"},"1902-01-12"]
[745,74,"1902-01-13",{"$f":"+IF(AND(C747-シート!$BV$67>=0,シート!$AI$19-C747>=0),1,0)","v":{"$error":"#N/A"}},{"$f":"IF(AND(C747-シート!$C$87>=0,シート!$X$87-C747>=0),1,0)","v":{"$error":"#VALUE!"}},{"$error":"#N/A"},{"$error":"#N/A"},{"$f":"IF(AND(C747-シート!$CP$87>=0,シート!$DK$87-C747>=0),1,0)","v":{"$error":"#VALUE!"}},{"$error":"#N/A"},{"$error":"#N/A"},"1902-01-13"]
[746,74,"1902-01-14",{"$f":"+IF(AND(C748-シート!$BV$67>=0,シート!$AI$19-C748>=0),1,0)","v":{"$error":"#N/A"}},{"$f":"IF(AND(C748-シート!$C$87>=0,シート!$X$87-C748>=0),1,0)","v":{"$error":"#VALUE!"}},{"$error":"#N/A"},{"$error":"#N/A"},{"$f":"IF(AND(C748-シート!$CP$87>=0,シート!$DK$87-C748>=0),1,0)","v":{"$error":"#VALUE!"}},{"$error":"#N/A"},{"$error":"#N/A"},"1902-01-14"]
[747,74,"1902-01-15",{"$f":"+IF(AND(C749-シート!$BV$67>=0,シート!$AI$19-C749>=0),1,0)","v":{"$error":"#N/A"}},{"$f":"IF(AND(C749-シート!$C$87>=0,シート!$X$87-C749>=0),1,0)","v":{"$error":"#VALUE!"}},{"$error":"#N/A"},{"$error":"#N/A"},{"$f":"IF(AND(C749-シート!$CP$87>=0,シート!$DK$87-C749>=0),1,0)","v":{"$error":"#VALUE!"}},{"$error":"#N/A"},{"$error":"#N/A"},"1902-01-15"]
[748,74,"1902-01-16",{"$f":"+IF(AND(C750-シート!$BV$67>=0,シート!$AI$19-C750>=0),1,0)","v":{"$error":"#N/A"}},{"$f":"IF(AND(C750-シート!$C$87>=0,シート!$X$87-C750>=0),1,0)","v":{"$error":"#VALUE!"}},{"$error":"#N/A"},{"$error":"#N/A"},{"$f":"IF(AND(C750-シート!$CP$87>=0,シート!$DK$87-C750>=0),1,0)","v":{"$error":"#VALUE!"}},{"$error":"#N/A"},{"$error":"#N/A"},"1902-01-16"]
[749,74,"1902-01-17",{"$f":"+IF(AND(C751-シート!$BV$67>=0,シート!$AI$19-C751>=0),1,0)","v":{"$error":"#N/A"}},{"$f":"IF(AND(C751-シート!$C$87>=0,シート!$X$87-C751>=0),1,0)","v":{"$error":"#VALUE!"}},{"$error":"#N/A"},{"$error":"#N/A"},{"$f":"IF(AND(C751-シート!$CP$87>=0,シート!$DK$87-C751>=0),1,0)","v":{"$error":"#VALUE!"}},{"$error":"#N/A"},{"$error":"#N/A"},"1902-01-17"]
[750,74,"1902-01-18",{"$f":"+IF(AND(C752-シート!$BV$67>=0,シート!$AI$19-C752>=0),1,0)","v":{"$error":"#N/A"}},{"$f":"IF(AND(C752-シート!$C$87>=0,シート!$X$87-C752>=0),1,0)","v":{"$error":"#VALUE!"}},{"$error":"#N/A"},{"$error":"#N/A"},{"$f":"IF(AND(C752-シート!$CP$87>=0,シート!$DK$87-C752>=0),1,0)","v":{"$error":"#VALUE!"}},{"$error":"#N/A"},{"$error":"#N/A"},"1902-01-18"]
[751,74,"1902-01-19",{"$f":"+IF(AND(C753-シート!$BV$67>=0,シート!$AI$19-C753>=0),1,0)","v":{"$error":"#N/A"}},{"$f":"IF(AND(C753-シート!$C$87>=0,シート!$X$87-C753>=0),1,0)","v":{"$error":"#VALUE!"}},{"$error":"#N/A"},{"$error":"#N/A"},{"$f":"IF(AND(C753-シート!$CP$87>=0,シート!$DK$87-C753>=0),1,0)","v":{"$error":"#VALUE!"}},{"$error":"#N/A"},{"$error":"#N/A"},"1902-01-19"]
[752,75,"1902-01-20",{"$f":"+IF(AND(C754-シート!$BV$67>=0,シート!$AI$19-C754>=0),1,0)","v":{"$error":"#N/A"}},{"$f":"IF(AND(C754-シート!$C$87>=0,シート!$X$87-C754>=0),1,0)","v":{"$error":"#VALUE!"}},{"$error":"#N/A"},{"$error":"#N/A"},{"$f":"IF(AND(C754-シート!$CP$87>=0,シート!$DK$87-C754>=0),1,0)","v":{"$error":"#VALUE!"}},{"$error":"#N/A"},{"$error":"#N/A"},"1902-01-20"]
[753,75,"1902-01-21",{"$f":"+IF(AND(C755-シート!$BV$67>=0,シート!$AI$19-C755>=0),1,0)","v":{"$error":"#N/A"}},{"$f":"IF(AND(C755-シート!$C$87>=0,シート!$X$87-C755>=0),1,0)","v":{"$error":"#VALUE!"}},{"$error":"#N/A"},{"$error":"#N/A"},{"$f":"IF(AND(C755-シート!$CP$87>=0,シート!$DK$87-C755>=0),1,0)","v":{"$error":"#VALUE!"}},{"$error":"#N/A"},{"$error":"#N/A"},"1902-01-21"]
[754,75,"1902-01-22",{"$f":"+IF(AND(C756-シート!$BV$67>=0,シート!$AI$19-C756>=0),1,0)","v":{"$error":"#N/A"}},{"$f":"IF(AND(C756-シート!$C$87>=0,シート!$X$87-C756>=0),1,0)","v":{"$error":"#VALUE!"}},{"$error":"#N/A"},{"$error":"#N/A"},{"$f":"IF(AND(C756-シート!$CP$87>=0,シート!$DK$87-C756>=0),1,0)","v":{"$error":"#VALUE!"}},{"$error":"#N/A"},{"$error":"#N/A"},"1902-01-22"]
[755,75,"1902-01-23",{"$f":"+IF(AND(C757-シート!$BV$67>=0,シート!$AI$19-C757>=0),1,0)","v":{"$error":"#N/A"}},{"$f":"IF(AND(C757-シート!$C$87>=0,シート!$X$87-C757>=0),1,0)","v":{"$error":"#VALUE!"}},{"$error":"#N/A"},{"$error":"#N/A"},{"$f":"IF(AND(C757-シート!$CP$87>=0,シート!$DK$87-C757>=0),1,0)","v":{"$error":"#VALUE!"}},{"$error":"#N/A"},{"$error":"#N/A"},"1902-01-23"]
[756,75,"1902-01-24",{"$f":"+IF(AND(C758-シート!$BV$67>=0,シート!$AI$19-C758>=0),1,0)","v":{"$error":"#N/A"}},{"$f":"IF(AND(C758-シート!$C$87>=0,シート!$X$87-C758>=0),1,0)","v":{"$error":"#VALUE!"}},{"$error":"#N/A"},{"$error":"#N/A"},{"$f":"IF(AND(C758-シート!$CP$87>=0,シート!$DK$87-C758>=0),1,0)","v":{"$error":"#VALUE!"}},{"$error":"#N/A"},{"$error":"#N/A"},"1902-01-24"]
[757,75,"1902-01-25",{"$f":"+IF(AND(C759-シート!$BV$67>=0,シート!$AI$19-C759>=0),1,0)","v":{"$error":"#N/A"}},{"$f":"IF(AND(C759-シート!$C$87>=0,シート!$X$87-C759>=0),1,0)","v":{"$error":"#VALUE!"}},{"$error":"#N/A"},{"$error":"#N/A"},{"$f":"IF(AND(C759-シート!$CP$87>=0,シート!$DK$87-C759>=0),1,0)","v":{"$error":"#VALUE!"}},{"$error":"#N/A"},{"$error":"#N/A"},"1902-01-25"]
[758,75,"1902-01-26",{"$f":"+IF(AND(C760-シート!$BV$67>=0,シート!$AI$19-C760>=0),1,0)","v":{"$error":"#N/A"}},{"$f":"IF(AND(C760-シート!$C$87>=0,シート!$X$87-C760>=0),1,0)","v":{"$error":"#VALUE!"}},{"$error":"#N/A"},{"$error":"#N/A"},{"$f":"IF(AND(C760-シート!$CP$87>=0,シート!$DK$87-C760>=0),1,0)","v":{"$error":"#VALUE!"}},{"$error":"#N/A"},{"$error":"#N/A"},"1902-01-26"]
[759,75,"1902-01-27",{"$f":"+IF(AND(C761-シート!$BV$67>=0,シート!$AI$19-C761>=0),1,0)","v":{"$error":"#N/A"}},{"$f":"IF(AND(C761-シート!$C$87>=0,シート!$X$87-C761>=0),1,0)","v":{"$error":"#VALUE!"}},{"$error":"#N/A"},{"$error":"#N/A"},{"$f":"IF(AND(C761-シート!$CP$87>=0,シート!$DK$87-C761>=0),1,0)","v":{"$error":"#VALUE!"}},{"$error":"#N/A"},{"$error":"#N/A"},"1902-01-27"]
[760,75,"1902-01-28",{"$f":"+IF(AND(C762-シート!$BV$67>=0,シート!$AI$19-C762>=0),1,0)","v":{"$error":"#N/A"}},{"$f":"IF(AND(C762-シート!$C$87>=0,シート!$X$87-C762>=0),1,0)","v":{"$error":"#VALUE!"}},{"$error":"#N/A"},{"$error":"#N/A"},{"$f":"IF(AND(C762-シート!$CP$87>=0,シート!$DK$87-C762>=0),1,0)","v":{"$error":"#VALUE!"}},{"$error":"#N/A"},{"$error":"#N/A"},"1902-01-28"]
[761,75,"1902-01-29",{"$f":"+IF(AND(C763-シート!$BV$67>=0,シート!$AI$19-C763>=0),1,0)","v":{"$error":"#N/A"}},{"$f":"IF(AND(C763-シート!$C$87>=0,シート!$X$87-C763>=0),1,0)","v":{"$error":"#VALUE!"}},{"$error":"#N/A"},{"$error":"#N/A"},{"$f":"IF(AND(C763-シート!$CP$87>=0,シート!$DK$87-C763>=0),1,0)","v":{"$error":"#VALUE!"}},{"$error":"#N/A"},{"$error":"#N/A"},"1902-01-29"]
[762,76,"1902-01-30",{"$f":"+IF(AND(C764-シート!$BV$67>=0,シート!$AI$19-C764>=0),1,0)","v":{"$error":"#N/A"}},{"$f":"IF(AND(C764-シート!$C$87>=0,シート!$X$87-C764>=0),1,0)","v":{"$error":"#VALUE!"}},{"$error":"#N/A"},{"$error":"#N/A"},{"$f":"IF(AND(C764-シート!$CP$87>=0,シート!$DK$87-C764>=0),1,0)","v":{"$error":"#VALUE!"}},{"$error":"#N/A"},{"$error":"#N/A"},"1902-01-30"]
[763,76,"1902-01-31",{"$f":"+IF(AND(C765-シート!$BV$67>=0,シート!$AI$19-C765>=0),1,0)","v":{"$error":"#N/A"}},{"$f":"IF(AND(C765-シート!$C$87>=0,シート!$X$87-C765>=0),1,0)","v":{"$error":"#VALUE!"}},{"$error":"#N/A"},{"$error":"#N/A"},{"$f":"IF(AND(C765-シート!$CP$87>=0,シート!$DK$87-C765>=0),1,0)","v":{"$error":"#VALUE!"}},{"$error":"#N/A"},{"$error":"#N/A"},"1902-01-31"]
[764,76,"1902-02-01",{"$f":"+IF(AND(C766-シート!$BV$67>=0,シート!$AI$19-C766>=0),1,0)","v":{"$error":"#N/A"}},{"$f":"IF(AND(C766-シート!$C$87>=0,シート!$X$87-C766>=0),1,0)","v":{"$error":"#VALUE!"}},{"$error":"#N/A"},{"$error":"#N/A"},{"$f":"IF(AND(C766-シート!$CP$87>=0,シート!$DK$87-C766>=0),1,0)","v":{"$error":"#VALUE!"}},{"$error":"#N/A"},{"$error":"#N/A"},"1902-02-01"]
[765,76,"1902-02-02",{"$f":"+IF(AND(C767-シート!$BV$67>=0,シート!$AI$19-C767>=0),1,0)","v":{"$error":"#N/A"}},{"$f":"IF(AND(C767-シート!$C$87>=0,シート!$X$87-C767>=0),1,0)","v":{"$error":"#VALUE!"}},{"$error":"#N/A"},{"$error":"#N/A"},{"$f":"IF(AND(C767-シート!$CP$87>=0,シート!$DK$87-C767>=0),1,0)","v":{"$error":"#VALUE!"}},{"$error":"#N/A"},{"$error":"#N/A"},"1902-02-02"]
[766,76,"1902-02-03",{"$f":"+IF(AND(C768-シート!$BV$67>=0,シート!$AI$19-C768>=0),1,0)","v":{"$error":"#N/A"}},{"$f":"IF(AND(C768-シート!$C$87>=0,シート!$X$87-C768>=0),1,0)","v":{"$error":"#VALUE!"}},{"$error":"#N/A"},{"$error":"#N/A"},{"$f":"IF(AND(C768-シート!$CP$87>=0,シート!$DK$87-C768>=0),1,0)","v":{"$error":"#VALUE!"}},{"$error":"#N/A"},{"$error":"#N/A"},"1902-02-03"]
[767,76,"1902-02-04",{"$f":"+IF(AND(C769-シート!$BV$67>=0,シート!$AI$19-C769>=0),1,0)","v":{"$error":"#N/A"}},{"$f":"IF(AND(C769-シート!$C$87>=0,シート!$X$87-C769>=0),1,0)","v":{"$error":"#VALUE!"}},{"$error":"#N/A"},{"$error":"#N/A"},{"$f":"IF(AND(C769-シート!$CP$87>=0,シート!$DK$87-C769>=0),1,0)","v":{"$error":"#VALUE!"}},{"$error":"#N/A"},{"$error":"#N/A"},"1902-02-04"]
[768,76,"1902-02-05",{"$f":"+IF(AND(C770-シート!$BV$67>=0,シート!$AI$19-C770>=0),1,0)","v":{"$error":"#N/A"}},{"$f":"IF(AND(C770-シート!$C$87>=0,シート!$X$87-C770>=0),1,0)","v":{"$error":"#VALUE!"}},{"$error":"#N/A"},{"$error":"#N/A"},{"$f":"IF(AND(C770-シート!$CP$87>=0,シート!$DK$87-C770>=0),1,0)","v":{"$error":"#VALUE!"}},{"$error":"#N/A"},{"$error":"#N/A"},"1902-02-05"]
[769,76,"1902-02-06",{"$f":"+IF(AND(C771-シート!$BV$67>=0,シート!$AI$19-C771>=0),1,0)","v":{"$error":"#N/A"}},{"$f":"IF(AND(C771-シート!$C$87>=0,シート!$X$87-C771>=0),1,0)","v":{"$error":"#VALUE!"}},{"$error":"#N/A"},{"$error":"#N/A"},{"$f":"IF(AND(C771-シート!$CP$87>=0,シート!$DK$87-C771>=0),1,0)","v":{"$error":"#VALUE!"}},{"$error":"#N/A"},{"$error":"#N/A"},"1902-02-06"]
[770,76,"1902-02-07",{"$f":"+IF(AND(C772-シート!$BV$67>=0,シート!$AI$19-C772>=0),1,0)","v":{"$error":"#N/A"}},{"$f":"IF(AND(C772-シート!$C$87>=0,シート!$X$87-C772>=0),1,0)","v":{"$error":"#VALUE!"}},{"$f":"IF(+D772+E772=2,1,0)","v":{"$error":"#N/A"}},{"$error":"#N/A"},{"$f":"IF(AND(C772-シート!$CP$87>=0,シート!$DK$87-C772>=0),1,0)","v":{"$error":"#VALUE!"}},{"$f":"IF(+D772+H772=2,1,0)","v":{"$error":"#N/A"}},{"$error":"#N/A"},{"$f":"+C772","v":"1902-02-07"}]
[{"$f":"+A772+1","v":771},76,{"$f":"+C772+1","v":"1902-02-08"},{"$f":"+IF(AND(C773-シート!$BV$67>=0,シート!$AI$19-C773>=0),1,0)","v":{"$error":"#N/A"}},{"$f":"IF(AND(C773-シート!$C$87>=0,シート!$X$87-C773>=0),1,0)","v":{"$error":"#VALUE!"}},{"$error":"#N/A"},{"$f":"+G772+F773","v":{"$error":"#N/A"}},{"$f":"IF(AND(C773-シート!$CP$87>=0,シート!$DK$87-C773>=0),1,0)","v":{"$error":"#VALUE!"}},{"$error":"#N/A"},{"$f":"+J772+I773","v":{"$error":"#N/A"}},"1902-02-08"]
[772,77,"1902-02-09",{"$f":"+IF(AND(C774-シート!$BV$67>=0,シート!$AI$19-C774>=0),1,0)","v":{"$error":"#N/A"}},{"$f":"IF(AND(C774-シート!$C$87>=0,シート!$X$87-C774>=0),1,0)","v":{"$error":"#VALUE!"}},{"$error":"#N/A"},{"$error":"#N/A"},{"$f":"IF(AND(C774-シート!$CP$87>=0,シート!$DK$87-C774>=0),1,0)","v":{"$error":"#VALUE!"}},{"$error":"#N/A"},{"$error":"#N/A"},"1902-02-09"]
[773,77,"1902-02-10",{"$f":"+IF(AND(C775-シート!$BV$67>=0,シート!$AI$19-C775>=0),1,0)","v":{"$error":"#N/A"}},{"$f":"IF(AND(C775-シート!$C$87>=0,シート!$X$87-C775>=0),1,0)","v":{"$error":"#VALUE!"}},{"$error":"#N/A"},{"$error":"#N/A"},{"$f":"IF(AND(C775-シート!$CP$87>=0,シート!$DK$87-C775>=0),1,0)","v":{"$error":"#VALUE!"}},{"$error":"#N/A"},{"$error":"#N/A"},"1902-02-10"]
[774,77,"1902-02-11",{"$f":"+IF(AND(C776-シート!$BV$67>=0,シート!$AI$19-C776>=0),1,0)","v":{"$error":"#N/A"}},{"$f":"IF(AND(C776-シート!$C$87>=0,シート!$X$87-C776>=0),1,0)","v":{"$error":"#VALUE!"}},{"$error":"#N/A"},{"$error":"#N/A"},{"$f":"IF(AND(C776-シート!$CP$87>=0,シート!$DK$87-C776>=0),1,0)","v":{"$error":"#VALUE!"}},{"$error":"#N/A"},{"$error":"#N/A"},"1902-02-11"]
[775,77,"1902-02-12",{"$f":"+IF(AND(C777-シート!$BV$67>=0,シート!$AI$19-C777>=0),1,0)","v":{"$error":"#N/A"}},{"$f":"IF(AND(C777-シート!$C$87>=0,シート!$X$87-C777>=0),1,0)","v":{"$error":"#VALUE!"}},{"$error":"#N/A"},{"$error":"#N/A"},{"$f":"IF(AND(C777-シート!$CP$87>=0,シート!$DK$87-C777>=0),1,0)","v":{"$error":"#VALUE!"}},{"$error":"#N/A"},{"$error":"#N/A"},"1902-02-12"]
[776,77,"1902-02-13",{"$f":"+IF(AND(C778-シート!$BV$67>=0,シート!$AI$19-C778>=0),1,0)","v":{"$error":"#N/A"}},{"$f":"IF(AND(C778-シート!$C$87>=0,シート!$X$87-C778>=0),1,0)","v":{"$error":"#VALUE!"}},{"$error":"#N/A"},{"$error":"#N/A"},{"$f":"IF(AND(C778-シート!$CP$87>=0,シート!$DK$87-C778>=0),1,0)","v":{"$error":"#VALUE!"}},{"$error":"#N/A"},{"$error":"#N/A"},"1902-02-13"]
[777,77,"1902-02-14",{"$f":"+IF(AND(C779-シート!$BV$67>=0,シート!$AI$19-C779>=0),1,0)","v":{"$error":"#N/A"}},{"$f":"IF(AND(C779-シート!$C$87>=0,シート!$X$87-C779>=0),1,0)","v":{"$error":"#VALUE!"}},{"$error":"#N/A"},{"$error":"#N/A"},{"$f":"IF(AND(C779-シート!$CP$87>=0,シート!$DK$87-C779>=0),1,0)","v":{"$error":"#VALUE!"}},{"$error":"#N/A"},{"$error":"#N/A"},"1902-02-14"]
[778,77,"1902-02-15",{"$f":"+IF(AND(C780-シート!$BV$67>=0,シート!$AI$19-C780>=0),1,0)","v":{"$error":"#N/A"}},{"$f":"IF(AND(C780-シート!$C$87>=0,シート!$X$87-C780>=0),1,0)","v":{"$error":"#VALUE!"}},{"$error":"#N/A"},{"$error":"#N/A"},{"$f":"IF(AND(C780-シート!$CP$87>=0,シート!$DK$87-C780>=0),1,0)","v":{"$error":"#VALUE!"}},{"$error":"#N/A"},{"$error":"#N/A"},"1902-02-15"]
[779,77,"1902-02-16",{"$f":"+IF(AND(C781-シート!$BV$67>=0,シート!$AI$19-C781>=0),1,0)","v":{"$error":"#N/A"}},{"$f":"IF(AND(C781-シート!$C$87>=0,シート!$X$87-C781>=0),1,0)","v":{"$error":"#VALUE!"}},{"$error":"#N/A"},{"$error":"#N/A"},{"$f":"IF(AND(C781-シート!$CP$87>=0,シート!$DK$87-C781>=0),1,0)","v":{"$error":"#VALUE!"}},{"$error":"#N/A"},{"$error":"#N/A"},"1902-02-16"]
[780,77,"1902-02-17",{"$f":"+IF(AND(C782-シート!$BV$67>=0,シート!$AI$19-C782>=0),1,0)","v":{"$error":"#N/A"}},{"$f":"IF(AND(C782-シート!$C$87>=0,シート!$X$87-C782>=0),1,0)","v":{"$error":"#VALUE!"}},{"$error":"#N/A"},{"$error":"#N/A"},{"$f":"IF(AND(C782-シート!$CP$87>=0,シート!$DK$87-C782>=0),1,0)","v":{"$error":"#VALUE!"}},{"$error":"#N/A"},{"$error":"#N/A"},"1902-02-17"]
[781,77,"1902-02-18",{"$f":"+IF(AND(C783-シート!$BV$67>=0,シート!$AI$19-C783>=0),1,0)","v":{"$error":"#N/A"}},{"$f":"IF(AND(C783-シート!$C$87>=0,シート!$X$87-C783>=0),1,0)","v":{"$error":"#VALUE!"}},{"$error":"#N/A"},{"$error":"#N/A"},{"$f":"IF(AND(C783-シート!$CP$87>=0,シート!$DK$87-C783>=0),1,0)","v":{"$error":"#VALUE!"}},{"$error":"#N/A"},{"$error":"#N/A"},"1902-02-18"]
[782,78,"1902-02-19",{"$f":"+IF(AND(C784-シート!$BV$67>=0,シート!$AI$19-C784>=0),1,0)","v":{"$error":"#N/A"}},{"$f":"IF(AND(C784-シート!$C$87>=0,シート!$X$87-C784>=0),1,0)","v":{"$error":"#VALUE!"}},{"$error":"#N/A"},{"$error":"#N/A"},{"$f":"IF(AND(C784-シート!$CP$87>=0,シート!$DK$87-C784>=0),1,0)","v":{"$error":"#VALUE!"}},{"$error":"#N/A"},{"$error":"#N/A"},"1902-02-19"]
[783,78,"1902-02-20",{"$f":"+IF(AND(C785-シート!$BV$67>=0,シート!$AI$19-C785>=0),1,0)","v":{"$error":"#N/A"}},{"$f":"IF(AND(C785-シート!$C$87>=0,シート!$X$87-C785>=0),1,0)","v":{"$error":"#VALUE!"}},{"$error":"#N/A"},{"$error":"#N/A"},{"$f":"IF(AND(C785-シート!$CP$87>=0,シート!$DK$87-C785>=0),1,0)","v":{"$error":"#VALUE!"}},{"$error":"#N/A"},{"$error":"#N/A"},"1902-02-20"]
[784,78,"1902-02-21",{"$f":"+IF(AND(C786-シート!$BV$67>=0,シート!$AI$19-C786>=0),1,0)","v":{"$error":"#N/A"}},{"$f":"IF(AND(C786-シート!$C$87>=0,シート!$X$87-C786>=0),1,0)","v":{"$error":"#VALUE!"}},{"$error":"#N/A"},{"$error":"#N/A"},{"$f":"IF(AND(C786-シート!$CP$87>=0,シート!$DK$87-C786>=0),1,0)","v":{"$error":"#VALUE!"}},{"$error":"#N/A"},{"$error":"#N/A"},"1902-02-21"]
[785,78,"1902-02-22",{"$f":"+IF(AND(C787-シート!$BV$67>=0,シート!$AI$19-C787>=0),1,0)","v":{"$error":"#N/A"}},{"$f":"IF(AND(C787-シート!$C$87>=0,シート!$X$87-C787>=0),1,0)","v":{"$error":"#VALUE!"}},{"$error":"#N/A"},{"$error":"#N/A"},{"$f":"IF(AND(C787-シート!$CP$87>=0,シート!$DK$87-C787>=0),1,0)","v":{"$error":"#VALUE!"}},{"$error":"#N/A"},{"$error":"#N/A"},"1902-02-22"]
[786,78,"1902-02-23",{"$f":"+IF(AND(C788-シート!$BV$67>=0,シート!$AI$19-C788>=0),1,0)","v":{"$error":"#N/A"}},{"$f":"IF(AND(C788-シート!$C$87>=0,シート!$X$87-C788>=0),1,0)","v":{"$error":"#VALUE!"}},{"$error":"#N/A"},{"$error":"#N/A"},{"$f":"IF(AND(C788-シート!$CP$87>=0,シート!$DK$87-C788>=0),1,0)","v":{"$error":"#VALUE!"}},{"$error":"#N/A"},{"$error":"#N/A"},"1902-02-23"]
[787,78,"1902-02-24",{"$f":"+IF(AND(C789-シート!$BV$67>=0,シート!$AI$19-C789>=0),1,0)","v":{"$error":"#N/A"}},{"$f":"IF(AND(C789-シート!$C$87>=0,シート!$X$87-C789>=0),1,0)","v":{"$error":"#VALUE!"}},{"$error":"#N/A"},{"$error":"#N/A"},{"$f":"IF(AND(C789-シート!$CP$87>=0,シート!$DK$87-C789>=0),1,0)","v":{"$error":"#VALUE!"}},{"$error":"#N/A"},{"$error":"#N/A"},"1902-02-24"]
[788,78,"1902-02-25",{"$f":"+IF(AND(C790-シート!$BV$67>=0,シート!$AI$19-C790>=0),1,0)","v":{"$error":"#N/A"}},{"$f":"IF(AND(C790-シート!$C$87>=0,シート!$X$87-C790>=0),1,0)","v":{"$error":"#VALUE!"}},{"$error":"#N/A"},{"$error":"#N/A"},{"$f":"IF(AND(C790-シート!$CP$87>=0,シート!$DK$87-C790>=0),1,0)","v":{"$error":"#VALUE!"}},{"$error":"#N/A"},{"$error":"#N/A"},"1902-02-25"]
[789,78,"1902-02-26",{"$f":"+IF(AND(C791-シート!$BV$67>=0,シート!$AI$19-C791>=0),1,0)","v":{"$error":"#N/A"}},{"$f":"IF(AND(C791-シート!$C$87>=0,シート!$X$87-C791>=0),1,0)","v":{"$error":"#VALUE!"}},{"$error":"#N/A"},{"$error":"#N/A"},{"$f":"IF(AND(C791-シート!$CP$87>=0,シート!$DK$87-C791>=0),1,0)","v":{"$error":"#VALUE!"}},{"$error":"#N/A"},{"$error":"#N/A"},"1902-02-26"]
[790,78,"1902-02-27",{"$f":"+IF(AND(C792-シート!$BV$67>=0,シート!$AI$19-C792>=0),1,0)","v":{"$error":"#N/A"}},{"$f":"IF(AND(C792-シート!$C$87>=0,シート!$X$87-C792>=0),1,0)","v":{"$error":"#VALUE!"}},{"$error":"#N/A"},{"$error":"#N/A"},{"$f":"IF(AND(C792-シート!$CP$87>=0,シート!$DK$87-C792>=0),1,0)","v":{"$error":"#VALUE!"}},{"$error":"#N/A"},{"$error":"#N/A"},"1902-02-27"]
[791,78,"1902-02-28",{"$f":"+IF(AND(C793-シート!$BV$67>=0,シート!$AI$19-C793>=0),1,0)","v":{"$error":"#N/A"}},{"$f":"IF(AND(C793-シート!$C$87>=0,シート!$X$87-C793>=0),1,0)","v":{"$error":"#VALUE!"}},{"$error":"#N/A"},{"$error":"#N/A"},{"$f":"IF(AND(C793-シート!$CP$87>=0,シート!$DK$87-C793>=0),1,0)","v":{"$error":"#VALUE!"}},{"$error":"#N/A"},{"$error":"#N/A"},"1902-02-28"]
[792,79,"1902-03-01",{"$f":"+IF(AND(C794-シート!$BV$67>=0,シート!$AI$19-C794>=0),1,0)","v":{"$error":"#N/A"}},{"$f":"IF(AND(C794-シート!$C$87>=0,シート!$X$87-C794>=0),1,0)","v":{"$error":"#VALUE!"}},{"$error":"#N/A"},{"$error":"#N/A"},{"$f":"IF(AND(C794-シート!$CP$87>=0,シート!$DK$87-C794>=0),1,0)","v":{"$error":"#VALUE!"}},{"$error":"#N/A"},{"$error":"#N/A"},"1902-03-01"]
[793,79,"1902-03-02",{"$f":"+IF(AND(C795-シート!$BV$67>=0,シート!$AI$19-C795>=0),1,0)","v":{"$error":"#N/A"}},{"$f":"IF(AND(C795-シート!$C$87>=0,シート!$X$87-C795>=0),1,0)","v":{"$error":"#VALUE!"}},{"$error":"#N/A"},{"$error":"#N/A"},{"$f":"IF(AND(C795-シート!$CP$87>=0,シート!$DK$87-C795>=0),1,0)","v":{"$error":"#VALUE!"}},{"$error":"#N/A"},{"$error":"#N/A"},"1902-03-02"]
[794,79,"1902-03-03",{"$f":"+IF(AND(C796-シート!$BV$67>=0,シート!$AI$19-C796>=0),1,0)","v":{"$error":"#N/A"}},{"$f":"IF(AND(C796-シート!$C$87>=0,シート!$X$87-C796>=0),1,0)","v":{"$error":"#VALUE!"}},{"$error":"#N/A"},{"$error":"#N/A"},{"$f":"IF(AND(C796-シート!$CP$87>=0,シート!$DK$87-C796>=0),1,0)","v":{"$error":"#VALUE!"}},{"$error":"#N/A"},{"$error":"#N/A"},"1902-03-03"]
[795,79,"1902-03-04",{"$f":"+IF(AND(C797-シート!$BV$67>=0,シート!$AI$19-C797>=0),1,0)","v":{"$error":"#N/A"}},{"$f":"IF(AND(C797-シート!$C$87>=0,シート!$X$87-C797>=0),1,0)","v":{"$error":"#VALUE!"}},{"$error":"#N/A"},{"$error":"#N/A"},{"$f":"IF(AND(C797-シート!$CP$87>=0,シート!$DK$87-C797>=0),1,0)","v":{"$error":"#VALUE!"}},{"$error":"#N/A"},{"$error":"#N/A"},"1902-03-04"]
[796,79,"1902-03-05",{"$f":"+IF(AND(C798-シート!$BV$67>=0,シート!$AI$19-C798>=0),1,0)","v":{"$error":"#N/A"}},{"$f":"IF(AND(C798-シート!$C$87>=0,シート!$X$87-C798>=0),1,0)","v":{"$error":"#VALUE!"}},{"$error":"#N/A"},{"$error":"#N/A"},{"$f":"IF(AND(C798-シート!$CP$87>=0,シート!$DK$87-C798>=0),1,0)","v":{"$error":"#VALUE!"}},{"$error":"#N/A"},{"$error":"#N/A"},"1902-03-05"]
[797,79,"1902-03-06",{"$f":"+IF(AND(C799-シート!$BV$67>=0,シート!$AI$19-C799>=0),1,0)","v":{"$error":"#N/A"}},{"$f":"IF(AND(C799-シート!$C$87>=0,シート!$X$87-C799>=0),1,0)","v":{"$error":"#VALUE!"}},{"$error":"#N/A"},{"$error":"#N/A"},{"$f":"IF(AND(C799-シート!$CP$87>=0,シート!$DK$87-C799>=0),1,0)","v":{"$error":"#VALUE!"}},{"$error":"#N/A"},{"$error":"#N/A"},"1902-03-06"]
[798,79,"1902-03-07",{"$f":"+IF(AND(C800-シート!$BV$67>=0,シート!$AI$19-C800>=0),1,0)","v":{"$error":"#N/A"}},{"$f":"IF(AND(C800-シート!$C$87>=0,シート!$X$87-C800>=0),1,0)","v":{"$error":"#VALUE!"}},{"$error":"#N/A"},{"$error":"#N/A"},{"$f":"IF(AND(C800-シート!$CP$87>=0,シート!$DK$87-C800>=0),1,0)","v":{"$error":"#VALUE!"}},{"$error":"#N/A"},{"$error":"#N/A"},"1902-03-07"]
[799,79,"1902-03-08",{"$f":"+IF(AND(C801-シート!$BV$67>=0,シート!$AI$19-C801>=0),1,0)","v":{"$error":"#N/A"}},{"$f":"IF(AND(C801-シート!$C$87>=0,シート!$X$87-C801>=0),1,0)","v":{"$error":"#VALUE!"}},{"$error":"#N/A"},{"$error":"#N/A"},{"$f":"IF(AND(C801-シート!$CP$87>=0,シート!$DK$87-C801>=0),1,0)","v":{"$error":"#VALUE!"}},{"$error":"#N/A"},{"$error":"#N/A"},"1902-03-08"]
[800,79,"1902-03-09",{"$f":"+IF(AND(C802-シート!$BV$67>=0,シート!$AI$19-C802>=0),1,0)","v":{"$error":"#N/A"}},{"$f":"IF(AND(C802-シート!$C$87>=0,シート!$X$87-C802>=0),1,0)","v":{"$error":"#VALUE!"}},{"$error":"#N/A"},{"$error":"#N/A"},{"$f":"IF(AND(C802-シート!$CP$87>=0,シート!$DK$87-C802>=0),1,0)","v":{"$error":"#VALUE!"}},{"$error":"#N/A"},{"$error":"#N/A"},"1902-03-09"]
[801,79,"1902-03-10",{"$f":"+IF(AND(C803-シート!$BV$67>=0,シート!$AI$19-C803>=0),1,0)","v":{"$error":"#N/A"}},{"$f":"IF(AND(C803-シート!$C$87>=0,シート!$X$87-C803>=0),1,0)","v":{"$error":"#VALUE!"}},{"$error":"#N/A"},{"$error":"#N/A"},{"$f":"IF(AND(C803-シート!$CP$87>=0,シート!$DK$87-C803>=0),1,0)","v":{"$error":"#VALUE!"}},{"$error":"#N/A"},{"$error":"#N/A"},"1902-03-10"]
[802,80,"1902-03-11",{"$f":"+IF(AND(C804-シート!$BV$67>=0,シート!$AI$19-C804>=0),1,0)","v":{"$error":"#N/A"}},{"$f":"IF(AND(C804-シート!$C$87>=0,シート!$X$87-C804>=0),1,0)","v":{"$error":"#VALUE!"}},{"$error":"#N/A"},{"$error":"#N/A"},{"$f":"IF(AND(C804-シート!$CP$87>=0,シート!$DK$87-C804>=0),1,0)","v":{"$error":"#VALUE!"}},{"$error":"#N/A"},{"$error":"#N/A"},"1902-03-11"]
[803,80,"1902-03-12",{"$f":"+IF(AND(C805-シート!$BV$67>=0,シート!$AI$19-C805>=0),1,0)","v":{"$error":"#N/A"}},{"$f":"IF(AND(C805-シート!$C$87>=0,シート!$X$87-C805>=0),1,0)","v":{"$error":"#VALUE!"}},{"$error":"#N/A"},{"$error":"#N/A"},{"$f":"IF(AND(C805-シート!$CP$87>=0,シート!$DK$87-C805>=0),1,0)","v":{"$error":"#VALUE!"}},{"$error":"#N/A"},{"$error":"#N/A"},"1902-03-12"]
[804,80,"1902-03-13",{"$f":"+IF(AND(C806-シート!$BV$67>=0,シート!$AI$19-C806>=0),1,0)","v":{"$error":"#N/A"}},{"$f":"IF(AND(C806-シート!$C$87>=0,シート!$X$87-C806>=0),1,0)","v":{"$error":"#VALUE!"}},{"$error":"#N/A"},{"$error":"#N/A"},{"$f":"IF(AND(C806-シート!$CP$87>=0,シート!$DK$87-C806>=0),1,0)","v":{"$error":"#VALUE!"}},{"$error":"#N/A"},{"$error":"#N/A"},"1902-03-13"]
[805,80,"1902-03-14",{"$f":"+IF(AND(C807-シート!$BV$67>=0,シート!$AI$19-C807>=0),1,0)","v":{"$error":"#N/A"}},{"$f":"IF(AND(C807-シート!$C$87>=0,シート!$X$87-C807>=0),1,0)","v":{"$error":"#VALUE!"}},{"$error":"#N/A"},{"$error":"#N/A"},{"$f":"IF(AND(C807-シート!$CP$87>=0,シート!$DK$87-C807>=0),1,0)","v":{"$error":"#VALUE!"}},{"$error":"#N/A"},{"$error":"#N/A"},"1902-03-14"]
[806,80,"1902-03-15",{"$f":"+IF(AND(C808-シート!$BV$67>=0,シート!$AI$19-C808>=0),1,0)","v":{"$error":"#N/A"}},{"$f":"IF(AND(C808-シート!$C$87>=0,シート!$X$87-C808>=0),1,0)","v":{"$error":"#VALUE!"}},{"$error":"#N/A"},{"$error":"#N/A"},{"$f":"IF(AND(C808-シート!$CP$87>=0,シート!$DK$87-C808>=0),1,0)","v":{"$error":"#VALUE!"}},{"$error":"#N/A"},{"$error":"#N/A"},"1902-03-15"]
[807,80,"1902-03-16",{"$f":"+IF(AND(C809-シート!$BV$67>=0,シート!$AI$19-C809>=0),1,0)","v":{"$error":"#N/A"}},{"$f":"IF(AND(C809-シート!$C$87>=0,シート!$X$87-C809>=0),1,0)","v":{"$error":"#VALUE!"}},{"$error":"#N/A"},{"$error":"#N/A"},{"$f":"IF(AND(C809-シート!$CP$87>=0,シート!$DK$87-C809>=0),1,0)","v":{"$error":"#VALUE!"}},{"$error":"#N/A"},{"$error":"#N/A"},"1902-03-16"]
[808,80,"1902-03-17",{"$f":"+IF(AND(C810-シート!$BV$67>=0,シート!$AI$19-C810>=0),1,0)","v":{"$error":"#N/A"}},{"$f":"IF(AND(C810-シート!$C$87>=0,シート!$X$87-C810>=0),1,0)","v":{"$error":"#VALUE!"}},{"$error":"#N/A"},{"$error":"#N/A"},{"$f":"IF(AND(C810-シート!$CP$87>=0,シート!$DK$87-C810>=0),1,0)","v":{"$error":"#VALUE!"}},{"$error":"#N/A"},{"$error":"#N/A"},"1902-03-17"]
[809,80,"1902-03-18",{"$f":"+IF(AND(C811-シート!$BV$67>=0,シート!$AI$19-C811>=0),1,0)","v":{"$error":"#N/A"}},{"$f":"IF(AND(C811-シート!$C$87>=0,シート!$X$87-C811>=0),1,0)","v":{"$error":"#VALUE!"}},{"$error":"#N/A"},{"$error":"#N/A"},{"$f":"IF(AND(C811-シート!$CP$87>=0,シート!$DK$87-C811>=0),1,0)","v":{"$error":"#VALUE!"}},{"$error":"#N/A"},{"$error":"#N/A"},"1902-03-18"]
[810,80,"1902-03-19",{"$f":"+IF(AND(C812-シート!$BV$67>=0,シート!$AI$19-C812>=0),1,0)","v":{"$error":"#N/A"}},{"$f":"IF(AND(C812-シート!$C$87>=0,シート!$X$87-C812>=0),1,0)","v":{"$error":"#VALUE!"}},{"$error":"#N/A"},{"$error":"#N/A"},{"$f":"IF(AND(C812-シート!$CP$87>=0,シート!$DK$87-C812>=0),1,0)","v":{"$error":"#VALUE!"}},{"$error":"#N/A"},{"$error":"#N/A"},"1902-03-19"]
[811,80,"1902-03-20",{"$f":"+IF(AND(C813-シート!$BV$67>=0,シート!$AI$19-C813>=0),1,0)","v":{"$error":"#N/A"}},{"$f":"IF(AND(C813-シート!$C$87>=0,シート!$X$87-C813>=0),1,0)","v":{"$error":"#VALUE!"}},{"$error":"#N/A"},{"$error":"#N/A"},{"$f":"IF(AND(C813-シート!$CP$87>=0,シート!$DK$87-C813>=0),1,0)","v":{"$error":"#VALUE!"}},{"$error":"#N/A"},{"$error":"#N/A"},"1902-03-20"]
[812,80,"1902-03-21",{"$f":"+IF(AND(C814-シート!$BV$67>=0,シート!$AI$19-C814>=0),1,0)","v":{"$error":"#N/A"}},{"$f":"IF(AND(C814-シート!$C$87>=0,シート!$X$87-C814>=0),1,0)","v":{"$error":"#VALUE!"}},{"$error":"#N/A"},{"$error":"#N/A"},{"$f":"IF(AND(C814-シート!$CP$87>=0,シート!$DK$87-C814>=0),1,0)","v":{"$error":"#VALUE!"}},{"$error":"#N/A"},{"$error":"#N/A"},"1902-03-21"]
[813,81,"1902-03-22",{"$f":"+IF(AND(C815-シート!$BV$67>=0,シート!$AI$19-C815>=0),1,0)","v":{"$error":"#N/A"}},{"$f":"IF(AND(C815-シート!$C$87>=0,シート!$X$87-C815>=0),1,0)","v":{"$error":"#VALUE!"}},{"$error":"#N/A"},{"$error":"#N/A"},{"$f":"IF(AND(C815-シート!$CP$87>=0,シート!$DK$87-C815>=0),1,0)","v":{"$error":"#VALUE!"}},{"$error":"#N/A"},{"$error":"#N/A"},"1902-03-22"]
[814,81,"1902-03-23",{"$f":"+IF(AND(C816-シート!$BV$67>=0,シート!$AI$19-C816>=0),1,0)","v":{"$error":"#N/A"}},{"$f":"IF(AND(C816-シート!$C$87>=0,シート!$X$87-C816>=0),1,0)","v":{"$error":"#VALUE!"}},{"$error":"#N/A"},{"$error":"#N/A"},{"$f":"IF(AND(C816-シート!$CP$87>=0,シート!$DK$87-C816>=0),1,0)","v":{"$error":"#VALUE!"}},{"$error":"#N/A"},{"$error":"#N/A"},"1902-03-23"]
[815,81,"1902-03-24",{"$f":"+IF(AND(C817-シート!$BV$67>=0,シート!$AI$19-C817>=0),1,0)","v":{"$error":"#N/A"}},{"$f":"IF(AND(C817-シート!$C$87>=0,シート!$X$87-C817>=0),1,0)","v":{"$error":"#VALUE!"}},{"$error":"#N/A"},{"$error":"#N/A"},{"$f":"IF(AND(C817-シート!$CP$87>=0,シート!$DK$87-C817>=0),1,0)","v":{"$error":"#VALUE!"}},{"$error":"#N/A"},{"$error":"#N/A"},"1902-03-24"]
[816,81,"1902-03-25",{"$f":"+IF(AND(C818-シート!$BV$67>=0,シート!$AI$19-C818>=0),1,0)","v":{"$error":"#N/A"}},{"$f":"IF(AND(C818-シート!$C$87>=0,シート!$X$87-C818>=0),1,0)","v":{"$error":"#VALUE!"}},{"$error":"#N/A"},{"$error":"#N/A"},{"$f":"IF(AND(C818-シート!$CP$87>=0,シート!$DK$87-C818>=0),1,0)","v":{"$error":"#VALUE!"}},{"$error":"#N/A"},{"$error":"#N/A"},"1902-03-25"]
[817,81,"1902-03-26",{"$f":"+IF(AND(C819-シート!$BV$67>=0,シート!$AI$19-C819>=0),1,0)","v":{"$error":"#N/A"}},{"$f":"IF(AND(C819-シート!$C$87>=0,シート!$X$87-C819>=0),1,0)","v":{"$error":"#VALUE!"}},{"$error":"#N/A"},{"$error":"#N/A"},{"$f":"IF(AND(C819-シート!$CP$87>=0,シート!$DK$87-C819>=0),1,0)","v":{"$error":"#VALUE!"}},{"$error":"#N/A"},{"$error":"#N/A"},"1902-03-26"]
[818,81,"1902-03-27",{"$f":"+IF(AND(C820-シート!$BV$67>=0,シート!$AI$19-C820>=0),1,0)","v":{"$error":"#N/A"}},{"$f":"IF(AND(C820-シート!$C$87>=0,シート!$X$87-C820>=0),1,0)","v":{"$error":"#VALUE!"}},{"$error":"#N/A"},{"$error":"#N/A"},{"$f":"IF(AND(C820-シート!$CP$87>=0,シート!$DK$87-C820>=0),1,0)","v":{"$error":"#VALUE!"}},{"$error":"#N/A"},{"$error":"#N/A"},"1902-03-27"]
[819,81,"1902-03-28",{"$f":"+IF(AND(C821-シート!$BV$67>=0,シート!$AI$19-C821>=0),1,0)","v":{"$error":"#N/A"}},{"$f":"IF(AND(C821-シート!$C$87>=0,シート!$X$87-C821>=0),1,0)","v":{"$error":"#VALUE!"}},{"$error":"#N/A"},{"$error":"#N/A"},{"$f":"IF(AND(C821-シート!$CP$87>=0,シート!$DK$87-C821>=0),1,0)","v":{"$error":"#VALUE!"}},{"$error":"#N/A"},{"$error":"#N/A"},"1902-03-28"]
[820,81,"1902-03-29",{"$f":"+IF(AND(C822-シート!$BV$67>=0,シート!$AI$19-C822>=0),1,0)","v":{"$error":"#N/A"}},{"$f":"IF(AND(C822-シート!$C$87>=0,シート!$X$87-C822>=0),1,0)","v":{"$error":"#VALUE!"}},{"$error":"#N/A"},{"$error":"#N/A"},{"$f":"IF(AND(C822-シート!$CP$87>=0,シート!$DK$87-C822>=0),1,0)","v":{"$error":"#VALUE!"}},{"$error":"#N/A"},{"$error":"#N/A"},"1902-03-29"]
[821,81,"1902-03-30",{"$f":"+IF(AND(C823-シート!$BV$67>=0,シート!$AI$19-C823>=0),1,0)","v":{"$error":"#N/A"}},{"$f":"IF(AND(C823-シート!$C$87>=0,シート!$X$87-C823>=0),1,0)","v":{"$error":"#VALUE!"}},{"$error":"#N/A"},{"$error":"#N/A"},{"$f":"IF(AND(C823-シート!$CP$87>=0,シート!$DK$87-C823>=0),1,0)","v":{"$error":"#VALUE!"}},{"$error":"#N/A"},{"$error":"#N/A"},"1902-03-30"]
[822,81,"1902-03-31",{"$f":"+IF(AND(C824-シート!$BV$67>=0,シート!$AI$19-C824>=0),1,0)","v":{"$error":"#N/A"}},{"$f":"IF(AND(C824-シート!$C$87>=0,シート!$X$87-C824>=0),1,0)","v":{"$error":"#VALUE!"}},{"$error":"#N/A"},{"$error":"#N/A"},{"$f":"IF(AND(C824-シート!$CP$87>=0,シート!$DK$87-C824>=0),1,0)","v":{"$error":"#VALUE!"}},{"$error":"#N/A"},{"$error":"#N/A"},"1902-03-31"]
[823,82,"1902-04-01",{"$f":"+IF(AND(C825-シート!$BV$67>=0,シート!$AI$19-C825>=0),1,0)","v":{"$error":"#N/A"}},{"$f":"IF(AND(C825-シート!$C$87>=0,シート!$X$87-C825>=0),1,0)","v":{"$error":"#VALUE!"}},{"$error":"#N/A"},{"$error":"#N/A"},{"$f":"IF(AND(C825-シート!$CP$87>=0,シート!$DK$87-C825>=0),1,0)","v":{"$error":"#VALUE!"}},{"$error":"#N/A"},{"$error":"#N/A"},"1902-04-01"]
[824,82,"1902-04-02",{"$f":"+IF(AND(C826-シート!$BV$67>=0,シート!$AI$19-C826>=0),1,0)","v":{"$error":"#N/A"}},{"$f":"IF(AND(C826-シート!$C$87>=0,シート!$X$87-C826>=0),1,0)","v":{"$error":"#VALUE!"}},{"$error":"#N/A"},{"$error":"#N/A"},{"$f":"IF(AND(C826-シート!$CP$87>=0,シート!$DK$87-C826>=0),1,0)","v":{"$error":"#VALUE!"}},{"$error":"#N/A"},{"$error":"#N/A"},"1902-04-02"]
[825,82,"1902-04-03",{"$f":"+IF(AND(C827-シート!$BV$67>=0,シート!$AI$19-C827>=0),1,0)","v":{"$error":"#N/A"}},{"$f":"IF(AND(C827-シート!$C$87>=0,シート!$X$87-C827>=0),1,0)","v":{"$error":"#VALUE!"}},{"$error":"#N/A"},{"$error":"#N/A"},{"$f":"IF(AND(C827-シート!$CP$87>=0,シート!$DK$87-C827>=0),1,0)","v":{"$error":"#VALUE!"}},{"$error":"#N/A"},{"$error":"#N/A"},"1902-04-03"]
[826,82,"1902-04-04",{"$f":"+IF(AND(C828-シート!$BV$67>=0,シート!$AI$19-C828>=0),1,0)","v":{"$error":"#N/A"}},{"$f":"IF(AND(C828-シート!$C$87>=0,シート!$X$87-C828>=0),1,0)","v":{"$error":"#VALUE!"}},{"$error":"#N/A"},{"$error":"#N/A"},{"$f":"IF(AND(C828-シート!$CP$87>=0,シート!$DK$87-C828>=0),1,0)","v":{"$error":"#VALUE!"}},{"$error":"#N/A"},{"$error":"#N/A"},"1902-04-04"]
[827,82,"1902-04-05",{"$f":"+IF(AND(C829-シート!$BV$67>=0,シート!$AI$19-C829>=0),1,0)","v":{"$error":"#N/A"}},{"$f":"IF(AND(C829-シート!$C$87>=0,シート!$X$87-C829>=0),1,0)","v":{"$error":"#VALUE!"}},{"$error":"#N/A"},{"$error":"#N/A"},{"$f":"IF(AND(C829-シート!$CP$87>=0,シート!$DK$87-C829>=0),1,0)","v":{"$error":"#VALUE!"}},{"$error":"#N/A"},{"$error":"#N/A"},"1902-04-05"]
[828,82,"1902-04-06",{"$f":"+IF(AND(C830-シート!$BV$67>=0,シート!$AI$19-C830>=0),1,0)","v":{"$error":"#N/A"}},{"$f":"IF(AND(C830-シート!$C$87>=0,シート!$X$87-C830>=0),1,0)","v":{"$error":"#VALUE!"}},{"$error":"#N/A"},{"$error":"#N/A"},{"$f":"IF(AND(C830-シート!$CP$87>=0,シート!$DK$87-C830>=0),1,0)","v":{"$error":"#VALUE!"}},{"$error":"#N/A"},{"$error":"#N/A"},"1902-04-06"]
[829,82,"1902-04-07",{"$f":"+IF(AND(C831-シート!$BV$67>=0,シート!$AI$19-C831>=0),1,0)","v":{"$error":"#N/A"}},{"$f":"IF(AND(C831-シート!$C$87>=0,シート!$X$87-C831>=0),1,0)","v":{"$error":"#VALUE!"}},{"$error":"#N/A"},{"$error":"#N/A"},{"$f":"IF(AND(C831-シート!$CP$87>=0,シート!$DK$87-C831>=0),1,0)","v":{"$error":"#VALUE!"}},{"$error":"#N/A"},{"$error":"#N/A"},"1902-04-07"]
[830,82,"1902-04-08",{"$f":"+IF(AND(C832-シート!$BV$67>=0,シート!$AI$19-C832>=0),1,0)","v":{"$error":"#N/A"}},{"$f":"IF(AND(C832-シート!$C$87>=0,シート!$X$87-C832>=0),1,0)","v":{"$error":"#VALUE!"}},{"$error":"#N/A"},{"$error":"#N/A"},{"$f":"IF(AND(C832-シート!$CP$87>=0,シート!$DK$87-C832>=0),1,0)","v":{"$error":"#VALUE!"}},{"$error":"#N/A"},{"$error":"#N/A"},"1902-04-08"]
[831,82,"1902-04-09",{"$f":"+IF(AND(C833-シート!$BV$67>=0,シート!$AI$19-C833>=0),1,0)","v":{"$error":"#N/A"}},{"$f":"IF(AND(C833-シート!$C$87>=0,シート!$X$87-C833>=0),1,0)","v":{"$error":"#VALUE!"}},{"$error":"#N/A"},{"$error":"#N/A"},{"$f":"IF(AND(C833-シート!$CP$87>=0,シート!$DK$87-C833>=0),1,0)","v":{"$error":"#VALUE!"}},{"$error":"#N/A"},{"$error":"#N/A"},"1902-04-09"]
[832,82,"1902-04-10",{"$f":"+IF(AND(C834-シート!$BV$67>=0,シート!$AI$19-C834>=0),1,0)","v":{"$error":"#N/A"}},{"$f":"IF(AND(C834-シート!$C$87>=0,シート!$X$87-C834>=0),1,0)","v":{"$error":"#VALUE!"}},{"$error":"#N/A"},{"$error":"#N/A"},{"$f":"IF(AND(C834-シート!$CP$87>=0,シート!$DK$87-C834>=0),1,0)","v":{"$error":"#VALUE!"}},{"$error":"#N/A"},{"$error":"#N/A"},"1902-04-10"]
[833,83,"1902-04-11",{"$f":"+IF(AND(C835-シート!$BV$67>=0,シート!$AI$19-C835>=0),1,0)","v":{"$error":"#N/A"}},{"$f":"IF(AND(C835-シート!$C$87>=0,シート!$X$87-C835>=0),1,0)","v":{"$error":"#VALUE!"}},{"$error":"#N/A"},{"$error":"#N/A"},{"$f":"IF(AND(C835-シート!$CP$87>=0,シート!$DK$87-C835>=0),1,0)","v":{"$error":"#VALUE!"}},{"$error":"#N/A"},{"$error":"#N/A"},"1902-04-11"]
[834,83,"1902-04-12",{"$f":"+IF(AND(C836-シート!$BV$67>=0,シート!$AI$19-C836>=0),1,0)","v":{"$error":"#N/A"}},{"$f":"IF(AND(C836-シート!$C$87>=0,シート!$X$87-C836>=0),1,0)","v":{"$error":"#VALUE!"}},{"$f":"IF(+D836+E836=2,1,0)","v":{"$error":"#N/A"}},{"$error":"#N/A"},{"$f":"IF(AND(C836-シート!$CP$87>=0,シート!$DK$87-C836>=0),1,0)","v":{"$error":"#VALUE!"}},{"$f":"IF(+D836+H836=2,1,0)","v":{"$error":"#N/A"}},{"$error":"#N/A"},{"$f":"+C836","v":"1902-04-12"}]
[{"$f":"+A836+1","v":835},83,{"$f":"+C836+1","v":"1902-04-13"},{"$f":"+IF(AND(C837-シート!$BV$67>=0,シート!$AI$19-C837>=0),1,0)","v":{"$error":"#N/A"}},{"$f":"IF(AND(C837-シート!$C$87>=0,シート!$X$87-C837>=0),1,0)","v":{"$error":"#VALUE!"}},{"$error":"#N/A"},{"$f":"+G836+F837","v":{"$error":"#N/A"}},{"$f":"IF(AND(C837-シート!$CP$87>=0,シート!$DK$87-C837>=0),1,0)","v":{"$error":"#VALUE!"}},{"$error":"#N/A"},{"$f":"+J836+I837","v":{"$error":"#N/A"}},"1902-04-13"]
[836,83,"1902-04-14",{"$f":"+IF(AND(C838-シート!$BV$67>=0,シート!$AI$19-C838>=0),1,0)","v":{"$error":"#N/A"}},{"$f":"IF(AND(C838-シート!$C$87>=0,シート!$X$87-C838>=0),1,0)","v":{"$error":"#VALUE!"}},{"$error":"#N/A"},{"$error":"#N/A"},{"$f":"IF(AND(C838-シート!$CP$87>=0,シート!$DK$87-C838>=0),1,0)","v":{"$error":"#VALUE!"}},{"$error":"#N/A"},{"$error":"#N/A"},"1902-04-14"]
[837,83,"1902-04-15",{"$f":"+IF(AND(C839-シート!$BV$67>=0,シート!$AI$19-C839>=0),1,0)","v":{"$error":"#N/A"}},{"$f":"IF(AND(C839-シート!$C$87>=0,シート!$X$87-C839>=0),1,0)","v":{"$error":"#VALUE!"}},{"$error":"#N/A"},{"$error":"#N/A"},{"$f":"IF(AND(C839-シート!$CP$87>=0,シート!$DK$87-C839>=0),1,0)","v":{"$error":"#VALUE!"}},{"$error":"#N/A"},{"$error":"#N/A"},"1902-04-15"]
[838,83,"1902-04-16",{"$f":"+IF(AND(C840-シート!$BV$67>=0,シート!$AI$19-C840>=0),1,0)","v":{"$error":"#N/A"}},{"$f":"IF(AND(C840-シート!$C$87>=0,シート!$X$87-C840>=0),1,0)","v":{"$error":"#VALUE!"}},{"$error":"#N/A"},{"$error":"#N/A"},{"$f":"IF(AND(C840-シート!$CP$87>=0,シート!$DK$87-C840>=0),1,0)","v":{"$error":"#VALUE!"}},{"$error":"#N/A"},{"$error":"#N/A"},"1902-04-16"]
[839,83,"1902-04-17",{"$f":"+IF(AND(C841-シート!$BV$67>=0,シート!$AI$19-C841>=0),1,0)","v":{"$error":"#N/A"}},{"$f":"IF(AND(C841-シート!$C$87>=0,シート!$X$87-C841>=0),1,0)","v":{"$error":"#VALUE!"}},{"$error":"#N/A"},{"$error":"#N/A"},{"$f":"IF(AND(C841-シート!$CP$87>=0,シート!$DK$87-C841>=0),1,0)","v":{"$error":"#VALUE!"}},{"$error":"#N/A"},{"$error":"#N/A"},"1902-04-17"]
[840,83,"1902-04-18",{"$f":"+IF(AND(C842-シート!$BV$67>=0,シート!$AI$19-C842>=0),1,0)","v":{"$error":"#N/A"}},{"$f":"IF(AND(C842-シート!$C$87>=0,シート!$X$87-C842>=0),1,0)","v":{"$error":"#VALUE!"}},{"$error":"#N/A"},{"$error":"#N/A"},{"$f":"IF(AND(C842-シート!$CP$87>=0,シート!$DK$87-C842>=0),1,0)","v":{"$error":"#VALUE!"}},{"$error":"#N/A"},{"$error":"#N/A"},"1902-04-18"]
[841,83,"1902-04-19",{"$f":"+IF(AND(C843-シート!$BV$67>=0,シート!$AI$19-C843>=0),1,0)","v":{"$error":"#N/A"}},{"$f":"IF(AND(C843-シート!$C$87>=0,シート!$X$87-C843>=0),1,0)","v":{"$error":"#VALUE!"}},{"$error":"#N/A"},{"$error":"#N/A"},{"$f":"IF(AND(C843-シート!$CP$87>=0,シート!$DK$87-C843>=0),1,0)","v":{"$error":"#VALUE!"}},{"$error":"#N/A"},{"$error":"#N/A"},"1902-04-19"]
[842,83,"1902-04-20",{"$f":"+IF(AND(C844-シート!$BV$67>=0,シート!$AI$19-C844>=0),1,0)","v":{"$error":"#N/A"}},{"$f":"IF(AND(C844-シート!$C$87>=0,シート!$X$87-C844>=0),1,0)","v":{"$error":"#VALUE!"}},{"$error":"#N/A"},{"$error":"#N/A"},{"$f":"IF(AND(C844-シート!$CP$87>=0,シート!$DK$87-C844>=0),1,0)","v":{"$error":"#VALUE!"}},{"$error":"#N/A"},{"$error":"#N/A"},"1902-04-20"]
[843,84,"1902-04-21",{"$f":"+IF(AND(C845-シート!$BV$67>=0,シート!$AI$19-C845>=0),1,0)","v":{"$error":"#N/A"}},{"$f":"IF(AND(C845-シート!$C$87>=0,シート!$X$87-C845>=0),1,0)","v":{"$error":"#VALUE!"}},{"$error":"#N/A"},{"$error":"#N/A"},{"$f":"IF(AND(C845-シート!$CP$87>=0,シート!$DK$87-C845>=0),1,0)","v":{"$error":"#VALUE!"}},{"$error":"#N/A"},{"$error":"#N/A"},"1902-04-21"]
[844,84,"1902-04-22",{"$f":"+IF(AND(C846-シート!$BV$67>=0,シート!$AI$19-C846>=0),1,0)","v":{"$error":"#N/A"}},{"$f":"IF(AND(C846-シート!$C$87>=0,シート!$X$87-C846>=0),1,0)","v":{"$error":"#VALUE!"}},{"$error":"#N/A"},{"$error":"#N/A"},{"$f":"IF(AND(C846-シート!$CP$87>=0,シート!$DK$87-C846>=0),1,0)","v":{"$error":"#VALUE!"}},{"$error":"#N/A"},{"$error":"#N/A"},"1902-04-22"]
[845,84,"1902-04-23",{"$f":"+IF(AND(C847-シート!$BV$67>=0,シート!$AI$19-C847>=0),1,0)","v":{"$error":"#N/A"}},{"$f":"IF(AND(C847-シート!$C$87>=0,シート!$X$87-C847>=0),1,0)","v":{"$error":"#VALUE!"}},{"$error":"#N/A"},{"$error":"#N/A"},{"$f":"IF(AND(C847-シート!$CP$87>=0,シート!$DK$87-C847>=0),1,0)","v":{"$error":"#VALUE!"}},{"$error":"#N/A"},{"$error":"#N/A"},"1902-04-23"]
[846,84,"1902-04-24",{"$f":"+IF(AND(C848-シート!$BV$67>=0,シート!$AI$19-C848>=0),1,0)","v":{"$error":"#N/A"}},{"$f":"IF(AND(C848-シート!$C$87>=0,シート!$X$87-C848>=0),1,0)","v":{"$error":"#VALUE!"}},{"$error":"#N/A"},{"$error":"#N/A"},{"$f":"IF(AND(C848-シート!$CP$87>=0,シート!$DK$87-C848>=0),1,0)","v":{"$error":"#VALUE!"}},{"$error":"#N/A"},{"$error":"#N/A"},"1902-04-24"]
[847,84,"1902-04-25",{"$f":"+IF(AND(C849-シート!$BV$67>=0,シート!$AI$19-C849>=0),1,0)","v":{"$error":"#N/A"}},{"$f":"IF(AND(C849-シート!$C$87>=0,シート!$X$87-C849>=0),1,0)","v":{"$error":"#VALUE!"}},{"$error":"#N/A"},{"$error":"#N/A"},{"$f":"IF(AND(C849-シート!$CP$87>=0,シート!$DK$87-C849>=0),1,0)","v":{"$error":"#VALUE!"}},{"$error":"#N/A"},{"$error":"#N/A"},"1902-04-25"]
[848,84,"1902-04-26",{"$f":"+IF(AND(C850-シート!$BV$67>=0,シート!$AI$19-C850>=0),1,0)","v":{"$error":"#N/A"}},{"$f":"IF(AND(C850-シート!$C$87>=0,シート!$X$87-C850>=0),1,0)","v":{"$error":"#VALUE!"}},{"$error":"#N/A"},{"$error":"#N/A"},{"$f":"IF(AND(C850-シート!$CP$87>=0,シート!$DK$87-C850>=0),1,0)","v":{"$error":"#VALUE!"}},{"$error":"#N/A"},{"$error":"#N/A"},"1902-04-26"]
[849,84,"1902-04-27",{"$f":"+IF(AND(C851-シート!$BV$67>=0,シート!$AI$19-C851>=0),1,0)","v":{"$error":"#N/A"}},{"$f":"IF(AND(C851-シート!$C$87>=0,シート!$X$87-C851>=0),1,0)","v":{"$error":"#VALUE!"}},{"$error":"#N/A"},{"$error":"#N/A"},{"$f":"IF(AND(C851-シート!$CP$87>=0,シート!$DK$87-C851>=0),1,0)","v":{"$error":"#VALUE!"}},{"$error":"#N/A"},{"$error":"#N/A"},"1902-04-27"]
[850,84,"1902-04-28",{"$f":"+IF(AND(C852-シート!$BV$67>=0,シート!$AI$19-C852>=0),1,0)","v":{"$error":"#N/A"}},{"$f":"IF(AND(C852-シート!$C$87>=0,シート!$X$87-C852>=0),1,0)","v":{"$error":"#VALUE!"}},{"$error":"#N/A"},{"$error":"#N/A"},{"$f":"IF(AND(C852-シート!$CP$87>=0,シート!$DK$87-C852>=0),1,0)","v":{"$error":"#VALUE!"}},{"$error":"#N/A"},{"$error":"#N/A"},"1902-04-28"]
[851,84,"1902-04-29",{"$f":"+IF(AND(C853-シート!$BV$67>=0,シート!$AI$19-C853>=0),1,0)","v":{"$error":"#N/A"}},{"$f":"IF(AND(C853-シート!$C$87>=0,シート!$X$87-C853>=0),1,0)","v":{"$error":"#VALUE!"}},{"$error":"#N/A"},{"$error":"#N/A"},{"$f":"IF(AND(C853-シート!$CP$87>=0,シート!$DK$87-C853>=0),1,0)","v":{"$error":"#VALUE!"}},{"$error":"#N/A"},{"$error":"#N/A"},"1902-04-29"]
[852,84,"1902-04-30",{"$f":"+IF(AND(C854-シート!$BV$67>=0,シート!$AI$19-C854>=0),1,0)","v":{"$error":"#N/A"}},{"$f":"IF(AND(C854-シート!$C$87>=0,シート!$X$87-C854>=0),1,0)","v":{"$error":"#VALUE!"}},{"$error":"#N/A"},{"$error":"#N/A"},{"$f":"IF(AND(C854-シート!$CP$87>=0,シート!$DK$87-C854>=0),1,0)","v":{"$error":"#VALUE!"}},{"$error":"#N/A"},{"$error":"#N/A"},"1902-04-30"]
[853,85,"1902-05-01",{"$f":"+IF(AND(C855-シート!$BV$67>=0,シート!$AI$19-C855>=0),1,0)","v":{"$error":"#N/A"}},{"$f":"IF(AND(C855-シート!$C$87>=0,シート!$X$87-C855>=0),1,0)","v":{"$error":"#VALUE!"}},{"$error":"#N/A"},{"$error":"#N/A"},{"$f":"IF(AND(C855-シート!$CP$87>=0,シート!$DK$87-C855>=0),1,0)","v":{"$error":"#VALUE!"}},{"$error":"#N/A"},{"$error":"#N/A"},"1902-05-01"]
[854,85,"1902-05-02",{"$f":"+IF(AND(C856-シート!$BV$67>=0,シート!$AI$19-C856>=0),1,0)","v":{"$error":"#N/A"}},{"$f":"IF(AND(C856-シート!$C$87>=0,シート!$X$87-C856>=0),1,0)","v":{"$error":"#VALUE!"}},{"$error":"#N/A"},{"$error":"#N/A"},{"$f":"IF(AND(C856-シート!$CP$87>=0,シート!$DK$87-C856>=0),1,0)","v":{"$error":"#VALUE!"}},{"$error":"#N/A"},{"$error":"#N/A"},"1902-05-02"]
[855,85,"1902-05-03",{"$f":"+IF(AND(C857-シート!$BV$67>=0,シート!$AI$19-C857>=0),1,0)","v":{"$error":"#N/A"}},{"$f":"IF(AND(C857-シート!$C$87>=0,シート!$X$87-C857>=0),1,0)","v":{"$error":"#VALUE!"}},{"$error":"#N/A"},{"$error":"#N/A"},{"$f":"IF(AND(C857-シート!$CP$87>=0,シート!$DK$87-C857>=0),1,0)","v":{"$error":"#VALUE!"}},{"$error":"#N/A"},{"$error":"#N/A"},"1902-05-03"]
[856,85,"1902-05-04",{"$f":"+IF(AND(C858-シート!$BV$67>=0,シート!$AI$19-C858>=0),1,0)","v":{"$error":"#N/A"}},{"$f":"IF(AND(C858-シート!$C$87>=0,シート!$X$87-C858>=0),1,0)","v":{"$error":"#VALUE!"}},{"$error":"#N/A"},{"$error":"#N/A"},{"$f":"IF(AND(C858-シート!$CP$87>=0,シート!$DK$87-C858>=0),1,0)","v":{"$error":"#VALUE!"}},{"$error":"#N/A"},{"$error":"#N/A"},"1902-05-04"]
[857,85,"1902-05-05",{"$f":"+IF(AND(C859-シート!$BV$67>=0,シート!$AI$19-C859>=0),1,0)","v":{"$error":"#N/A"}},{"$f":"IF(AND(C859-シート!$C$87>=0,シート!$X$87-C859>=0),1,0)","v":{"$error":"#VALUE!"}},{"$error":"#N/A"},{"$error":"#N/A"},{"$f":"IF(AND(C859-シート!$CP$87>=0,シート!$DK$87-C859>=0),1,0)","v":{"$error":"#VALUE!"}},{"$error":"#N/A"},{"$error":"#N/A"},"1902-05-05"]
[858,85,"1902-05-06",{"$f":"+IF(AND(C860-シート!$BV$67>=0,シート!$AI$19-C860>=0),1,0)","v":{"$error":"#N/A"}},{"$f":"IF(AND(C860-シート!$C$87>=0,シート!$X$87-C860>=0),1,0)","v":{"$error":"#VALUE!"}},{"$error":"#N/A"},{"$error":"#N/A"},{"$f":"IF(AND(C860-シート!$CP$87>=0,シート!$DK$87-C860>=0),1,0)","v":{"$error":"#VALUE!"}},{"$error":"#N/A"},{"$error":"#N/A"},"1902-05-06"]
[859,85,"1902-05-07",{"$f":"+IF(AND(C861-シート!$BV$67>=0,シート!$AI$19-C861>=0),1,0)","v":{"$error":"#N/A"}},{"$f":"IF(AND(C861-シート!$C$87>=0,シート!$X$87-C861>=0),1,0)","v":{"$error":"#VALUE!"}},{"$error":"#N/A"},{"$error":"#N/A"},{"$f":"IF(AND(C861-シート!$CP$87>=0,シート!$DK$87-C861>=0),1,0)","v":{"$error":"#VALUE!"}},{"$error":"#N/A"},{"$error":"#N/A"},"1902-05-07"]
[860,85,"1902-05-08",{"$f":"+IF(AND(C862-シート!$BV$67>=0,シート!$AI$19-C862>=0),1,0)","v":{"$error":"#N/A"}},{"$f":"IF(AND(C862-シート!$C$87>=0,シート!$X$87-C862>=0),1,0)","v":{"$error":"#VALUE!"}},{"$error":"#N/A"},{"$error":"#N/A"},{"$f":"IF(AND(C862-シート!$CP$87>=0,シート!$DK$87-C862>=0),1,0)","v":{"$error":"#VALUE!"}},{"$error":"#N/A"},{"$error":"#N/A"},"1902-05-08"]
[861,85,"1902-05-09",{"$f":"+IF(AND(C863-シート!$BV$67>=0,シート!$AI$19-C863>=0),1,0)","v":{"$error":"#N/A"}},{"$f":"IF(AND(C863-シート!$C$87>=0,シート!$X$87-C863>=0),1,0)","v":{"$error":"#VALUE!"}},{"$error":"#N/A"},{"$error":"#N/A"},{"$f":"IF(AND(C863-シート!$CP$87>=0,シート!$DK$87-C863>=0),1,0)","v":{"$error":"#VALUE!"}},{"$error":"#N/A"},{"$error":"#N/A"},"1902-05-09"]
[862,85,"1902-05-10",{"$f":"+IF(AND(C864-シート!$BV$67>=0,シート!$AI$19-C864>=0),1,0)","v":{"$error":"#N/A"}},{"$f":"IF(AND(C864-シート!$C$87>=0,シート!$X$87-C864>=0),1,0)","v":{"$error":"#VALUE!"}},{"$error":"#N/A"},{"$error":"#N/A"},{"$f":"IF(AND(C864-シート!$CP$87>=0,シート!$DK$87-C864>=0),1,0)","v":{"$error":"#VALUE!"}},{"$error":"#N/A"},{"$error":"#N/A"},"1902-05-10"]
[863,86,"1902-05-11",{"$f":"+IF(AND(C865-シート!$BV$67>=0,シート!$AI$19-C865>=0),1,0)","v":{"$error":"#N/A"}},{"$f":"IF(AND(C865-シート!$C$87>=0,シート!$X$87-C865>=0),1,0)","v":{"$error":"#VALUE!"}},{"$error":"#N/A"},{"$error":"#N/A"},{"$f":"IF(AND(C865-シート!$CP$87>=0,シート!$DK$87-C865>=0),1,0)","v":{"$error":"#VALUE!"}},{"$error":"#N/A"},{"$error":"#N/A"},"1902-05-11"]
[864,86,"1902-05-12",{"$f":"+IF(AND(C866-シート!$BV$67>=0,シート!$AI$19-C866>=0),1,0)","v":{"$error":"#N/A"}},{"$f":"IF(AND(C866-シート!$C$87>=0,シート!$X$87-C866>=0),1,0)","v":{"$error":"#VALUE!"}},{"$error":"#N/A"},{"$error":"#N/A"},{"$f":"IF(AND(C866-シート!$CP$87>=0,シート!$DK$87-C866>=0),1,0)","v":{"$error":"#VALUE!"}},{"$error":"#N/A"},{"$error":"#N/A"},"1902-05-12"]
[865,86,"1902-05-13",{"$f":"+IF(AND(C867-シート!$BV$67>=0,シート!$AI$19-C867>=0),1,0)","v":{"$error":"#N/A"}},{"$f":"IF(AND(C867-シート!$C$87>=0,シート!$X$87-C867>=0),1,0)","v":{"$error":"#VALUE!"}},{"$error":"#N/A"},{"$error":"#N/A"},{"$f":"IF(AND(C867-シート!$CP$87>=0,シート!$DK$87-C867>=0),1,0)","v":{"$error":"#VALUE!"}},{"$error":"#N/A"},{"$error":"#N/A"},"1902-05-13"]
[866,86,"1902-05-14",{"$f":"+IF(AND(C868-シート!$BV$67>=0,シート!$AI$19-C868>=0),1,0)","v":{"$error":"#N/A"}},{"$f":"IF(AND(C868-シート!$C$87>=0,シート!$X$87-C868>=0),1,0)","v":{"$error":"#VALUE!"}},{"$error":"#N/A"},{"$error":"#N/A"},{"$f":"IF(AND(C868-シート!$CP$87>=0,シート!$DK$87-C868>=0),1,0)","v":{"$error":"#VALUE!"}},{"$error":"#N/A"},{"$error":"#N/A"},"1902-05-14"]
[867,86,"1902-05-15",{"$f":"+IF(AND(C869-シート!$BV$67>=0,シート!$AI$19-C869>=0),1,0)","v":{"$error":"#N/A"}},{"$f":"IF(AND(C869-シート!$C$87>=0,シート!$X$87-C869>=0),1,0)","v":{"$error":"#VALUE!"}},{"$error":"#N/A"},{"$error":"#N/A"},{"$f":"IF(AND(C869-シート!$CP$87>=0,シート!$DK$87-C869>=0),1,0)","v":{"$error":"#VALUE!"}},{"$error":"#N/A"},{"$error":"#N/A"},"1902-05-15"]
[868,86,"1902-05-16",{"$f":"+IF(AND(C870-シート!$BV$67>=0,シート!$AI$19-C870>=0),1,0)","v":{"$error":"#N/A"}},{"$f":"IF(AND(C870-シート!$C$87>=0,シート!$X$87-C870>=0),1,0)","v":{"$error":"#VALUE!"}},{"$error":"#N/A"},{"$error":"#N/A"},{"$f":"IF(AND(C870-シート!$CP$87>=0,シート!$DK$87-C870>=0),1,0)","v":{"$error":"#VALUE!"}},{"$error":"#N/A"},{"$error":"#N/A"},"1902-05-16"]
[869,86,"1902-05-17",{"$f":"+IF(AND(C871-シート!$BV$67>=0,シート!$AI$19-C871>=0),1,0)","v":{"$error":"#N/A"}},{"$f":"IF(AND(C871-シート!$C$87>=0,シート!$X$87-C871>=0),1,0)","v":{"$error":"#VALUE!"}},{"$error":"#N/A"},{"$error":"#N/A"},{"$f":"IF(AND(C871-シート!$CP$87>=0,シート!$DK$87-C871>=0),1,0)","v":{"$error":"#VALUE!"}},{"$error":"#N/A"},{"$error":"#N/A"},"1902-05-17"]
[870,86,"1902-05-18",{"$f":"+IF(AND(C872-シート!$BV$67>=0,シート!$AI$19-C872>=0),1,0)","v":{"$error":"#N/A"}},{"$f":"IF(AND(C872-シート!$C$87>=0,シート!$X$87-C872>=0),1,0)","v":{"$error":"#VALUE!"}},{"$error":"#N/A"},{"$error":"#N/A"},{"$f":"IF(AND(C872-シート!$CP$87>=0,シート!$DK$87-C872>=0),1,0)","v":{"$error":"#VALUE!"}},{"$error":"#N/A"},{"$error":"#N/A"},"1902-05-18"]
[871,86,"1902-05-19",{"$f":"+IF(AND(C873-シート!$BV$67>=0,シート!$AI$19-C873>=0),1,0)","v":{"$error":"#N/A"}},{"$f":"IF(AND(C873-シート!$C$87>=0,シート!$X$87-C873>=0),1,0)","v":{"$error":"#VALUE!"}},{"$error":"#N/A"},{"$error":"#N/A"},{"$f":"IF(AND(C873-シート!$CP$87>=0,シート!$DK$87-C873>=0),1,0)","v":{"$error":"#VALUE!"}},{"$error":"#N/A"},{"$error":"#N/A"},"1902-05-19"]
[872,86,"1902-05-20",{"$f":"+IF(AND(C874-シート!$BV$67>=0,シート!$AI$19-C874>=0),1,0)","v":{"$error":"#N/A"}},{"$f":"IF(AND(C874-シート!$C$87>=0,シート!$X$87-C874>=0),1,0)","v":{"$error":"#VALUE!"}},{"$error":"#N/A"},{"$error":"#N/A"},{"$f":"IF(AND(C874-シート!$CP$87>=0,シート!$DK$87-C874>=0),1,0)","v":{"$error":"#VALUE!"}},{"$error":"#N/A"},{"$error":"#N/A"},"1902-05-20"]
[873,86,"1902-05-21",{"$f":"+IF(AND(C875-シート!$BV$67>=0,シート!$AI$19-C875>=0),1,0)","v":{"$error":"#N/A"}},{"$f":"IF(AND(C875-シート!$C$87>=0,シート!$X$87-C875>=0),1,0)","v":{"$error":"#VALUE!"}},{"$error":"#N/A"},{"$error":"#N/A"},{"$f":"IF(AND(C875-シート!$CP$87>=0,シート!$DK$87-C875>=0),1,0)","v":{"$error":"#VALUE!"}},{"$error":"#N/A"},{"$error":"#N/A"},"1902-05-21"]
[874,87,"1902-05-22",{"$f":"+IF(AND(C876-シート!$BV$67>=0,シート!$AI$19-C876>=0),1,0)","v":{"$error":"#N/A"}},{"$f":"IF(AND(C876-シート!$C$87>=0,シート!$X$87-C876>=0),1,0)","v":{"$error":"#VALUE!"}},{"$error":"#N/A"},{"$error":"#N/A"},{"$f":"IF(AND(C876-シート!$CP$87>=0,シート!$DK$87-C876>=0),1,0)","v":{"$error":"#VALUE!"}},{"$error":"#N/A"},{"$error":"#N/A"},"1902-05-22"]
[875,87,"1902-05-23",{"$f":"+IF(AND(C877-シート!$BV$67>=0,シート!$AI$19-C877>=0),1,0)","v":{"$error":"#N/A"}},{"$f":"IF(AND(C877-シート!$C$87>=0,シート!$X$87-C877>=0),1,0)","v":{"$error":"#VALUE!"}},{"$error":"#N/A"},{"$error":"#N/A"},{"$f":"IF(AND(C877-シート!$CP$87>=0,シート!$DK$87-C877>=0),1,0)","v":{"$error":"#VALUE!"}},{"$error":"#N/A"},{"$error":"#N/A"},"1902-05-23"]
[876,87,"1902-05-24",{"$f":"+IF(AND(C878-シート!$BV$67>=0,シート!$AI$19-C878>=0),1,0)","v":{"$error":"#N/A"}},{"$f":"IF(AND(C878-シート!$C$87>=0,シート!$X$87-C878>=0),1,0)","v":{"$error":"#VALUE!"}},{"$error":"#N/A"},{"$error":"#N/A"},{"$f":"IF(AND(C878-シート!$CP$87>=0,シート!$DK$87-C878>=0),1,0)","v":{"$error":"#VALUE!"}},{"$error":"#N/A"},{"$error":"#N/A"},"1902-05-24"]
[877,87,"1902-05-25",{"$f":"+IF(AND(C879-シート!$BV$67>=0,シート!$AI$19-C879>=0),1,0)","v":{"$error":"#N/A"}},{"$f":"IF(AND(C879-シート!$C$87>=0,シート!$X$87-C879>=0),1,0)","v":{"$error":"#VALUE!"}},{"$error":"#N/A"},{"$error":"#N/A"},{"$f":"IF(AND(C879-シート!$CP$87>=0,シート!$DK$87-C879>=0),1,0)","v":{"$error":"#VALUE!"}},{"$error":"#N/A"},{"$error":"#N/A"},"1902-05-25"]
[878,87,"1902-05-26",{"$f":"+IF(AND(C880-シート!$BV$67>=0,シート!$AI$19-C880>=0),1,0)","v":{"$error":"#N/A"}},{"$f":"IF(AND(C880-シート!$C$87>=0,シート!$X$87-C880>=0),1,0)","v":{"$error":"#VALUE!"}},{"$error":"#N/A"},{"$error":"#N/A"},{"$f":"IF(AND(C880-シート!$CP$87>=0,シート!$DK$87-C880>=0),1,0)","v":{"$error":"#VALUE!"}},{"$error":"#N/A"},{"$error":"#N/A"},"1902-05-26"]
[879,87,"1902-05-27",{"$f":"+IF(AND(C881-シート!$BV$67>=0,シート!$AI$19-C881>=0),1,0)","v":{"$error":"#N/A"}},{"$f":"IF(AND(C881-シート!$C$87>=0,シート!$X$87-C881>=0),1,0)","v":{"$error":"#VALUE!"}},{"$error":"#N/A"},{"$error":"#N/A"},{"$f":"IF(AND(C881-シート!$CP$87>=0,シート!$DK$87-C881>=0),1,0)","v":{"$error":"#VALUE!"}},{"$error":"#N/A"},{"$error":"#N/A"},"1902-05-27"]
[880,87,"1902-05-28",{"$f":"+IF(AND(C882-シート!$BV$67>=0,シート!$AI$19-C882>=0),1,0)","v":{"$error":"#N/A"}},{"$f":"IF(AND(C882-シート!$C$87>=0,シート!$X$87-C882>=0),1,0)","v":{"$error":"#VALUE!"}},{"$error":"#N/A"},{"$error":"#N/A"},{"$f":"IF(AND(C882-シート!$CP$87>=0,シート!$DK$87-C882>=0),1,0)","v":{"$error":"#VALUE!"}},{"$error":"#N/A"},{"$error":"#N/A"},"1902-05-28"]
[881,87,"1902-05-29",{"$f":"+IF(AND(C883-シート!$BV$67>=0,シート!$AI$19-C883>=0),1,0)","v":{"$error":"#N/A"}},{"$f":"IF(AND(C883-シート!$C$87>=0,シート!$X$87-C883>=0),1,0)","v":{"$error":"#VALUE!"}},{"$error":"#N/A"},{"$error":"#N/A"},{"$f":"IF(AND(C883-シート!$CP$87>=0,シート!$DK$87-C883>=0),1,0)","v":{"$error":"#VALUE!"}},{"$error":"#N/A"},{"$error":"#N/A"},"1902-05-29"]
[882,87,"1902-05-30",{"$f":"+IF(AND(C884-シート!$BV$67>=0,シート!$AI$19-C884>=0),1,0)","v":{"$error":"#N/A"}},{"$f":"IF(AND(C884-シート!$C$87>=0,シート!$X$87-C884>=0),1,0)","v":{"$error":"#VALUE!"}},{"$error":"#N/A"},{"$error":"#N/A"},{"$f":"IF(AND(C884-シート!$CP$87>=0,シート!$DK$87-C884>=0),1,0)","v":{"$error":"#VALUE!"}},{"$error":"#N/A"},{"$error":"#N/A"},"1902-05-30"]
[883,87,"1902-05-31",{"$f":"+IF(AND(C885-シート!$BV$67>=0,シート!$AI$19-C885>=0),1,0)","v":{"$error":"#N/A"}},{"$f":"IF(AND(C885-シート!$C$87>=0,シート!$X$87-C885>=0),1,0)","v":{"$error":"#VALUE!"}},{"$error":"#N/A"},{"$error":"#N/A"},{"$f":"IF(AND(C885-シート!$CP$87>=0,シート!$DK$87-C885>=0),1,0)","v":{"$error":"#VALUE!"}},{"$error":"#N/A"},{"$error":"#N/A"},"1902-05-31"]
[884,88,"1902-06-01",{"$f":"+IF(AND(C886-シート!$BV$67>=0,シート!$AI$19-C886>=0),1,0)","v":{"$error":"#N/A"}},{"$f":"IF(AND(C886-シート!$C$87>=0,シート!$X$87-C886>=0),1,0)","v":{"$error":"#VALUE!"}},{"$error":"#N/A"},{"$error":"#N/A"},{"$f":"IF(AND(C886-シート!$CP$87>=0,シート!$DK$87-C886>=0),1,0)","v":{"$error":"#VALUE!"}},{"$error":"#N/A"},{"$error":"#N/A"},"1902-06-01"]
[885,88,"1902-06-02",{"$f":"+IF(AND(C887-シート!$BV$67>=0,シート!$AI$19-C887>=0),1,0)","v":{"$error":"#N/A"}},{"$f":"IF(AND(C887-シート!$C$87>=0,シート!$X$87-C887>=0),1,0)","v":{"$error":"#VALUE!"}},{"$error":"#N/A"},{"$error":"#N/A"},{"$f":"IF(AND(C887-シート!$CP$87>=0,シート!$DK$87-C887>=0),1,0)","v":{"$error":"#VALUE!"}},{"$error":"#N/A"},{"$error":"#N/A"},"1902-06-02"]
[886,88,"1902-06-03",{"$f":"+IF(AND(C888-シート!$BV$67>=0,シート!$AI$19-C888>=0),1,0)","v":{"$error":"#N/A"}},{"$f":"IF(AND(C888-シート!$C$87>=0,シート!$X$87-C888>=0),1,0)","v":{"$error":"#VALUE!"}},{"$error":"#N/A"},{"$error":"#N/A"},{"$f":"IF(AND(C888-シート!$CP$87>=0,シート!$DK$87-C888>=0),1,0)","v":{"$error":"#VALUE!"}},{"$error":"#N/A"},{"$error":"#N/A"},"1902-06-03"]
[887,88,"1902-06-04",{"$f":"+IF(AND(C889-シート!$BV$67>=0,シート!$AI$19-C889>=0),1,0)","v":{"$error":"#N/A"}},{"$f":"IF(AND(C889-シート!$C$87>=0,シート!$X$87-C889>=0),1,0)","v":{"$error":"#VALUE!"}},{"$error":"#N/A"},{"$error":"#N/A"},{"$f":"IF(AND(C889-シート!$CP$87>=0,シート!$DK$87-C889>=0),1,0)","v":{"$error":"#VALUE!"}},{"$error":"#N/A"},{"$error":"#N/A"},"1902-06-04"]
[888,88,"1902-06-05",{"$f":"+IF(AND(C890-シート!$BV$67>=0,シート!$AI$19-C890>=0),1,0)","v":{"$error":"#N/A"}},{"$f":"IF(AND(C890-シート!$C$87>=0,シート!$X$87-C890>=0),1,0)","v":{"$error":"#VALUE!"}},{"$error":"#N/A"},{"$error":"#N/A"},{"$f":"IF(AND(C890-シート!$CP$87>=0,シート!$DK$87-C890>=0),1,0)","v":{"$error":"#VALUE!"}},{"$error":"#N/A"},{"$error":"#N/A"},"1902-06-05"]
[889,88,"1902-06-06",{"$f":"+IF(AND(C891-シート!$BV$67>=0,シート!$AI$19-C891>=0),1,0)","v":{"$error":"#N/A"}},{"$f":"IF(AND(C891-シート!$C$87>=0,シート!$X$87-C891>=0),1,0)","v":{"$error":"#VALUE!"}},{"$error":"#N/A"},{"$error":"#N/A"},{"$f":"IF(AND(C891-シート!$CP$87>=0,シート!$DK$87-C891>=0),1,0)","v":{"$error":"#VALUE!"}},{"$error":"#N/A"},{"$error":"#N/A"},"1902-06-06"]
[890,88,"1902-06-07",{"$f":"+IF(AND(C892-シート!$BV$67>=0,シート!$AI$19-C892>=0),1,0)","v":{"$error":"#N/A"}},{"$f":"IF(AND(C892-シート!$C$87>=0,シート!$X$87-C892>=0),1,0)","v":{"$error":"#VALUE!"}},{"$error":"#N/A"},{"$error":"#N/A"},{"$f":"IF(AND(C892-シート!$CP$87>=0,シート!$DK$87-C892>=0),1,0)","v":{"$error":"#VALUE!"}},{"$error":"#N/A"},{"$error":"#N/A"},"1902-06-07"]
[891,88,"1902-06-08",{"$f":"+IF(AND(C893-シート!$BV$67>=0,シート!$AI$19-C893>=0),1,0)","v":{"$error":"#N/A"}},{"$f":"IF(AND(C893-シート!$C$87>=0,シート!$X$87-C893>=0),1,0)","v":{"$error":"#VALUE!"}},{"$error":"#N/A"},{"$error":"#N/A"},{"$f":"IF(AND(C893-シート!$CP$87>=0,シート!$DK$87-C893>=0),1,0)","v":{"$error":"#VALUE!"}},{"$error":"#N/A"},{"$error":"#N/A"},"1902-06-08"]
[892,88,"1902-06-09",{"$f":"+IF(AND(C894-シート!$BV$67>=0,シート!$AI$19-C894>=0),1,0)","v":{"$error":"#N/A"}},{"$f":"IF(AND(C894-シート!$C$87>=0,シート!$X$87-C894>=0),1,0)","v":{"$error":"#VALUE!"}},{"$error":"#N/A"},{"$error":"#N/A"},{"$f":"IF(AND(C894-シート!$CP$87>=0,シート!$DK$87-C894>=0),1,0)","v":{"$error":"#VALUE!"}},{"$error":"#N/A"},{"$error":"#N/A"},"1902-06-09"]
[893,88,"1902-06-10",{"$f":"+IF(AND(C895-シート!$BV$67>=0,シート!$AI$19-C895>=0),1,0)","v":{"$error":"#N/A"}},{"$f":"IF(AND(C895-シート!$C$87>=0,シート!$X$87-C895>=0),1,0)","v":{"$error":"#VALUE!"}},{"$error":"#N/A"},{"$error":"#N/A"},{"$f":"IF(AND(C895-シート!$CP$87>=0,シート!$DK$87-C895>=0),1,0)","v":{"$error":"#VALUE!"}},{"$error":"#N/A"},{"$error":"#N/A"},"1902-06-10"]
[894,89,"1902-06-11",{"$f":"+IF(AND(C896-シート!$BV$67>=0,シート!$AI$19-C896>=0),1,0)","v":{"$error":"#N/A"}},{"$f":"IF(AND(C896-シート!$C$87>=0,シート!$X$87-C896>=0),1,0)","v":{"$error":"#VALUE!"}},{"$error":"#N/A"},{"$error":"#N/A"},{"$f":"IF(AND(C896-シート!$CP$87>=0,シート!$DK$87-C896>=0),1,0)","v":{"$error":"#VALUE!"}},{"$error":"#N/A"},{"$error":"#N/A"},"1902-06-11"]
[895,89,"1902-06-12",{"$f":"+IF(AND(C897-シート!$BV$67>=0,シート!$AI$19-C897>=0),1,0)","v":{"$error":"#N/A"}},{"$f":"IF(AND(C897-シート!$C$87>=0,シート!$X$87-C897>=0),1,0)","v":{"$error":"#VALUE!"}},{"$error":"#N/A"},{"$error":"#N/A"},{"$f":"IF(AND(C897-シート!$CP$87>=0,シート!$DK$87-C897>=0),1,0)","v":{"$error":"#VALUE!"}},{"$error":"#N/A"},{"$error":"#N/A"},"1902-06-12"]
[896,89,"1902-06-13",{"$f":"+IF(AND(C898-シート!$BV$67>=0,シート!$AI$19-C898>=0),1,0)","v":{"$error":"#N/A"}},{"$f":"IF(AND(C898-シート!$C$87>=0,シート!$X$87-C898>=0),1,0)","v":{"$error":"#VALUE!"}},{"$error":"#N/A"},{"$error":"#N/A"},{"$f":"IF(AND(C898-シート!$CP$87>=0,シート!$DK$87-C898>=0),1,0)","v":{"$error":"#VALUE!"}},{"$error":"#N/A"},{"$error":"#N/A"},"1902-06-13"]
[897,89,"1902-06-14",{"$f":"+IF(AND(C899-シート!$BV$67>=0,シート!$AI$19-C899>=0),1,0)","v":{"$error":"#N/A"}},{"$f":"IF(AND(C899-シート!$C$87>=0,シート!$X$87-C899>=0),1,0)","v":{"$error":"#VALUE!"}},{"$error":"#N/A"},{"$error":"#N/A"},{"$f":"IF(AND(C899-シート!$CP$87>=0,シート!$DK$87-C899>=0),1,0)","v":{"$error":"#VALUE!"}},{"$error":"#N/A"},{"$error":"#N/A"},"1902-06-14"]
[898,89,"1902-06-15",{"$f":"+IF(AND(C900-シート!$BV$67>=0,シート!$AI$19-C900>=0),1,0)","v":{"$error":"#N/A"}},{"$f":"IF(AND(C900-シート!$C$87>=0,シート!$X$87-C900>=0),1,0)","v":{"$error":"#VALUE!"}},{"$f":"IF(+D900+E900=2,1,0)","v":{"$error":"#N/A"}},{"$error":"#N/A"},{"$f":"IF(AND(C900-シート!$CP$87>=0,シート!$DK$87-C900>=0),1,0)","v":{"$error":"#VALUE!"}},{"$f":"IF(+D900+H900=2,1,0)","v":{"$error":"#N/A"}},{"$error":"#N/A"},{"$f":"+C900","v":"1902-06-15"}]
[{"$f":"+A900+1","v":899},89,{"$f":"+C900+1","v":"1902-06-16"},{"$f":"+IF(AND(C901-シート!$BV$67>=0,シート!$AI$19-C901>=0),1,0)","v":{"$error":"#N/A"}},{"$f":"IF(AND(C901-シート!$C$87>=0,シート!$X$87-C901>=0),1,0)","v":{"$error":"#VALUE!"}},{"$error":"#N/A"},{"$f":"+G900+F901","v":{"$error":"#N/A"}},{"$f":"IF(AND(C901-シート!$CP$87>=0,シート!$DK$87-C901>=0),1,0)","v":{"$error":"#VALUE!"}},{"$error":"#N/A"},{"$f":"+J900+I901","v":{"$error":"#N/A"}},"1902-06-16"]
[900,89,"1902-06-17",{"$f":"+IF(AND(C902-シート!$BV$67>=0,シート!$AI$19-C902>=0),1,0)","v":{"$error":"#N/A"}},{"$f":"IF(AND(C902-シート!$C$87>=0,シート!$X$87-C902>=0),1,0)","v":{"$error":"#VALUE!"}},{"$error":"#N/A"},{"$error":"#N/A"},{"$f":"IF(AND(C902-シート!$CP$87>=0,シート!$DK$87-C902>=0),1,0)","v":{"$error":"#VALUE!"}},{"$error":"#N/A"},{"$error":"#N/A"},"1902-06-17"]
[901,89,"1902-06-18",{"$f":"+IF(AND(C903-シート!$BV$67>=0,シート!$AI$19-C903>=0),1,0)","v":{"$error":"#N/A"}},{"$f":"IF(AND(C903-シート!$C$87>=0,シート!$X$87-C903>=0),1,0)","v":{"$error":"#VALUE!"}},{"$error":"#N/A"},{"$error":"#N/A"},{"$f":"IF(AND(C903-シート!$CP$87>=0,シート!$DK$87-C903>=0),1,0)","v":{"$error":"#VALUE!"}},{"$error":"#N/A"},{"$error":"#N/A"},"1902-06-18"]
[902,89,"1902-06-19",{"$f":"+IF(AND(C904-シート!$BV$67>=0,シート!$AI$19-C904>=0),1,0)","v":{"$error":"#N/A"}},{"$f":"IF(AND(C904-シート!$C$87>=0,シート!$X$87-C904>=0),1,0)","v":{"$error":"#VALUE!"}},{"$error":"#N/A"},{"$error":"#N/A"},{"$f":"IF(AND(C904-シート!$CP$87>=0,シート!$DK$87-C904>=0),1,0)","v":{"$error":"#VALUE!"}},{"$error":"#N/A"},{"$error":"#N/A"},"1902-06-19"]
[903,89,"1902-06-20",{"$f":"+IF(AND(C905-シート!$BV$67>=0,シート!$AI$19-C905>=0),1,0)","v":{"$error":"#N/A"}},{"$f":"IF(AND(C905-シート!$C$87>=0,シート!$X$87-C905>=0),1,0)","v":{"$error":"#VALUE!"}},{"$error":"#N/A"},{"$error":"#N/A"},{"$f":"IF(AND(C905-シート!$CP$87>=0,シート!$DK$87-C905>=0),1,0)","v":{"$error":"#VALUE!"}},{"$error":"#N/A"},{"$error":"#N/A"},"1902-06-20"]
[904,90,"1902-06-21",{"$f":"+IF(AND(C906-シート!$BV$67>=0,シート!$AI$19-C906>=0),1,0)","v":{"$error":"#N/A"}},{"$f":"IF(AND(C906-シート!$C$87>=0,シート!$X$87-C906>=0),1,0)","v":{"$error":"#VALUE!"}},{"$error":"#N/A"},{"$error":"#N/A"},{"$f":"IF(AND(C906-シート!$CP$87>=0,シート!$DK$87-C906>=0),1,0)","v":{"$error":"#VALUE!"}},{"$error":"#N/A"},{"$error":"#N/A"},"1902-06-21"]
[905,90,"1902-06-22",{"$f":"+IF(AND(C907-シート!$BV$67>=0,シート!$AI$19-C907>=0),1,0)","v":{"$error":"#N/A"}},{"$f":"IF(AND(C907-シート!$C$87>=0,シート!$X$87-C907>=0),1,0)","v":{"$error":"#VALUE!"}},{"$error":"#N/A"},{"$error":"#N/A"},{"$f":"IF(AND(C907-シート!$CP$87>=0,シート!$DK$87-C907>=0),1,0)","v":{"$error":"#VALUE!"}},{"$error":"#N/A"},{"$error":"#N/A"},"1902-06-22"]
[906,90,"1902-06-23",{"$f":"+IF(AND(C908-シート!$BV$67>=0,シート!$AI$19-C908>=0),1,0)","v":{"$error":"#N/A"}},{"$f":"IF(AND(C908-シート!$C$87>=0,シート!$X$87-C908>=0),1,0)","v":{"$error":"#VALUE!"}},{"$error":"#N/A"},{"$error":"#N/A"},{"$f":"IF(AND(C908-シート!$CP$87>=0,シート!$DK$87-C908>=0),1,0)","v":{"$error":"#VALUE!"}},{"$error":"#N/A"},{"$error":"#N/A"},"1902-06-23"]
[907,90,"1902-06-24",{"$f":"+IF(AND(C909-シート!$BV$67>=0,シート!$AI$19-C909>=0),1,0)","v":{"$error":"#N/A"}},{"$f":"IF(AND(C909-シート!$C$87>=0,シート!$X$87-C909>=0),1,0)","v":{"$error":"#VALUE!"}},{"$error":"#N/A"},{"$error":"#N/A"},{"$f":"IF(AND(C909-シート!$CP$87>=0,シート!$DK$87-C909>=0),1,0)","v":{"$error":"#VALUE!"}},{"$error":"#N/A"},{"$error":"#N/A"},"1902-06-24"]
[908,90,"1902-06-25",{"$f":"+IF(AND(C910-シート!$BV$67>=0,シート!$AI$19-C910>=0),1,0)","v":{"$error":"#N/A"}},{"$f":"IF(AND(C910-シート!$C$87>=0,シート!$X$87-C910>=0),1,0)","v":{"$error":"#VALUE!"}},{"$error":"#N/A"},{"$error":"#N/A"},{"$f":"IF(AND(C910-シート!$CP$87>=0,シート!$DK$87-C910>=0),1,0)","v":{"$error":"#VALUE!"}},{"$error":"#N/A"},{"$error":"#N/A"},"1902-06-25"]
[909,90,"1902-06-26",{"$f":"+IF(AND(C911-シート!$BV$67>=0,シート!$AI$19-C911>=0),1,0)","v":{"$error":"#N/A"}},{"$f":"IF(AND(C911-シート!$C$87>=0,シート!$X$87-C911>=0),1,0)","v":{"$error":"#VALUE!"}},{"$error":"#N/A"},{"$error":"#N/A"},{"$f":"IF(AND(C911-シート!$CP$87>=0,シート!$DK$87-C911>=0),1,0)","v":{"$error":"#VALUE!"}},{"$error":"#N/A"},{"$error":"#N/A"},"1902-06-26"]
[910,90,"1902-06-27",{"$f":"+IF(AND(C912-シート!$BV$67>=0,シート!$AI$19-C912>=0),1,0)","v":{"$error":"#N/A"}},{"$f":"IF(AND(C912-シート!$C$87>=0,シート!$X$87-C912>=0),1,0)","v":{"$error":"#VALUE!"}},{"$error":"#N/A"},{"$error":"#N/A"},{"$f":"IF(AND(C912-シート!$CP$87>=0,シート!$DK$87-C912>=0),1,0)","v":{"$error":"#VALUE!"}},{"$error":"#N/A"},{"$error":"#N/A"},"1902-06-27"]
[911,90,"1902-06-28",{"$f":"+IF(AND(C913-シート!$BV$67>=0,シート!$AI$19-C913>=0),1,0)","v":{"$error":"#N/A"}},{"$f":"IF(AND(C913-シート!$C$87>=0,シート!$X$87-C913>=0),1,0)","v":{"$error":"#VALUE!"}},{"$error":"#N/A"},{"$error":"#N/A"},{"$f":"IF(AND(C913-シート!$CP$87>=0,シート!$DK$87-C913>=0),1,0)","v":{"$error":"#VALUE!"}},{"$error":"#N/A"},{"$error":"#N/A"},"1902-06-28"]
[912,90,"1902-06-29",{"$f":"+IF(AND(C914-シート!$BV$67>=0,シート!$AI$19-C914>=0),1,0)","v":{"$error":"#N/A"}},{"$f":"IF(AND(C914-シート!$C$87>=0,シート!$X$87-C914>=0),1,0)","v":{"$error":"#VALUE!"}},{"$error":"#N/A"},{"$error":"#N/A"},{"$f":"IF(AND(C914-シート!$CP$87>=0,シート!$DK$87-C914>=0),1,0)","v":{"$error":"#VALUE!"}},{"$error":"#N/A"},{"$error":"#N/A"},"1902-06-29"]
[913,90,"1902-06-30",{"$f":"+IF(AND(C915-シート!$BV$67>=0,シート!$AI$19-C915>=0),1,0)","v":{"$error":"#N/A"}},{"$f":"IF(AND(C915-シート!$C$87>=0,シート!$X$87-C915>=0),1,0)","v":{"$error":"#VALUE!"}},{"$error":"#N/A"},{"$error":"#N/A"},{"$f":"IF(AND(C915-シート!$CP$87>=0,シート!$DK$87-C915>=0),1,0)","v":{"$error":"#VALUE!"}},{"$error":"#N/A"},{"$error":"#N/A"},"1902-06-30"]
[914,91,"1902-07-01",{"$f":"+IF(AND(C916-シート!$BV$67>=0,シート!$AI$19-C916>=0),1,0)","v":{"$error":"#N/A"}},{"$f":"IF(AND(C916-シート!$C$87>=0,シート!$X$87-C916>=0),1,0)","v":{"$error":"#VALUE!"}},{"$error":"#N/A"},{"$error":"#N/A"},{"$f":"IF(AND(C916-シート!$CP$87>=0,シート!$DK$87-C916>=0),1,0)","v":{"$error":"#VALUE!"}},{"$error":"#N/A"},{"$error":"#N/A"},"1902-07-01"]
[915,91,"1902-07-02",{"$f":"+IF(AND(C917-シート!$BV$67>=0,シート!$AI$19-C917>=0),1,0)","v":{"$error":"#N/A"}},{"$f":"IF(AND(C917-シート!$C$87>=0,シート!$X$87-C917>=0),1,0)","v":{"$error":"#VALUE!"}},{"$error":"#N/A"},{"$error":"#N/A"},{"$f":"IF(AND(C917-シート!$CP$87>=0,シート!$DK$87-C917>=0),1,0)","v":{"$error":"#VALUE!"}},{"$error":"#N/A"},{"$error":"#N/A"},"1902-07-02"]
[916,91,"1902-07-03",{"$f":"+IF(AND(C918-シート!$BV$67>=0,シート!$AI$19-C918>=0),1,0)","v":{"$error":"#N/A"}},{"$f":"IF(AND(C918-シート!$C$87>=0,シート!$X$87-C918>=0),1,0)","v":{"$error":"#VALUE!"}},{"$error":"#N/A"},{"$error":"#N/A"},{"$f":"IF(AND(C918-シート!$CP$87>=0,シート!$DK$87-C918>=0),1,0)","v":{"$error":"#VALUE!"}},{"$error":"#N/A"},{"$error":"#N/A"},"1902-07-03"]
[917,91,"1902-07-04",{"$f":"+IF(AND(C919-シート!$BV$67>=0,シート!$AI$19-C919>=0),1,0)","v":{"$error":"#N/A"}},{"$f":"IF(AND(C919-シート!$C$87>=0,シート!$X$87-C919>=0),1,0)","v":{"$error":"#VALUE!"}},{"$error":"#N/A"},{"$error":"#N/A"},{"$f":"IF(AND(C919-シート!$CP$87>=0,シート!$DK$87-C919>=0),1,0)","v":{"$error":"#VALUE!"}},{"$error":"#N/A"},{"$error":"#N/A"},"1902-07-04"]
[918,91,"1902-07-05",{"$f":"+IF(AND(C920-シート!$BV$67>=0,シート!$AI$19-C920>=0),1,0)","v":{"$error":"#N/A"}},{"$f":"IF(AND(C920-シート!$C$87>=0,シート!$X$87-C920>=0),1,0)","v":{"$error":"#VALUE!"}},{"$error":"#N/A"},{"$error":"#N/A"},{"$f":"IF(AND(C920-シート!$CP$87>=0,シート!$DK$87-C920>=0),1,0)","v":{"$error":"#VALUE!"}},{"$error":"#N/A"},{"$error":"#N/A"},"1902-07-05"]
[919,91,"1902-07-06",{"$f":"+IF(AND(C921-シート!$BV$67>=0,シート!$AI$19-C921>=0),1,0)","v":{"$error":"#N/A"}},{"$f":"IF(AND(C921-シート!$C$87>=0,シート!$X$87-C921>=0),1,0)","v":{"$error":"#VALUE!"}},{"$error":"#N/A"},{"$error":"#N/A"},{"$f":"IF(AND(C921-シート!$CP$87>=0,シート!$DK$87-C921>=0),1,0)","v":{"$error":"#VALUE!"}},{"$error":"#N/A"},{"$error":"#N/A"},"1902-07-06"]
[920,91,"1902-07-07",{"$f":"+IF(AND(C922-シート!$BV$67>=0,シート!$AI$19-C922>=0),1,0)","v":{"$error":"#N/A"}},{"$f":"IF(AND(C922-シート!$C$87>=0,シート!$X$87-C922>=0),1,0)","v":{"$error":"#VALUE!"}},{"$error":"#N/A"},{"$error":"#N/A"},{"$f":"IF(AND(C922-シート!$CP$87>=0,シート!$DK$87-C922>=0),1,0)","v":{"$error":"#VALUE!"}},{"$error":"#N/A"},{"$error":"#N/A"},"1902-07-07"]
[921,91,"1902-07-08",{"$f":"+IF(AND(C923-シート!$BV$67>=0,シート!$AI$19-C923>=0),1,0)","v":{"$error":"#N/A"}},{"$f":"IF(AND(C923-シート!$C$87>=0,シート!$X$87-C923>=0),1,0)","v":{"$error":"#VALUE!"}},{"$error":"#N/A"},{"$error":"#N/A"},{"$f":"IF(AND(C923-シート!$CP$87>=0,シート!$DK$87-C923>=0),1,0)","v":{"$error":"#VALUE!"}},{"$error":"#N/A"},{"$error":"#N/A"},"1902-07-08"]
[922,91,"1902-07-09",{"$f":"+IF(AND(C924-シート!$BV$67>=0,シート!$AI$19-C924>=0),1,0)","v":{"$error":"#N/A"}},{"$f":"IF(AND(C924-シート!$C$87>=0,シート!$X$87-C924>=0),1,0)","v":{"$error":"#VALUE!"}},{"$error":"#N/A"},{"$error":"#N/A"},{"$f":"IF(AND(C924-シート!$CP$87>=0,シート!$DK$87-C924>=0),1,0)","v":{"$error":"#VALUE!"}},{"$error":"#N/A"},{"$error":"#N/A"},"1902-07-09"]
[923,91,"1902-07-10",{"$f":"+IF(AND(C925-シート!$BV$67>=0,シート!$AI$19-C925>=0),1,0)","v":{"$error":"#N/A"}},{"$f":"IF(AND(C925-シート!$C$87>=0,シート!$X$87-C925>=0),1,0)","v":{"$error":"#VALUE!"}},{"$error":"#N/A"},{"$error":"#N/A"},{"$f":"IF(AND(C925-シート!$CP$87>=0,シート!$DK$87-C925>=0),1,0)","v":{"$error":"#VALUE!"}},{"$error":"#N/A"},{"$error":"#N/A"},"1902-07-10"]
[924,92,"1902-07-11",{"$f":"+IF(AND(C926-シート!$BV$67>=0,シート!$AI$19-C926>=0),1,0)","v":{"$error":"#N/A"}},{"$f":"IF(AND(C926-シート!$C$87>=0,シート!$X$87-C926>=0),1,0)","v":{"$error":"#VALUE!"}},{"$error":"#N/A"},{"$error":"#N/A"},{"$f":"IF(AND(C926-シート!$CP$87>=0,シート!$DK$87-C926>=0),1,0)","v":{"$error":"#VALUE!"}},{"$error":"#N/A"},{"$error":"#N/A"},"1902-07-11"]
[925,92,"1902-07-12",{"$f":"+IF(AND(C927-シート!$BV$67>=0,シート!$AI$19-C927>=0),1,0)","v":{"$error":"#N/A"}},{"$f":"IF(AND(C927-シート!$C$87>=0,シート!$X$87-C927>=0),1,0)","v":{"$error":"#VALUE!"}},{"$error":"#N/A"},{"$error":"#N/A"},{"$f":"IF(AND(C927-シート!$CP$87>=0,シート!$DK$87-C927>=0),1,0)","v":{"$error":"#VALUE!"}},{"$error":"#N/A"},{"$error":"#N/A"},"1902-07-12"]
[926,92,"1902-07-13",{"$f":"+IF(AND(C928-シート!$BV$67>=0,シート!$AI$19-C928>=0),1,0)","v":{"$error":"#N/A"}},{"$f":"IF(AND(C928-シート!$C$87>=0,シート!$X$87-C928>=0),1,0)","v":{"$error":"#VALUE!"}},{"$error":"#N/A"},{"$error":"#N/A"},{"$f":"IF(AND(C928-シート!$CP$87>=0,シート!$DK$87-C928>=0),1,0)","v":{"$error":"#VALUE!"}},{"$error":"#N/A"},{"$error":"#N/A"},"1902-07-13"]
[927,92,"1902-07-14",{"$f":"+IF(AND(C929-シート!$BV$67>=0,シート!$AI$19-C929>=0),1,0)","v":{"$error":"#N/A"}},{"$f":"IF(AND(C929-シート!$C$87>=0,シート!$X$87-C929>=0),1,0)","v":{"$error":"#VALUE!"}},{"$error":"#N/A"},{"$error":"#N/A"},{"$f":"IF(AND(C929-シート!$CP$87>=0,シート!$DK$87-C929>=0),1,0)","v":{"$error":"#VALUE!"}},{"$error":"#N/A"},{"$error":"#N/A"},"1902-07-14"]
[928,92,"1902-07-15",{"$f":"+IF(AND(C930-シート!$BV$67>=0,シート!$AI$19-C930>=0),1,0)","v":{"$error":"#N/A"}},{"$f":"IF(AND(C930-シート!$C$87>=0,シート!$X$87-C930>=0),1,0)","v":{"$error":"#VALUE!"}},{"$error":"#N/A"},{"$error":"#N/A"},{"$f":"IF(AND(C930-シート!$CP$87>=0,シート!$DK$87-C930>=0),1,0)","v":{"$error":"#VALUE!"}},{"$error":"#N/A"},{"$error":"#N/A"},"1902-07-15"]
[929,92,"1902-07-16",{"$f":"+IF(AND(C931-シート!$BV$67>=0,シート!$AI$19-C931>=0),1,0)","v":{"$error":"#N/A"}},{"$f":"IF(AND(C931-シート!$C$87>=0,シート!$X$87-C931>=0),1,0)","v":{"$error":"#VALUE!"}},{"$error":"#N/A"},{"$error":"#N/A"},{"$f":"IF(AND(C931-シート!$CP$87>=0,シート!$DK$87-C931>=0),1,0)","v":{"$error":"#VALUE!"}},{"$error":"#N/A"},{"$error":"#N/A"},"1902-07-16"]
[930,92,"1902-07-17",{"$f":"+IF(AND(C932-シート!$BV$67>=0,シート!$AI$19-C932>=0),1,0)","v":{"$error":"#N/A"}},{"$f":"IF(AND(C932-シート!$C$87>=0,シート!$X$87-C932>=0),1,0)","v":{"$error":"#VALUE!"}},{"$error":"#N/A"},{"$error":"#N/A"},{"$f":"IF(AND(C932-シート!$CP$87>=0,シート!$DK$87-C932>=0),1,0)","v":{"$error":"#VALUE!"}},{"$error":"#N/A"},{"$error":"#N/A"},"1902-07-17"]
[931,92,"1902-07-18",{"$f":"+IF(AND(C933-シート!$BV$67>=0,シート!$AI$19-C933>=0),1,0)","v":{"$error":"#N/A"}},{"$f":"IF(AND(C933-シート!$C$87>=0,シート!$X$87-C933>=0),1,0)","v":{"$error":"#VALUE!"}},{"$error":"#N/A"},{"$error":"#N/A"},{"$f":"IF(AND(C933-シート!$CP$87>=0,シート!$DK$87-C933>=0),1,0)","v":{"$error":"#VALUE!"}},{"$error":"#N/A"},{"$error":"#N/A"},"1902-07-18"]
[932,92,"1902-07-19",{"$f":"+IF(AND(C934-シート!$BV$67>=0,シート!$AI$19-C934>=0),1,0)","v":{"$error":"#N/A"}},{"$f":"IF(AND(C934-シート!$C$87>=0,シート!$X$87-C934>=0),1,0)","v":{"$error":"#VALUE!"}},{"$error":"#N/A"},{"$error":"#N/A"},{"$f":"IF(AND(C934-シート!$CP$87>=0,シート!$DK$87-C934>=0),1,0)","v":{"$error":"#VALUE!"}},{"$error":"#N/A"},{"$error":"#N/A"},"1902-07-19"]
[933,92,"1902-07-20",{"$f":"+IF(AND(C935-シート!$BV$67>=0,シート!$AI$19-C935>=0),1,0)","v":{"$error":"#N/A"}},{"$f":"IF(AND(C935-シート!$C$87>=0,シート!$X$87-C935>=0),1,0)","v":{"$error":"#VALUE!"}},{"$error":"#N/A"},{"$error":"#N/A"},{"$f":"IF(AND(C935-シート!$CP$87>=0,シート!$DK$87-C935>=0),1,0)","v":{"$error":"#VALUE!"}},{"$error":"#N/A"},{"$error":"#N/A"},"1902-07-20"]
[934,92,"1902-07-21",{"$f":"+IF(AND(C936-シート!$BV$67>=0,シート!$AI$19-C936>=0),1,0)","v":{"$error":"#N/A"}},{"$f":"IF(AND(C936-シート!$C$87>=0,シート!$X$87-C936>=0),1,0)","v":{"$error":"#VALUE!"}},{"$error":"#N/A"},{"$error":"#N/A"},{"$f":"IF(AND(C936-シート!$CP$87>=0,シート!$DK$87-C936>=0),1,0)","v":{"$error":"#VALUE!"}},{"$error":"#N/A"},{"$error":"#N/A"},"1902-07-21"]
[935,93,"1902-07-22",{"$f":"+IF(AND(C937-シート!$BV$67>=0,シート!$AI$19-C937>=0),1,0)","v":{"$error":"#N/A"}},{"$f":"IF(AND(C937-シート!$C$87>=0,シート!$X$87-C937>=0),1,0)","v":{"$error":"#VALUE!"}},{"$error":"#N/A"},{"$error":"#N/A"},{"$f":"IF(AND(C937-シート!$CP$87>=0,シート!$DK$87-C937>=0),1,0)","v":{"$error":"#VALUE!"}},{"$error":"#N/A"},{"$error":"#N/A"},"1902-07-22"]
[936,93,"1902-07-23",{"$f":"+IF(AND(C938-シート!$BV$67>=0,シート!$AI$19-C938>=0),1,0)","v":{"$error":"#N/A"}},{"$f":"IF(AND(C938-シート!$C$87>=0,シート!$X$87-C938>=0),1,0)","v":{"$error":"#VALUE!"}},{"$error":"#N/A"},{"$error":"#N/A"},{"$f":"IF(AND(C938-シート!$CP$87>=0,シート!$DK$87-C938>=0),1,0)","v":{"$error":"#VALUE!"}},{"$error":"#N/A"},{"$error":"#N/A"},"1902-07-23"]
[937,93,"1902-07-24",{"$f":"+IF(AND(C939-シート!$BV$67>=0,シート!$AI$19-C939>=0),1,0)","v":{"$error":"#N/A"}},{"$f":"IF(AND(C939-シート!$C$87>=0,シート!$X$87-C939>=0),1,0)","v":{"$error":"#VALUE!"}},{"$error":"#N/A"},{"$error":"#N/A"},{"$f":"IF(AND(C939-シート!$CP$87>=0,シート!$DK$87-C939>=0),1,0)","v":{"$error":"#VALUE!"}},{"$error":"#N/A"},{"$error":"#N/A"},"1902-07-24"]
[938,93,"1902-07-25",{"$f":"+IF(AND(C940-シート!$BV$67>=0,シート!$AI$19-C940>=0),1,0)","v":{"$error":"#N/A"}},{"$f":"IF(AND(C940-シート!$C$87>=0,シート!$X$87-C940>=0),1,0)","v":{"$error":"#VALUE!"}},{"$error":"#N/A"},{"$error":"#N/A"},{"$f":"IF(AND(C940-シート!$CP$87>=0,シート!$DK$87-C940>=0),1,0)","v":{"$error":"#VALUE!"}},{"$error":"#N/A"},{"$error":"#N/A"},"1902-07-25"]
[939,93,"1902-07-26",{"$f":"+IF(AND(C941-シート!$BV$67>=0,シート!$AI$19-C941>=0),1,0)","v":{"$error":"#N/A"}},{"$f":"IF(AND(C941-シート!$C$87>=0,シート!$X$87-C941>=0),1,0)","v":{"$error":"#VALUE!"}},{"$error":"#N/A"},{"$error":"#N/A"},{"$f":"IF(AND(C941-シート!$CP$87>=0,シート!$DK$87-C941>=0),1,0)","v":{"$error":"#VALUE!"}},{"$error":"#N/A"},{"$error":"#N/A"},"1902-07-26"]
[940,93,"1902-07-27",{"$f":"+IF(AND(C942-シート!$BV$67>=0,シート!$AI$19-C942>=0),1,0)","v":{"$error":"#N/A"}},{"$f":"IF(AND(C942-シート!$C$87>=0,シート!$X$87-C942>=0),1,0)","v":{"$error":"#VALUE!"}},{"$error":"#N/A"},{"$error":"#N/A"},{"$f":"IF(AND(C942-シート!$CP$87>=0,シート!$DK$87-C942>=0),1,0)","v":{"$error":"#VALUE!"}},{"$error":"#N/A"},{"$error":"#N/A"},"1902-07-27"]
[941,93,"1902-07-28",{"$f":"+IF(AND(C943-シート!$BV$67>=0,シート!$AI$19-C943>=0),1,0)","v":{"$error":"#N/A"}},{"$f":"IF(AND(C943-シート!$C$87>=0,シート!$X$87-C943>=0),1,0)","v":{"$error":"#VALUE!"}},{"$error":"#N/A"},{"$error":"#N/A"},{"$f":"IF(AND(C943-シート!$CP$87>=0,シート!$DK$87-C943>=0),1,0)","v":{"$error":"#VALUE!"}},{"$error":"#N/A"},{"$error":"#N/A"},"1902-07-28"]
[942,93,"1902-07-29",{"$f":"+IF(AND(C944-シート!$BV$67>=0,シート!$AI$19-C944>=0),1,0)","v":{"$error":"#N/A"}},{"$f":"IF(AND(C944-シート!$C$87>=0,シート!$X$87-C944>=0),1,0)","v":{"$error":"#VALUE!"}},{"$error":"#N/A"},{"$error":"#N/A"},{"$f":"IF(AND(C944-シート!$CP$87>=0,シート!$DK$87-C944>=0),1,0)","v":{"$error":"#VALUE!"}},{"$error":"#N/A"},{"$error":"#N/A"},"1902-07-29"]
[943,93,"1902-07-30",{"$f":"+IF(AND(C945-シート!$BV$67>=0,シート!$AI$19-C945>=0),1,0)","v":{"$error":"#N/A"}},{"$f":"IF(AND(C945-シート!$C$87>=0,シート!$X$87-C945>=0),1,0)","v":{"$error":"#VALUE!"}},{"$error":"#N/A"},{"$error":"#N/A"},{"$f":"IF(AND(C945-シート!$CP$87>=0,シート!$DK$87-C945>=0),1,0)","v":{"$error":"#VALUE!"}},{"$error":"#N/A"},{"$error":"#N/A"},"1902-07-30"]
[944,93,"1902-07-31",{"$f":"+IF(AND(C946-シート!$BV$67>=0,シート!$AI$19-C946>=0),1,0)","v":{"$error":"#N/A"}},{"$f":"IF(AND(C946-シート!$C$87>=0,シート!$X$87-C946>=0),1,0)","v":{"$error":"#VALUE!"}},{"$error":"#N/A"},{"$error":"#N/A"},{"$f":"IF(AND(C946-シート!$CP$87>=0,シート!$DK$87-C946>=0),1,0)","v":{"$error":"#VALUE!"}},{"$error":"#N/A"},{"$error":"#N/A"},"1902-07-31"]
[945,94,"1902-08-01",{"$f":"+IF(AND(C947-シート!$BV$67>=0,シート!$AI$19-C947>=0),1,0)","v":{"$error":"#N/A"}},{"$f":"IF(AND(C947-シート!$C$87>=0,シート!$X$87-C947>=0),1,0)","v":{"$error":"#VALUE!"}},{"$error":"#N/A"},{"$error":"#N/A"},{"$f":"IF(AND(C947-シート!$CP$87>=0,シート!$DK$87-C947>=0),1,0)","v":{"$error":"#VALUE!"}},{"$error":"#N/A"},{"$error":"#N/A"},"1902-08-01"]
[946,94,"1902-08-02",{"$f":"+IF(AND(C948-シート!$BV$67>=0,シート!$AI$19-C948>=0),1,0)","v":{"$error":"#N/A"}},{"$f":"IF(AND(C948-シート!$C$87>=0,シート!$X$87-C948>=0),1,0)","v":{"$error":"#VALUE!"}},{"$error":"#N/A"},{"$error":"#N/A"},{"$f":"IF(AND(C948-シート!$CP$87>=0,シート!$DK$87-C948>=0),1,0)","v":{"$error":"#VALUE!"}},{"$error":"#N/A"},{"$error":"#N/A"},"1902-08-02"]
[947,94,"1902-08-03",{"$f":"+IF(AND(C949-シート!$BV$67>=0,シート!$AI$19-C949>=0),1,0)","v":{"$error":"#N/A"}},{"$f":"IF(AND(C949-シート!$C$87>=0,シート!$X$87-C949>=0),1,0)","v":{"$error":"#VALUE!"}},{"$error":"#N/A"},{"$error":"#N/A"},{"$f":"IF(AND(C949-シート!$CP$87>=0,シート!$DK$87-C949>=0),1,0)","v":{"$error":"#VALUE!"}},{"$error":"#N/A"},{"$error":"#N/A"},"1902-08-03"]
[948,94,"1902-08-04",{"$f":"+IF(AND(C950-シート!$BV$67>=0,シート!$AI$19-C950>=0),1,0)","v":{"$error":"#N/A"}},{"$f":"IF(AND(C950-シート!$C$87>=0,シート!$X$87-C950>=0),1,0)","v":{"$error":"#VALUE!"}},{"$error":"#N/A"},{"$error":"#N/A"},{"$f":"IF(AND(C950-シート!$CP$87>=0,シート!$DK$87-C950>=0),1,0)","v":{"$error":"#VALUE!"}},{"$error":"#N/A"},{"$error":"#N/A"},"1902-08-04"]
[949,94,"1902-08-05",{"$f":"+IF(AND(C951-シート!$BV$67>=0,シート!$AI$19-C951>=0),1,0)","v":{"$error":"#N/A"}},{"$f":"IF(AND(C951-シート!$C$87>=0,シート!$X$87-C951>=0),1,0)","v":{"$error":"#VALUE!"}},{"$error":"#N/A"},{"$error":"#N/A"},{"$f":"IF(AND(C951-シート!$CP$87>=0,シート!$DK$87-C951>=0),1,0)","v":{"$error":"#VALUE!"}},{"$error":"#N/A"},{"$error":"#N/A"},"1902-08-05"]
[950,94,"1902-08-06",{"$f":"+IF(AND(C952-シート!$BV$67>=0,シート!$AI$19-C952>=0),1,0)","v":{"$error":"#N/A"}},{"$f":"IF(AND(C952-シート!$C$87>=0,シート!$X$87-C952>=0),1,0)","v":{"$error":"#VALUE!"}},{"$error":"#N/A"},{"$error":"#N/A"},{"$f":"IF(AND(C952-シート!$CP$87>=0,シート!$DK$87-C952>=0),1,0)","v":{"$error":"#VALUE!"}},{"$error":"#N/A"},{"$error":"#N/A"},"1902-08-06"]
[951,94,"1902-08-07",{"$f":"+IF(AND(C953-シート!$BV$67>=0,シート!$AI$19-C953>=0),1,0)","v":{"$error":"#N/A"}},{"$f":"IF(AND(C953-シート!$C$87>=0,シート!$X$87-C953>=0),1,0)","v":{"$error":"#VALUE!"}},{"$error":"#N/A"},{"$error":"#N/A"},{"$f":"IF(AND(C953-シート!$CP$87>=0,シート!$DK$87-C953>=0),1,0)","v":{"$error":"#VALUE!"}},{"$error":"#N/A"},{"$error":"#N/A"},"1902-08-07"]
[952,94,"1902-08-08",{"$f":"+IF(AND(C954-シート!$BV$67>=0,シート!$AI$19-C954>=0),1,0)","v":{"$error":"#N/A"}},{"$f":"IF(AND(C954-シート!$C$87>=0,シート!$X$87-C954>=0),1,0)","v":{"$error":"#VALUE!"}},{"$error":"#N/A"},{"$error":"#N/A"},{"$f":"IF(AND(C954-シート!$CP$87>=0,シート!$DK$87-C954>=0),1,0)","v":{"$error":"#VALUE!"}},{"$error":"#N/A"},{"$error":"#N/A"},"1902-08-08"]
[953,94,"1902-08-09",{"$f":"+IF(AND(C955-シート!$BV$67>=0,シート!$AI$19-C955>=0),1,0)","v":{"$error":"#N/A"}},{"$f":"IF(AND(C955-シート!$C$87>=0,シート!$X$87-C955>=0),1,0)","v":{"$error":"#VALUE!"}},{"$error":"#N/A"},{"$error":"#N/A"},{"$f":"IF(AND(C955-シート!$CP$87>=0,シート!$DK$87-C955>=0),1,0)","v":{"$error":"#VALUE!"}},{"$error":"#N/A"},{"$error":"#N/A"},"1902-08-09"]
[954,94,"1902-08-10",{"$f":"+IF(AND(C956-シート!$BV$67>=0,シート!$AI$19-C956>=0),1,0)","v":{"$error":"#N/A"}},{"$f":"IF(AND(C956-シート!$C$87>=0,シート!$X$87-C956>=0),1,0)","v":{"$error":"#VALUE!"}},{"$error":"#N/A"},{"$error":"#N/A"},{"$f":"IF(AND(C956-シート!$CP$87>=0,シート!$DK$87-C956>=0),1,0)","v":{"$error":"#VALUE!"}},{"$error":"#N/A"},{"$error":"#N/A"},"1902-08-10"]
[955,95,"1902-08-11",{"$f":"+IF(AND(C957-シート!$BV$67>=0,シート!$AI$19-C957>=0),1,0)","v":{"$error":"#N/A"}},{"$f":"IF(AND(C957-シート!$C$87>=0,シート!$X$87-C957>=0),1,0)","v":{"$error":"#VALUE!"}},{"$error":"#N/A"},{"$error":"#N/A"},{"$f":"IF(AND(C957-シート!$CP$87>=0,シート!$DK$87-C957>=0),1,0)","v":{"$error":"#VALUE!"}},{"$error":"#N/A"},{"$error":"#N/A"},"1902-08-11"]
[956,95,"1902-08-12",{"$f":"+IF(AND(C958-シート!$BV$67>=0,シート!$AI$19-C958>=0),1,0)","v":{"$error":"#N/A"}},{"$f":"IF(AND(C958-シート!$C$87>=0,シート!$X$87-C958>=0),1,0)","v":{"$error":"#VALUE!"}},{"$error":"#N/A"},{"$error":"#N/A"},{"$f":"IF(AND(C958-シート!$CP$87>=0,シート!$DK$87-C958>=0),1,0)","v":{"$error":"#VALUE!"}},{"$error":"#N/A"},{"$error":"#N/A"},"1902-08-12"]
[957,95,"1902-08-13",{"$f":"+IF(AND(C959-シート!$BV$67>=0,シート!$AI$19-C959>=0),1,0)","v":{"$error":"#N/A"}},{"$f":"IF(AND(C959-シート!$C$87>=0,シート!$X$87-C959>=0),1,0)","v":{"$error":"#VALUE!"}},{"$error":"#N/A"},{"$error":"#N/A"},{"$f":"IF(AND(C959-シート!$CP$87>=0,シート!$DK$87-C959>=0),1,0)","v":{"$error":"#VALUE!"}},{"$error":"#N/A"},{"$error":"#N/A"},"1902-08-13"]
[958,95,"1902-08-14",{"$f":"+IF(AND(C960-シート!$BV$67>=0,シート!$AI$19-C960>=0),1,0)","v":{"$error":"#N/A"}},{"$f":"IF(AND(C960-シート!$C$87>=0,シート!$X$87-C960>=0),1,0)","v":{"$error":"#VALUE!"}},{"$error":"#N/A"},{"$error":"#N/A"},{"$f":"IF(AND(C960-シート!$CP$87>=0,シート!$DK$87-C960>=0),1,0)","v":{"$error":"#VALUE!"}},{"$error":"#N/A"},{"$error":"#N/A"},"1902-08-14"]
[959,95,"1902-08-15",{"$f":"+IF(AND(C961-シート!$BV$67>=0,シート!$AI$19-C961>=0),1,0)","v":{"$error":"#N/A"}},{"$f":"IF(AND(C961-シート!$C$87>=0,シート!$X$87-C961>=0),1,0)","v":{"$error":"#VALUE!"}},{"$error":"#N/A"},{"$error":"#N/A"},{"$f":"IF(AND(C961-シート!$CP$87>=0,シート!$DK$87-C961>=0),1,0)","v":{"$error":"#VALUE!"}},{"$error":"#N/A"},{"$error":"#N/A"},"1902-08-15"]
[960,95,"1902-08-16",{"$f":"+IF(AND(C962-シート!$BV$67>=0,シート!$AI$19-C962>=0),1,0)","v":{"$error":"#N/A"}},{"$f":"IF(AND(C962-シート!$C$87>=0,シート!$X$87-C962>=0),1,0)","v":{"$error":"#VALUE!"}},{"$error":"#N/A"},{"$error":"#N/A"},{"$f":"IF(AND(C962-シート!$CP$87>=0,シート!$DK$87-C962>=0),1,0)","v":{"$error":"#VALUE!"}},{"$error":"#N/A"},{"$error":"#N/A"},"1902-08-16"]
[961,95,"1902-08-17",{"$f":"+IF(AND(C963-シート!$BV$67>=0,シート!$AI$19-C963>=0),1,0)","v":{"$error":"#N/A"}},{"$f":"IF(AND(C963-シート!$C$87>=0,シート!$X$87-C963>=0),1,0)","v":{"$error":"#VALUE!"}},{"$error":"#N/A"},{"$error":"#N/A"},{"$f":"IF(AND(C963-シート!$CP$87>=0,シート!$DK$87-C963>=0),1,0)","v":{"$error":"#VALUE!"}},{"$error":"#N/A"},{"$error":"#N/A"},"1902-08-17"]
[962,95,"1902-08-18",{"$f":"+IF(AND(C964-シート!$BV$67>=0,シート!$AI$19-C964>=0),1,0)","v":{"$error":"#N/A"}},{"$f":"IF(AND(C964-シート!$C$87>=0,シート!$X$87-C964>=0),1,0)","v":{"$error":"#VALUE!"}},{"$f":"IF(+D964+E964=2,1,0)","v":{"$error":"#N/A"}},{"$error":"#N/A"},{"$f":"IF(AND(C964-シート!$CP$87>=0,シート!$DK$87-C964>=0),1,0)","v":{"$error":"#VALUE!"}},{"$f":"IF(+D964+H964=2,1,0)","v":{"$error":"#N/A"}},{"$error":"#N/A"},{"$f":"+C964","v":"1902-08-18"}]
[{"$f":"+A964+1","v":963},95,{"$f":"+C964+1","v":"1902-08-19"},{"$f":"+IF(AND(C965-シート!$BV$67>=0,シート!$AI$19-C965>=0),1,0)","v":{"$error":"#N/A"}},{"$f":"IF(AND(C965-シート!$C$87>=0,シート!$X$87-C965>=0),1,0)","v":{"$error":"#VALUE!"}},{"$error":"#N/A"},{"$f":"+G964+F965","v":{"$error":"#N/A"}},{"$f":"IF(AND(C965-シート!$CP$87>=0,シート!$DK$87-C965>=0),1,0)","v":{"$error":"#VALUE!"}},{"$error":"#N/A"},{"$f":"+J964+I965","v":{"$error":"#N/A"}},"1902-08-19"]
[964,95,"1902-08-20",{"$f":"+IF(AND(C966-シート!$BV$67>=0,シート!$AI$19-C966>=0),1,0)","v":{"$error":"#N/A"}},{"$f":"IF(AND(C966-シート!$C$87>=0,シート!$X$87-C966>=0),1,0)","v":{"$error":"#VALUE!"}},{"$error":"#N/A"},{"$error":"#N/A"},{"$f":"IF(AND(C966-シート!$CP$87>=0,シート!$DK$87-C966>=0),1,0)","v":{"$error":"#VALUE!"}},{"$error":"#N/A"},{"$error":"#N/A"},"1902-08-20"]
[965,96,"1902-08-21",{"$f":"+IF(AND(C967-シート!$BV$67>=0,シート!$AI$19-C967>=0),1,0)","v":{"$error":"#N/A"}},{"$f":"IF(AND(C967-シート!$C$87>=0,シート!$X$87-C967>=0),1,0)","v":{"$error":"#VALUE!"}},{"$error":"#N/A"},{"$error":"#N/A"},{"$f":"IF(AND(C967-シート!$CP$87>=0,シート!$DK$87-C967>=0),1,0)","v":{"$error":"#VALUE!"}},{"$error":"#N/A"},{"$error":"#N/A"},"1902-08-21"]
[966,96,"1902-08-22",{"$f":"+IF(AND(C968-シート!$BV$67>=0,シート!$AI$19-C968>=0),1,0)","v":{"$error":"#N/A"}},{"$f":"IF(AND(C968-シート!$C$87>=0,シート!$X$87-C968>=0),1,0)","v":{"$error":"#VALUE!"}},{"$error":"#N/A"},{"$error":"#N/A"},{"$f":"IF(AND(C968-シート!$CP$87>=0,シート!$DK$87-C968>=0),1,0)","v":{"$error":"#VALUE!"}},{"$error":"#N/A"},{"$error":"#N/A"},"1902-08-22"]
[967,96,"1902-08-23",{"$f":"+IF(AND(C969-シート!$BV$67>=0,シート!$AI$19-C969>=0),1,0)","v":{"$error":"#N/A"}},{"$f":"IF(AND(C969-シート!$C$87>=0,シート!$X$87-C969>=0),1,0)","v":{"$error":"#VALUE!"}},{"$error":"#N/A"},{"$error":"#N/A"},{"$f":"IF(AND(C969-シート!$CP$87>=0,シート!$DK$87-C969>=0),1,0)","v":{"$error":"#VALUE!"}},{"$error":"#N/A"},{"$error":"#N/A"},"1902-08-23"]
[968,96,"1902-08-24",{"$f":"+IF(AND(C970-シート!$BV$67>=0,シート!$AI$19-C970>=0),1,0)","v":{"$error":"#N/A"}},{"$f":"IF(AND(C970-シート!$C$87>=0,シート!$X$87-C970>=0),1,0)","v":{"$error":"#VALUE!"}},{"$error":"#N/A"},{"$error":"#N/A"},{"$f":"IF(AND(C970-シート!$CP$87>=0,シート!$DK$87-C970>=0),1,0)","v":{"$error":"#VALUE!"}},{"$error":"#N/A"},{"$error":"#N/A"},"1902-08-24"]
[969,96,"1902-08-25",{"$f":"+IF(AND(C971-シート!$BV$67>=0,シート!$AI$19-C971>=0),1,0)","v":{"$error":"#N/A"}},{"$f":"IF(AND(C971-シート!$C$87>=0,シート!$X$87-C971>=0),1,0)","v":{"$error":"#VALUE!"}},{"$error":"#N/A"},{"$error":"#N/A"},{"$f":"IF(AND(C971-シート!$CP$87>=0,シート!$DK$87-C971>=0),1,0)","v":{"$error":"#VALUE!"}},{"$error":"#N/A"},{"$error":"#N/A"},"1902-08-25"]
[970,96,"1902-08-26",{"$f":"+IF(AND(C972-シート!$BV$67>=0,シート!$AI$19-C972>=0),1,0)","v":{"$error":"#N/A"}},{"$f":"IF(AND(C972-シート!$C$87>=0,シート!$X$87-C972>=0),1,0)","v":{"$error":"#VALUE!"}},{"$error":"#N/A"},{"$error":"#N/A"},{"$f":"IF(AND(C972-シート!$CP$87>=0,シート!$DK$87-C972>=0),1,0)","v":{"$error":"#VALUE!"}},{"$error":"#N/A"},{"$error":"#N/A"},"1902-08-26"]
[971,96,"1902-08-27",{"$f":"+IF(AND(C973-シート!$BV$67>=0,シート!$AI$19-C973>=0),1,0)","v":{"$error":"#N/A"}},{"$f":"IF(AND(C973-シート!$C$87>=0,シート!$X$87-C973>=0),1,0)","v":{"$error":"#VALUE!"}},{"$error":"#N/A"},{"$error":"#N/A"},{"$f":"IF(AND(C973-シート!$CP$87>=0,シート!$DK$87-C973>=0),1,0)","v":{"$error":"#VALUE!"}},{"$error":"#N/A"},{"$error":"#N/A"},"1902-08-27"]
[972,96,"1902-08-28",{"$f":"+IF(AND(C974-シート!$BV$67>=0,シート!$AI$19-C974>=0),1,0)","v":{"$error":"#N/A"}},{"$f":"IF(AND(C974-シート!$C$87>=0,シート!$X$87-C974>=0),1,0)","v":{"$error":"#VALUE!"}},{"$error":"#N/A"},{"$error":"#N/A"},{"$f":"IF(AND(C974-シート!$CP$87>=0,シート!$DK$87-C974>=0),1,0)","v":{"$error":"#VALUE!"}},{"$error":"#N/A"},{"$error":"#N/A"},"1902-08-28"]
[973,96,"1902-08-29",{"$f":"+IF(AND(C975-シート!$BV$67>=0,シート!$AI$19-C975>=0),1,0)","v":{"$error":"#N/A"}},{"$f":"IF(AND(C975-シート!$C$87>=0,シート!$X$87-C975>=0),1,0)","v":{"$error":"#VALUE!"}},{"$error":"#N/A"},{"$error":"#N/A"},{"$f":"IF(AND(C975-シート!$CP$87>=0,シート!$DK$87-C975>=0),1,0)","v":{"$error":"#VALUE!"}},{"$error":"#N/A"},{"$error":"#N/A"},"1902-08-29"]
[974,96,"1902-08-30",{"$f":"+IF(AND(C976-シート!$BV$67>=0,シート!$AI$19-C976>=0),1,0)","v":{"$error":"#N/A"}},{"$f":"IF(AND(C976-シート!$C$87>=0,シート!$X$87-C976>=0),1,0)","v":{"$error":"#VALUE!"}},{"$error":"#N/A"},{"$error":"#N/A"},{"$f":"IF(AND(C976-シート!$CP$87>=0,シート!$DK$87-C976>=0),1,0)","v":{"$error":"#VALUE!"}},{"$error":"#N/A"},{"$error":"#N/A"},"1902-08-30"]
[975,97,"1902-08-31",{"$f":"+IF(AND(C977-シート!$BV$67>=0,シート!$AI$19-C977>=0),1,0)","v":{"$error":"#N/A"}},{"$f":"IF(AND(C977-シート!$C$87>=0,シート!$X$87-C977>=0),1,0)","v":{"$error":"#VALUE!"}},{"$error":"#N/A"},{"$error":"#N/A"},{"$f":"IF(AND(C977-シート!$CP$87>=0,シート!$DK$87-C977>=0),1,0)","v":{"$error":"#VALUE!"}},{"$error":"#N/A"},{"$error":"#N/A"},"1902-08-31"]
[976,97,"1902-09-01",{"$f":"+IF(AND(C978-シート!$BV$67>=0,シート!$AI$19-C978>=0),1,0)","v":{"$error":"#N/A"}},{"$f":"IF(AND(C978-シート!$C$87>=0,シート!$X$87-C978>=0),1,0)","v":{"$error":"#VALUE!"}},{"$error":"#N/A"},{"$error":"#N/A"},{"$f":"IF(AND(C978-シート!$CP$87>=0,シート!$DK$87-C978>=0),1,0)","v":{"$error":"#VALUE!"}},{"$error":"#N/A"},{"$error":"#N/A"},"1902-09-01"]
[977,97,"1902-09-02",{"$f":"+IF(AND(C979-シート!$BV$67>=0,シート!$AI$19-C979>=0),1,0)","v":{"$error":"#N/A"}},{"$f":"IF(AND(C979-シート!$C$87>=0,シート!$X$87-C979>=0),1,0)","v":{"$error":"#VALUE!"}},{"$error":"#N/A"},{"$error":"#N/A"},{"$f":"IF(AND(C979-シート!$CP$87>=0,シート!$DK$87-C979>=0),1,0)","v":{"$error":"#VALUE!"}},{"$error":"#N/A"},{"$error":"#N/A"},"1902-09-02"]
[978,97,"1902-09-03",{"$f":"+IF(AND(C980-シート!$BV$67>=0,シート!$AI$19-C980>=0),1,0)","v":{"$error":"#N/A"}},{"$f":"IF(AND(C980-シート!$C$87>=0,シート!$X$87-C980>=0),1,0)","v":{"$error":"#VALUE!"}},{"$error":"#N/A"},{"$error":"#N/A"},{"$f":"IF(AND(C980-シート!$CP$87>=0,シート!$DK$87-C980>=0),1,0)","v":{"$error":"#VALUE!"}},{"$error":"#N/A"},{"$error":"#N/A"},"1902-09-03"]
[979,97,"1902-09-04",{"$f":"+IF(AND(C981-シート!$BV$67>=0,シート!$AI$19-C981>=0),1,0)","v":{"$error":"#N/A"}},{"$f":"IF(AND(C981-シート!$C$87>=0,シート!$X$87-C981>=0),1,0)","v":{"$error":"#VALUE!"}},{"$error":"#N/A"},{"$error":"#N/A"},{"$f":"IF(AND(C981-シート!$CP$87>=0,シート!$DK$87-C981>=0),1,0)","v":{"$error":"#VALUE!"}},{"$error":"#N/A"},{"$error":"#N/A"},"1902-09-04"]
[980,97,"1902-09-05",{"$f":"+IF(AND(C982-シート!$BV$67>=0,シート!$AI$19-C982>=0),1,0)","v":{"$error":"#N/A"}},{"$f":"IF(AND(C982-シート!$C$87>=0,シート!$X$87-C982>=0),1,0)","v":{"$error":"#VALUE!"}},{"$error":"#N/A"},{"$error":"#N/A"},{"$f":"IF(AND(C982-シート!$CP$87>=0,シート!$DK$87-C982>=0),1,0)","v":{"$error":"#VALUE!"}},{"$error":"#N/A"},{"$error":"#N/A"},"1902-09-05"]
[981,97,"1902-09-06",{"$f":"+IF(AND(C983-シート!$BV$67>=0,シート!$AI$19-C983>=0),1,0)","v":{"$error":"#N/A"}},{"$f":"IF(AND(C983-シート!$C$87>=0,シート!$X$87-C983>=0),1,0)","v":{"$error":"#VALUE!"}},{"$error":"#N/A"},{"$error":"#N/A"},{"$f":"IF(AND(C983-シート!$CP$87>=0,シート!$DK$87-C983>=0),1,0)","v":{"$error":"#VALUE!"}},{"$error":"#N/A"},{"$error":"#N/A"},"1902-09-06"]
[982,97,"1902-09-07",{"$f":"+IF(AND(C984-シート!$BV$67>=0,シート!$AI$19-C984>=0),1,0)","v":{"$error":"#N/A"}},{"$f":"IF(AND(C984-シート!$C$87>=0,シート!$X$87-C984>=0),1,0)","v":{"$error":"#VALUE!"}},{"$error":"#N/A"},{"$error":"#N/A"},{"$f":"IF(AND(C984-シート!$CP$87>=0,シート!$DK$87-C984>=0),1,0)","v":{"$error":"#VALUE!"}},{"$error":"#N/A"},{"$error":"#N/A"},"1902-09-07"]
[983,97,"1902-09-08",{"$f":"+IF(AND(C985-シート!$BV$67>=0,シート!$AI$19-C985>=0),1,0)","v":{"$error":"#N/A"}},{"$f":"IF(AND(C985-シート!$C$87>=0,シート!$X$87-C985>=0),1,0)","v":{"$error":"#VALUE!"}},{"$error":"#N/A"},{"$error":"#N/A"},{"$f":"IF(AND(C985-シート!$CP$87>=0,シート!$DK$87-C985>=0),1,0)","v":{"$error":"#VALUE!"}},{"$error":"#N/A"},{"$error":"#N/A"},"1902-09-08"]
[984,97,"1902-09-09",{"$f":"+IF(AND(C986-シート!$BV$67>=0,シート!$AI$19-C986>=0),1,0)","v":{"$error":"#N/A"}},{"$f":"IF(AND(C986-シート!$C$87>=0,シート!$X$87-C986>=0),1,0)","v":{"$error":"#VALUE!"}},{"$error":"#N/A"},{"$error":"#N/A"},{"$f":"IF(AND(C986-シート!$CP$87>=0,シート!$DK$87-C986>=0),1,0)","v":{"$error":"#VALUE!"}},{"$error":"#N/A"},{"$error":"#N/A"},"1902-09-09"]
[985,98,"1902-09-10",{"$f":"+IF(AND(C987-シート!$BV$67>=0,シート!$AI$19-C987>=0),1,0)","v":{"$error":"#N/A"}},{"$f":"IF(AND(C987-シート!$C$87>=0,シート!$X$87-C987>=0),1,0)","v":{"$error":"#VALUE!"}},{"$error":"#N/A"},{"$error":"#N/A"},{"$f":"IF(AND(C987-シート!$CP$87>=0,シート!$DK$87-C987>=0),1,0)","v":{"$error":"#VALUE!"}},{"$error":"#N/A"},{"$error":"#N/A"},"1902-09-10"]
[986,98,"1902-09-11",{"$f":"+IF(AND(C988-シート!$BV$67>=0,シート!$AI$19-C988>=0),1,0)","v":{"$error":"#N/A"}},{"$f":"IF(AND(C988-シート!$C$87>=0,シート!$X$87-C988>=0),1,0)","v":{"$error":"#VALUE!"}},{"$error":"#N/A"},{"$error":"#N/A"},{"$f":"IF(AND(C988-シート!$CP$87>=0,シート!$DK$87-C988>=0),1,0)","v":{"$error":"#VALUE!"}},{"$error":"#N/A"},{"$error":"#N/A"},"1902-09-11"]
[987,98,"1902-09-12",{"$f":"+IF(AND(C989-シート!$BV$67>=0,シート!$AI$19-C989>=0),1,0)","v":{"$error":"#N/A"}},{"$f":"IF(AND(C989-シート!$C$87>=0,シート!$X$87-C989>=0),1,0)","v":{"$error":"#VALUE!"}},{"$error":"#N/A"},{"$error":"#N/A"},{"$f":"IF(AND(C989-シート!$CP$87>=0,シート!$DK$87-C989>=0),1,0)","v":{"$error":"#VALUE!"}},{"$error":"#N/A"},{"$error":"#N/A"},"1902-09-12"]
[988,98,"1902-09-13",{"$f":"+IF(AND(C990-シート!$BV$67>=0,シート!$AI$19-C990>=0),1,0)","v":{"$error":"#N/A"}},{"$f":"IF(AND(C990-シート!$C$87>=0,シート!$X$87-C990>=0),1,0)","v":{"$error":"#VALUE!"}},{"$error":"#N/A"},{"$error":"#N/A"},{"$f":"IF(AND(C990-シート!$CP$87>=0,シート!$DK$87-C990>=0),1,0)","v":{"$error":"#VALUE!"}},{"$error":"#N/A"},{"$error":"#N/A"},"1902-09-13"]
[989,98,"1902-09-14",{"$f":"+IF(AND(C991-シート!$BV$67>=0,シート!$AI$19-C991>=0),1,0)","v":{"$error":"#N/A"}},{"$f":"IF(AND(C991-シート!$C$87>=0,シート!$X$87-C991>=0),1,0)","v":{"$error":"#VALUE!"}},{"$error":"#N/A"},{"$error":"#N/A"},{"$f":"IF(AND(C991-シート!$CP$87>=0,シート!$DK$87-C991>=0),1,0)","v":{"$error":"#VALUE!"}},{"$error":"#N/A"},{"$error":"#N/A"},"1902-09-14"]
[990,98,"1902-09-15",{"$f":"+IF(AND(C992-シート!$BV$67>=0,シート!$AI$19-C992>=0),1,0)","v":{"$error":"#N/A"}},{"$f":"IF(AND(C992-シート!$C$87>=0,シート!$X$87-C992>=0),1,0)","v":{"$error":"#VALUE!"}},{"$error":"#N/A"},{"$error":"#N/A"},{"$f":"IF(AND(C992-シート!$CP$87>=0,シート!$DK$87-C992>=0),1,0)","v":{"$error":"#VALUE!"}},{"$error":"#N/A"},{"$error":"#N/A"},"1902-09-15"]
[991,98,"1902-09-16",{"$f":"+IF(AND(C993-シート!$BV$67>=0,シート!$AI$19-C993>=0),1,0)","v":{"$error":"#N/A"}},{"$f":"IF(AND(C993-シート!$C$87>=0,シート!$X$87-C993>=0),1,0)","v":{"$error":"#VALUE!"}},{"$error":"#N/A"},{"$error":"#N/A"},{"$f":"IF(AND(C993-シート!$CP$87>=0,シート!$DK$87-C993>=0),1,0)","v":{"$error":"#VALUE!"}},{"$error":"#N/A"},{"$error":"#N/A"},"1902-09-16"]
[992,98,"1902-09-17",{"$f":"+IF(AND(C994-シート!$BV$67>=0,シート!$AI$19-C994>=0),1,0)","v":{"$error":"#N/A"}},{"$f":"IF(AND(C994-シート!$C$87>=0,シート!$X$87-C994>=0),1,0)","v":{"$error":"#VALUE!"}},{"$error":"#N/A"},{"$error":"#N/A"},{"$f":"IF(AND(C994-シート!$CP$87>=0,シート!$DK$87-C994>=0),1,0)","v":{"$error":"#VALUE!"}},{"$error":"#N/A"},{"$error":"#N/A"},"1902-09-17"]
[993,98,"1902-09-18",{"$f":"+IF(AND(C995-シート!$BV$67>=0,シート!$AI$19-C995>=0),1,0)","v":{"$error":"#N/A"}},{"$f":"IF(AND(C995-シート!$C$87>=0,シート!$X$87-C995>=0),1,0)","v":{"$error":"#VALUE!"}},{"$error":"#N/A"},{"$error":"#N/A"},{"$f":"IF(AND(C995-シート!$CP$87>=0,シート!$DK$87-C995>=0),1,0)","v":{"$error":"#VALUE!"}},{"$error":"#N/A"},{"$error":"#N/A"},"1902-09-18"]
[994,98,"1902-09-19",{"$f":"+IF(AND(C996-シート!$BV$67>=0,シート!$AI$19-C996>=0),1,0)","v":{"$error":"#N/A"}},{"$f":"IF(AND(C996-シート!$C$87>=0,シート!$X$87-C996>=0),1,0)","v":{"$error":"#VALUE!"}},{"$error":"#N/A"},{"$error":"#N/A"},{"$f":"IF(AND(C996-シート!$CP$87>=0,シート!$DK$87-C996>=0),1,0)","v":{"$error":"#VALUE!"}},{"$error":"#N/A"},{"$error":"#N/A"},"1902-09-19"]
[995,98,"1902-09-20",{"$f":"+IF(AND(C997-シート!$BV$67>=0,シート!$AI$19-C997>=0),1,0)","v":{"$error":"#N/A"}},{"$f":"IF(AND(C997-シート!$C$87>=0,シート!$X$87-C997>=0),1,0)","v":{"$error":"#VALUE!"}},{"$error":"#N/A"},{"$error":"#N/A"},{"$f":"IF(AND(C997-シート!$CP$87>=0,シート!$DK$87-C997>=0),1,0)","v":{"$error":"#VALUE!"}},{"$error":"#N/A"},{"$error":"#N/A"},"1902-09-20"]
[996,99,"1902-09-21",{"$f":"+IF(AND(C998-シート!$BV$67>=0,シート!$AI$19-C998>=0),1,0)","v":{"$error":"#N/A"}},{"$f":"IF(AND(C998-シート!$C$87>=0,シート!$X$87-C998>=0),1,0)","v":{"$error":"#VALUE!"}},{"$error":"#N/A"},{"$error":"#N/A"},{"$f":"IF(AND(C998-シート!$CP$87>=0,シート!$DK$87-C998>=0),1,0)","v":{"$error":"#VALUE!"}},{"$error":"#N/A"},{"$error":"#N/A"},"1902-09-21"]
[997,99,"1902-09-22",{"$f":"+IF(AND(C999-シート!$BV$67>=0,シート!$AI$19-C999>=0),1,0)","v":{"$error":"#N/A"}},{"$f":"IF(AND(C999-シート!$C$87>=0,シート!$X$87-C999>=0),1,0)","v":{"$error":"#VALUE!"}},{"$error":"#N/A"},{"$error":"#N/A"},{"$f":"IF(AND(C999-シート!$CP$87>=0,シート!$DK$87-C999>=0),1,0)","v":{"$error":"#VALUE!"}},{"$error":"#N/A"},{"$error":"#N/A"},"1902-09-22"]
[998,99,"1902-09-23",{"$f":"+IF(AND(C1000-シート!$BV$67>=0,シート!$AI$19-C1000>=0),1,0)","v":{"$error":"#N/A"}},{"$f":"IF(AND(C1000-シート!$C$87>=0,シート!$X$87-C1000>=0),1,0)","v":{"$error":"#VALUE!"}},{"$error":"#N/A"},{"$error":"#N/A"},{"$f":"IF(AND(C1000-シート!$CP$87>=0,シート!$DK$87-C1000>=0),1,0)","v":{"$error":"#VALUE!"}},{"$error":"#N/A"},{"$error":"#N/A"},"1902-09-23"]
[999,99,"1902-09-24",{"$f":"+IF(AND(C1001-シート!$BV$67>=0,シート!$AI$19-C1001>=0),1,0)","v":{"$error":"#N/A"}},{"$f":"IF(AND(C1001-シート!$C$87>=0,シート!$X$87-C1001>=0),1,0)","v":{"$error":"#VALUE!"}},{"$error":"#N/A"},{"$error":"#N/A"},{"$f":"IF(AND(C1001-シート!$CP$87>=0,シート!$DK$87-C1001>=0),1,0)","v":{"$error":"#VALUE!"}},{"$error":"#N/A"},{"$error":"#N/A"},"1902-09-24"]
[1000,99,"1902-09-25",{"$f":"+IF(AND(C1002-シート!$BV$67>=0,シート!$AI$19-C1002>=0),1,0)","v":{"$error":"#N/A"}},{"$f":"IF(AND(C1002-シート!$C$87>=0,シート!$X$87-C1002>=0),1,0)","v":{"$error":"#VALUE!"}},{"$error":"#N/A"},{"$error":"#N/A"},{"$f":"IF(AND(C1002-シート!$CP$87>=0,シート!$DK$87-C1002>=0),1,0)","v":{"$error":"#VALUE!"}},{"$error":"#N/A"},{"$error":"#N/A"},"1902-09-25"]
[1001,99,"1902-09-26",{"$f":"+IF(AND(C1003-シート!$BV$67>=0,シート!$AI$19-C1003>=0),1,0)","v":{"$error":"#N/A"}},{"$f":"IF(AND(C1003-シート!$C$87>=0,シート!$X$87-C1003>=0),1,0)","v":{"$error":"#VALUE!"}},{"$error":"#N/A"},{"$error":"#N/A"},{"$f":"IF(AND(C1003-シート!$CP$87>=0,シート!$DK$87-C1003>=0),1,0)","v":{"$error":"#VALUE!"}},{"$error":"#N/A"},{"$error":"#N/A"},"1902-09-26"]
[1002,99,"1902-09-27",{"$f":"+IF(AND(C1004-シート!$BV$67>=0,シート!$AI$19-C1004>=0),1,0)","v":{"$error":"#N/A"}},{"$f":"IF(AND(C1004-シート!$C$87>=0,シート!$X$87-C1004>=0),1,0)","v":{"$error":"#VALUE!"}},{"$error":"#N/A"},{"$error":"#N/A"},{"$f":"IF(AND(C1004-シート!$CP$87>=0,シート!$DK$87-C1004>=0),1,0)","v":{"$error":"#VALUE!"}},{"$error":"#N/A"},{"$error":"#N/A"},"1902-09-27"]
[1003,99,"1902-09-28",{"$f":"+IF(AND(C1005-シート!$BV$67>=0,シート!$AI$19-C1005>=0),1,0)","v":{"$error":"#N/A"}},{"$f":"IF(AND(C1005-シート!$C$87>=0,シート!$X$87-C1005>=0),1,0)","v":{"$error":"#VALUE!"}},{"$error":"#N/A"},{"$error":"#N/A"},{"$f":"IF(AND(C1005-シート!$CP$87>=0,シート!$DK$87-C1005>=0),1,0)","v":{"$error":"#VALUE!"}},{"$error":"#N/A"},{"$error":"#N/A"},"1902-09-28"]
[1004,99,"1902-09-29",{"$f":"+IF(AND(C1006-シート!$BV$67>=0,シート!$AI$19-C1006>=0),1,0)","v":{"$error":"#N/A"}},{"$f":"IF(AND(C1006-シート!$C$87>=0,シート!$X$87-C1006>=0),1,0)","v":{"$error":"#VALUE!"}},{"$error":"#N/A"},{"$error":"#N/A"},{"$f":"IF(AND(C1006-シート!$CP$87>=0,シート!$DK$87-C1006>=0),1,0)","v":{"$error":"#VALUE!"}},{"$error":"#N/A"},{"$error":"#N/A"},"1902-09-29"]
[1005,99,"1902-09-30",{"$f":"+IF(AND(C1007-シート!$BV$67>=0,シート!$AI$19-C1007>=0),1,0)","v":{"$error":"#N/A"}},{"$f":"IF(AND(C1007-シート!$C$87>=0,シート!$X$87-C1007>=0),1,0)","v":{"$error":"#VALUE!"}},{"$error":"#N/A"},{"$error":"#N/A"},{"$f":"IF(AND(C1007-シート!$CP$87>=0,シート!$DK$87-C1007>=0),1,0)","v":{"$error":"#VALUE!"}},{"$error":"#N/A"},{"$error":"#N/A"},"1902-09-30"]
[1006,100,"1902-10-01",{"$f":"+IF(AND(C1008-シート!$BV$67>=0,シート!$AI$19-C1008>=0),1,0)","v":{"$error":"#N/A"}},{"$f":"IF(AND(C1008-シート!$C$87>=0,シート!$X$87-C1008>=0),1,0)","v":{"$error":"#VALUE!"}},{"$error":"#N/A"},{"$error":"#N/A"},{"$f":"IF(AND(C1008-シート!$CP$87>=0,シート!$DK$87-C1008>=0),1,0)","v":{"$error":"#VALUE!"}},{"$error":"#N/A"},{"$error":"#N/A"},"1902-10-01"]
[1007,100,"1902-10-02",{"$f":"+IF(AND(C1009-シート!$BV$67>=0,シート!$AI$19-C1009>=0),1,0)","v":{"$error":"#N/A"}},{"$f":"IF(AND(C1009-シート!$C$87>=0,シート!$X$87-C1009>=0),1,0)","v":{"$error":"#VALUE!"}},{"$error":"#N/A"},{"$error":"#N/A"},{"$f":"IF(AND(C1009-シート!$CP$87>=0,シート!$DK$87-C1009>=0),1,0)","v":{"$error":"#VALUE!"}},{"$error":"#N/A"},{"$error":"#N/A"},"1902-10-02"]
[1008,100,"1902-10-03",{"$f":"+IF(AND(C1010-シート!$BV$67>=0,シート!$AI$19-C1010>=0),1,0)","v":{"$error":"#N/A"}},{"$f":"IF(AND(C1010-シート!$C$87>=0,シート!$X$87-C1010>=0),1,0)","v":{"$error":"#VALUE!"}},{"$error":"#N/A"},{"$error":"#N/A"},{"$f":"IF(AND(C1010-シート!$CP$87>=0,シート!$DK$87-C1010>=0),1,0)","v":{"$error":"#VALUE!"}},{"$error":"#N/A"},{"$error":"#N/A"},"1902-10-03"]
[1009,100,"1902-10-04",{"$f":"+IF(AND(C1011-シート!$BV$67>=0,シート!$AI$19-C1011>=0),1,0)","v":{"$error":"#N/A"}},{"$f":"IF(AND(C1011-シート!$C$87>=0,シート!$X$87-C1011>=0),1,0)","v":{"$error":"#VALUE!"}},{"$error":"#N/A"},{"$error":"#N/A"},{"$f":"IF(AND(C1011-シート!$CP$87>=0,シート!$DK$87-C1011>=0),1,0)","v":{"$error":"#VALUE!"}},{"$error":"#N/A"},{"$error":"#N/A"},"1902-10-04"]
[1010,100,"1902-10-05",{"$f":"+IF(AND(C1012-シート!$BV$67>=0,シート!$AI$19-C1012>=0),1,0)","v":{"$error":"#N/A"}},{"$f":"IF(AND(C1012-シート!$C$87>=0,シート!$X$87-C1012>=0),1,0)","v":{"$error":"#VALUE!"}},{"$error":"#N/A"},{"$error":"#N/A"},{"$f":"IF(AND(C1012-シート!$CP$87>=0,シート!$DK$87-C1012>=0),1,0)","v":{"$error":"#VALUE!"}},{"$error":"#N/A"},{"$error":"#N/A"},"1902-10-05"]
[1011,100,"1902-10-06",{"$f":"+IF(AND(C1013-シート!$BV$67>=0,シート!$AI$19-C1013>=0),1,0)","v":{"$error":"#N/A"}},{"$f":"IF(AND(C1013-シート!$C$87>=0,シート!$X$87-C1013>=0),1,0)","v":{"$error":"#VALUE!"}},{"$error":"#N/A"},{"$error":"#N/A"},{"$f":"IF(AND(C1013-シート!$CP$87>=0,シート!$DK$87-C1013>=0),1,0)","v":{"$error":"#VALUE!"}},{"$error":"#N/A"},{"$error":"#N/A"},"1902-10-06"]
[1012,100,"1902-10-07",{"$f":"+IF(AND(C1014-シート!$BV$67>=0,シート!$AI$19-C1014>=0),1,0)","v":{"$error":"#N/A"}},{"$f":"IF(AND(C1014-シート!$C$87>=0,シート!$X$87-C1014>=0),1,0)","v":{"$error":"#VALUE!"}},{"$error":"#N/A"},{"$error":"#N/A"},{"$f":"IF(AND(C1014-シート!$CP$87>=0,シート!$DK$87-C1014>=0),1,0)","v":{"$error":"#VALUE!"}},{"$error":"#N/A"},{"$error":"#N/A"},"1902-10-07"]
[1013,100,"1902-10-08",{"$f":"+IF(AND(C1015-シート!$BV$67>=0,シート!$AI$19-C1015>=0),1,0)","v":{"$error":"#N/A"}},{"$f":"IF(AND(C1015-シート!$C$87>=0,シート!$X$87-C1015>=0),1,0)","v":{"$error":"#VALUE!"}},{"$error":"#N/A"},{"$error":"#N/A"},{"$f":"IF(AND(C1015-シート!$CP$87>=0,シート!$DK$87-C1015>=0),1,0)","v":{"$error":"#VALUE!"}},{"$error":"#N/A"},{"$error":"#N/A"},"1902-10-08"]
[1014,100,"1902-10-09",{"$f":"+IF(AND(C1016-シート!$BV$67>=0,シート!$AI$19-C1016>=0),1,0)","v":{"$error":"#N/A"}},{"$f":"IF(AND(C1016-シート!$C$87>=0,シート!$X$87-C1016>=0),1,0)","v":{"$error":"#VALUE!"}},{"$error":"#N/A"},{"$error":"#N/A"},{"$f":"IF(AND(C1016-シート!$CP$87>=0,シート!$DK$87-C1016>=0),1,0)","v":{"$error":"#VALUE!"}},{"$error":"#N/A"},{"$error":"#N/A"},"1902-10-09"]
[1015,100,"1902-10-10",{"$f":"+IF(AND(C1017-シート!$BV$67>=0,シート!$AI$19-C1017>=0),1,0)","v":{"$error":"#N/A"}},{"$f":"IF(AND(C1017-シート!$C$87>=0,シート!$X$87-C1017>=0),1,0)","v":{"$error":"#VALUE!"}},{"$error":"#N/A"},{"$error":"#N/A"},{"$f":"IF(AND(C1017-シート!$CP$87>=0,シート!$DK$87-C1017>=0),1,0)","v":{"$error":"#VALUE!"}},{"$error":"#N/A"},{"$error":"#N/A"},"1902-10-10"]
[1016,101,"1902-10-11",{"$f":"+IF(AND(C1018-シート!$BV$67>=0,シート!$AI$19-C1018>=0),1,0)","v":{"$error":"#N/A"}},{"$f":"IF(AND(C1018-シート!$C$87>=0,シート!$X$87-C1018>=0),1,0)","v":{"$error":"#VALUE!"}},{"$error":"#N/A"},{"$error":"#N/A"},{"$f":"IF(AND(C1018-シート!$CP$87>=0,シート!$DK$87-C1018>=0),1,0)","v":{"$error":"#VALUE!"}},{"$error":"#N/A"},{"$error":"#N/A"},"1902-10-11"]
[1017,101,"1902-10-12",{"$f":"+IF(AND(C1019-シート!$BV$67>=0,シート!$AI$19-C1019>=0),1,0)","v":{"$error":"#N/A"}},{"$f":"IF(AND(C1019-シート!$C$87>=0,シート!$X$87-C1019>=0),1,0)","v":{"$error":"#VALUE!"}},{"$error":"#N/A"},{"$error":"#N/A"},{"$f":"IF(AND(C1019-シート!$CP$87>=0,シート!$DK$87-C1019>=0),1,0)","v":{"$error":"#VALUE!"}},{"$error":"#N/A"},{"$error":"#N/A"},"1902-10-12"]
[1018,101,"1902-10-13",{"$f":"+IF(AND(C1020-シート!$BV$67>=0,シート!$AI$19-C1020>=0),1,0)","v":{"$error":"#N/A"}},{"$f":"IF(AND(C1020-シート!$C$87>=0,シート!$X$87-C1020>=0),1,0)","v":{"$error":"#VALUE!"}},{"$error":"#N/A"},{"$error":"#N/A"},{"$f":"IF(AND(C1020-シート!$CP$87>=0,シート!$DK$87-C1020>=0),1,0)","v":{"$error":"#VALUE!"}},{"$error":"#N/A"},{"$error":"#N/A"},"1902-10-13"]
[1019,101,"1902-10-14",{"$f":"+IF(AND(C1021-シート!$BV$67>=0,シート!$AI$19-C1021>=0),1,0)","v":{"$error":"#N/A"}},{"$f":"IF(AND(C1021-シート!$C$87>=0,シート!$X$87-C1021>=0),1,0)","v":{"$error":"#VALUE!"}},{"$error":"#N/A"},{"$error":"#N/A"},{"$f":"IF(AND(C1021-シート!$CP$87>=0,シート!$DK$87-C1021>=0),1,0)","v":{"$error":"#VALUE!"}},{"$error":"#N/A"},{"$error":"#N/A"},"1902-10-14"]
[1020,101,"1902-10-15",{"$f":"+IF(AND(C1022-シート!$BV$67>=0,シート!$AI$19-C1022>=0),1,0)","v":{"$error":"#N/A"}},{"$f":"IF(AND(C1022-シート!$C$87>=0,シート!$X$87-C1022>=0),1,0)","v":{"$error":"#VALUE!"}},{"$error":"#N/A"},{"$error":"#N/A"},{"$f":"IF(AND(C1022-シート!$CP$87>=0,シート!$DK$87-C1022>=0),1,0)","v":{"$error":"#VALUE!"}},{"$error":"#N/A"},{"$error":"#N/A"},"1902-10-15"]
[1021,101,"1902-10-16",{"$f":"+IF(AND(C1023-シート!$BV$67>=0,シート!$AI$19-C1023>=0),1,0)","v":{"$error":"#N/A"}},{"$f":"IF(AND(C1023-シート!$C$87>=0,シート!$X$87-C1023>=0),1,0)","v":{"$error":"#VALUE!"}},{"$error":"#N/A"},{"$error":"#N/A"},{"$f":"IF(AND(C1023-シート!$CP$87>=0,シート!$DK$87-C1023>=0),1,0)","v":{"$error":"#VALUE!"}},{"$error":"#N/A"},{"$error":"#N/A"},"1902-10-16"]
[1022,101,"1902-10-17",{"$f":"+IF(AND(C1024-シート!$BV$67>=0,シート!$AI$19-C1024>=0),1,0)","v":{"$error":"#N/A"}},{"$f":"IF(AND(C1024-シート!$C$87>=0,シート!$X$87-C1024>=0),1,0)","v":{"$error":"#VALUE!"}},{"$error":"#N/A"},{"$error":"#N/A"},{"$f":"IF(AND(C1024-シート!$CP$87>=0,シート!$DK$87-C1024>=0),1,0)","v":{"$error":"#VALUE!"}},{"$error":"#N/A"},{"$error":"#N/A"},"1902-10-17"]
[1023,101,"1902-10-18",{"$f":"+IF(AND(C1025-シート!$BV$67>=0,シート!$AI$19-C1025>=0),1,0)","v":{"$error":"#N/A"}},{"$f":"IF(AND(C1025-シート!$C$87>=0,シート!$X$87-C1025>=0),1,0)","v":{"$error":"#VALUE!"}},{"$error":"#N/A"},{"$error":"#N/A"},{"$f":"IF(AND(C1025-シート!$CP$87>=0,シート!$DK$87-C1025>=0),1,0)","v":{"$error":"#VALUE!"}},{"$error":"#N/A"},{"$error":"#N/A"},"1902-10-18"]
[1024,101,"1902-10-19",{"$f":"+IF(AND(C1026-シート!$BV$67>=0,シート!$AI$19-C1026>=0),1,0)","v":{"$error":"#N/A"}},{"$f":"IF(AND(C1026-シート!$C$87>=0,シート!$X$87-C1026>=0),1,0)","v":{"$error":"#VALUE!"}},{"$error":"#N/A"},{"$error":"#N/A"},{"$f":"IF(AND(C1026-シート!$CP$87>=0,シート!$DK$87-C1026>=0),1,0)","v":{"$error":"#VALUE!"}},{"$error":"#N/A"},{"$error":"#N/A"},"1902-10-19"]
[1025,101,"1902-10-20",{"$f":"+IF(AND(C1027-シート!$BV$67>=0,シート!$AI$19-C1027>=0),1,0)","v":{"$error":"#N/A"}},{"$f":"IF(AND(C1027-シート!$C$87>=0,シート!$X$87-C1027>=0),1,0)","v":{"$error":"#VALUE!"}},{"$error":"#N/A"},{"$error":"#N/A"},{"$f":"IF(AND(C1027-シート!$CP$87>=0,シート!$DK$87-C1027>=0),1,0)","v":{"$error":"#VALUE!"}},{"$error":"#N/A"},{"$error":"#N/A"},"1902-10-20"]
[1026,102,"1902-10-21",{"$f":"+IF(AND(C1028-シート!$BV$67>=0,シート!$AI$19-C1028>=0),1,0)","v":{"$error":"#N/A"}},{"$f":"IF(AND(C1028-シート!$C$87>=0,シート!$X$87-C1028>=0),1,0)","v":{"$error":"#VALUE!"}},{"$f":"IF(+D1028+E1028=2,1,0)","v":{"$error":"#N/A"}},{"$error":"#N/A"},{"$f":"IF(AND(C1028-シート!$CP$87>=0,シート!$DK$87-C1028>=0),1,0)","v":{"$error":"#VALUE!"}},{"$f":"IF(+D1028+H1028=2,1,0)","v":{"$error":"#N/A"}},{"$error":"#N/A"},{"$f":"+C1028","v":"1902-10-21"}]
[{"$f":"+A1028+1","v":1027},102,{"$f":"+C1028+1","v":"1902-10-22"},{"$f":"+IF(AND(C1029-シート!$BV$67>=0,シート!$AI$19-C1029>=0),1,0)","v":{"$error":"#N/A"}},{"$f":"IF(AND(C1029-シート!$C$87>=0,シート!$X$87-C1029>=0),1,0)","v":{"$error":"#VALUE!"}},{"$error":"#N/A"},{"$f":"+G1028+F1029","v":{"$error":"#N/A"}},{"$f":"IF(AND(C1029-シート!$CP$87>=0,シート!$DK$87-C1029>=0),1,0)","v":{"$error":"#VALUE!"}},{"$error":"#N/A"},{"$f":"+J1028+I1029","v":{"$error":"#N/A"}},"1902-10-22"]
[1028,102,"1902-10-23",{"$f":"+IF(AND(C1030-シート!$BV$67>=0,シート!$AI$19-C1030>=0),1,0)","v":{"$error":"#N/A"}},{"$f":"IF(AND(C1030-シート!$C$87>=0,シート!$X$87-C1030>=0),1,0)","v":{"$error":"#VALUE!"}},{"$error":"#N/A"},{"$error":"#N/A"},{"$f":"IF(AND(C1030-シート!$CP$87>=0,シート!$DK$87-C1030>=0),1,0)","v":{"$error":"#VALUE!"}},{"$error":"#N/A"},{"$error":"#N/A"},"1902-10-23"]
[1029,102,"1902-10-24",{"$f":"+IF(AND(C1031-シート!$BV$67>=0,シート!$AI$19-C1031>=0),1,0)","v":{"$error":"#N/A"}},{"$f":"IF(AND(C1031-シート!$C$87>=0,シート!$X$87-C1031>=0),1,0)","v":{"$error":"#VALUE!"}},{"$error":"#N/A"},{"$error":"#N/A"},{"$f":"IF(AND(C1031-シート!$CP$87>=0,シート!$DK$87-C1031>=0),1,0)","v":{"$error":"#VALUE!"}},{"$error":"#N/A"},{"$error":"#N/A"},"1902-10-24"]
[1030,102,"1902-10-25",{"$f":"+IF(AND(C1032-シート!$BV$67>=0,シート!$AI$19-C1032>=0),1,0)","v":{"$error":"#N/A"}},{"$f":"IF(AND(C1032-シート!$C$87>=0,シート!$X$87-C1032>=0),1,0)","v":{"$error":"#VALUE!"}},{"$error":"#N/A"},{"$error":"#N/A"},{"$f":"IF(AND(C1032-シート!$CP$87>=0,シート!$DK$87-C1032>=0),1,0)","v":{"$error":"#VALUE!"}},{"$error":"#N/A"},{"$error":"#N/A"},"1902-10-25"]
[1031,102,"1902-10-26",{"$f":"+IF(AND(C1033-シート!$BV$67>=0,シート!$AI$19-C1033>=0),1,0)","v":{"$error":"#N/A"}},{"$f":"IF(AND(C1033-シート!$C$87>=0,シート!$X$87-C1033>=0),1,0)","v":{"$error":"#VALUE!"}},{"$error":"#N/A"},{"$error":"#N/A"},{"$f":"IF(AND(C1033-シート!$CP$87>=0,シート!$DK$87-C1033>=0),1,0)","v":{"$error":"#VALUE!"}},{"$error":"#N/A"},{"$error":"#N/A"},"1902-10-26"]
[1032,102,"1902-10-27",{"$f":"+IF(AND(C1034-シート!$BV$67>=0,シート!$AI$19-C1034>=0),1,0)","v":{"$error":"#N/A"}},{"$f":"IF(AND(C1034-シート!$C$87>=0,シート!$X$87-C1034>=0),1,0)","v":{"$error":"#VALUE!"}},{"$error":"#N/A"},{"$error":"#N/A"},{"$f":"IF(AND(C1034-シート!$CP$87>=0,シート!$DK$87-C1034>=0),1,0)","v":{"$error":"#VALUE!"}},{"$error":"#N/A"},{"$error":"#N/A"},"1902-10-27"]
[1033,102,"1902-10-28",{"$f":"+IF(AND(C1035-シート!$BV$67>=0,シート!$AI$19-C1035>=0),1,0)","v":{"$error":"#N/A"}},{"$f":"IF(AND(C1035-シート!$C$87>=0,シート!$X$87-C1035>=0),1,0)","v":{"$error":"#VALUE!"}},{"$error":"#N/A"},{"$error":"#N/A"},{"$f":"IF(AND(C1035-シート!$CP$87>=0,シート!$DK$87-C1035>=0),1,0)","v":{"$error":"#VALUE!"}},{"$error":"#N/A"},{"$error":"#N/A"},"1902-10-28"]
[1034,102,"1902-10-29",{"$f":"+IF(AND(C1036-シート!$BV$67>=0,シート!$AI$19-C1036>=0),1,0)","v":{"$error":"#N/A"}},{"$f":"IF(AND(C1036-シート!$C$87>=0,シート!$X$87-C1036>=0),1,0)","v":{"$error":"#VALUE!"}},{"$error":"#N/A"},{"$error":"#N/A"},{"$f":"IF(AND(C1036-シート!$CP$87>=0,シート!$DK$87-C1036>=0),1,0)","v":{"$error":"#VALUE!"}},{"$error":"#N/A"},{"$error":"#N/A"},"1902-10-29"]
[1035,102,"1902-10-30",{"$f":"+IF(AND(C1037-シート!$BV$67>=0,シート!$AI$19-C1037>=0),1,0)","v":{"$error":"#N/A"}},{"$f":"IF(AND(C1037-シート!$C$87>=0,シート!$X$87-C1037>=0),1,0)","v":{"$error":"#VALUE!"}},{"$error":"#N/A"},{"$error":"#N/A"},{"$f":"IF(AND(C1037-シート!$CP$87>=0,シート!$DK$87-C1037>=0),1,0)","v":{"$error":"#VALUE!"}},{"$error":"#N/A"},{"$error":"#N/A"},"1902-10-30"]
[1036,103,"1902-10-31",{"$f":"+IF(AND(C1038-シート!$BV$67>=0,シート!$AI$19-C1038>=0),1,0)","v":{"$error":"#N/A"}},{"$f":"IF(AND(C1038-シート!$C$87>=0,シート!$X$87-C1038>=0),1,0)","v":{"$error":"#VALUE!"}},{"$error":"#N/A"},{"$error":"#N/A"},{"$f":"IF(AND(C1038-シート!$CP$87>=0,シート!$DK$87-C1038>=0),1,0)","v":{"$error":"#VALUE!"}},{"$error":"#N/A"},{"$error":"#N/A"},"1902-10-31"]
[1037,103,"1902-11-01",{"$f":"+IF(AND(C1039-シート!$BV$67>=0,シート!$AI$19-C1039>=0),1,0)","v":{"$error":"#N/A"}},{"$f":"IF(AND(C1039-シート!$C$87>=0,シート!$X$87-C1039>=0),1,0)","v":{"$error":"#VALUE!"}},{"$error":"#N/A"},{"$error":"#N/A"},{"$f":"IF(AND(C1039-シート!$CP$87>=0,シート!$DK$87-C1039>=0),1,0)","v":{"$error":"#VALUE!"}},{"$error":"#N/A"},{"$error":"#N/A"},"1902-11-01"]
[1038,103,"1902-11-02",{"$f":"+IF(AND(C1040-シート!$BV$67>=0,シート!$AI$19-C1040>=0),1,0)","v":{"$error":"#N/A"}},{"$f":"IF(AND(C1040-シート!$C$87>=0,シート!$X$87-C1040>=0),1,0)","v":{"$error":"#VALUE!"}},{"$error":"#N/A"},{"$error":"#N/A"},{"$f":"IF(AND(C1040-シート!$CP$87>=0,シート!$DK$87-C1040>=0),1,0)","v":{"$error":"#VALUE!"}},{"$error":"#N/A"},{"$error":"#N/A"},"1902-11-02"]
[1039,103,"1902-11-03",{"$f":"+IF(AND(C1041-シート!$BV$67>=0,シート!$AI$19-C1041>=0),1,0)","v":{"$error":"#N/A"}},{"$f":"IF(AND(C1041-シート!$C$87>=0,シート!$X$87-C1041>=0),1,0)","v":{"$error":"#VALUE!"}},{"$error":"#N/A"},{"$error":"#N/A"},{"$f":"IF(AND(C1041-シート!$CP$87>=0,シート!$DK$87-C1041>=0),1,0)","v":{"$error":"#VALUE!"}},{"$error":"#N/A"},{"$error":"#N/A"},"1902-11-03"]
[1040,103,"1902-11-04",{"$f":"+IF(AND(C1042-シート!$BV$67>=0,シート!$AI$19-C1042>=0),1,0)","v":{"$error":"#N/A"}},{"$f":"IF(AND(C1042-シート!$C$87>=0,シート!$X$87-C1042>=0),1,0)","v":{"$error":"#VALUE!"}},{"$error":"#N/A"},{"$error":"#N/A"},{"$f":"IF(AND(C1042-シート!$CP$87>=0,シート!$DK$87-C1042>=0),1,0)","v":{"$error":"#VALUE!"}},{"$error":"#N/A"},{"$error":"#N/A"},"1902-11-04"]
[1041,103,"1902-11-05",{"$f":"+IF(AND(C1043-シート!$BV$67>=0,シート!$AI$19-C1043>=0),1,0)","v":{"$error":"#N/A"}},{"$f":"IF(AND(C1043-シート!$C$87>=0,シート!$X$87-C1043>=0),1,0)","v":{"$error":"#VALUE!"}},{"$error":"#N/A"},{"$error":"#N/A"},{"$f":"IF(AND(C1043-シート!$CP$87>=0,シート!$DK$87-C1043>=0),1,0)","v":{"$error":"#VALUE!"}},{"$error":"#N/A"},{"$error":"#N/A"},"1902-11-05"]
[1042,103,"1902-11-06",{"$f":"+IF(AND(C1044-シート!$BV$67>=0,シート!$AI$19-C1044>=0),1,0)","v":{"$error":"#N/A"}},{"$f":"IF(AND(C1044-シート!$C$87>=0,シート!$X$87-C1044>=0),1,0)","v":{"$error":"#VALUE!"}},{"$error":"#N/A"},{"$error":"#N/A"},{"$f":"IF(AND(C1044-シート!$CP$87>=0,シート!$DK$87-C1044>=0),1,0)","v":{"$error":"#VALUE!"}},{"$error":"#N/A"},{"$error":"#N/A"},"1902-11-06"]
[1043,103,"1902-11-07",{"$f":"+IF(AND(C1045-シート!$BV$67>=0,シート!$AI$19-C1045>=0),1,0)","v":{"$error":"#N/A"}},{"$f":"IF(AND(C1045-シート!$C$87>=0,シート!$X$87-C1045>=0),1,0)","v":{"$error":"#VALUE!"}},{"$error":"#N/A"},{"$error":"#N/A"},{"$f":"IF(AND(C1045-シート!$CP$87>=0,シート!$DK$87-C1045>=0),1,0)","v":{"$error":"#VALUE!"}},{"$error":"#N/A"},{"$error":"#N/A"},"1902-11-07"]
[1044,103,"1902-11-08",{"$f":"+IF(AND(C1046-シート!$BV$67>=0,シート!$AI$19-C1046>=0),1,0)","v":{"$error":"#N/A"}},{"$f":"IF(AND(C1046-シート!$C$87>=0,シート!$X$87-C1046>=0),1,0)","v":{"$error":"#VALUE!"}},{"$error":"#N/A"},{"$error":"#N/A"},{"$f":"IF(AND(C1046-シート!$CP$87>=0,シート!$DK$87-C1046>=0),1,0)","v":{"$error":"#VALUE!"}},{"$error":"#N/A"},{"$error":"#N/A"},"1902-11-08"]
[1045,103,"1902-11-09",{"$f":"+IF(AND(C1047-シート!$BV$67>=0,シート!$AI$19-C1047>=0),1,0)","v":{"$error":"#N/A"}},{"$f":"IF(AND(C1047-シート!$C$87>=0,シート!$X$87-C1047>=0),1,0)","v":{"$error":"#VALUE!"}},{"$error":"#N/A"},{"$error":"#N/A"},{"$f":"IF(AND(C1047-シート!$CP$87>=0,シート!$DK$87-C1047>=0),1,0)","v":{"$error":"#VALUE!"}},{"$error":"#N/A"},{"$error":"#N/A"},"1902-11-09"]
[1046,104,"1902-11-10",{"$f":"+IF(AND(C1048-シート!$BV$67>=0,シート!$AI$19-C1048>=0),1,0)","v":{"$error":"#N/A"}},{"$f":"IF(AND(C1048-シート!$C$87>=0,シート!$X$87-C1048>=0),1,0)","v":{"$error":"#VALUE!"}},{"$error":"#N/A"},{"$error":"#N/A"},{"$f":"IF(AND(C1048-シート!$CP$87>=0,シート!$DK$87-C1048>=0),1,0)","v":{"$error":"#VALUE!"}},{"$error":"#N/A"},{"$error":"#N/A"},"1902-11-10"]
[1047,104,"1902-11-11",{"$f":"+IF(AND(C1049-シート!$BV$67>=0,シート!$AI$19-C1049>=0),1,0)","v":{"$error":"#N/A"}},{"$f":"IF(AND(C1049-シート!$C$87>=0,シート!$X$87-C1049>=0),1,0)","v":{"$error":"#VALUE!"}},{"$error":"#N/A"},{"$error":"#N/A"},{"$f":"IF(AND(C1049-シート!$CP$87>=0,シート!$DK$87-C1049>=0),1,0)","v":{"$error":"#VALUE!"}},{"$error":"#N/A"},{"$error":"#N/A"},"1902-11-11"]
[1048,104,"1902-11-12",{"$f":"+IF(AND(C1050-シート!$BV$67>=0,シート!$AI$19-C1050>=0),1,0)","v":{"$error":"#N/A"}},{"$f":"IF(AND(C1050-シート!$C$87>=0,シート!$X$87-C1050>=0),1,0)","v":{"$error":"#VALUE!"}},{"$error":"#N/A"},{"$error":"#N/A"},{"$f":"IF(AND(C1050-シート!$CP$87>=0,シート!$DK$87-C1050>=0),1,0)","v":{"$error":"#VALUE!"}},{"$error":"#N/A"},{"$error":"#N/A"},"1902-11-12"]
[1049,104,"1902-11-13",{"$f":"+IF(AND(C1051-シート!$BV$67>=0,シート!$AI$19-C1051>=0),1,0)","v":{"$error":"#N/A"}},{"$f":"IF(AND(C1051-シート!$C$87>=0,シート!$X$87-C1051>=0),1,0)","v":{"$error":"#VALUE!"}},{"$error":"#N/A"},{"$error":"#N/A"},{"$f":"IF(AND(C1051-シート!$CP$87>=0,シート!$DK$87-C1051>=0),1,0)","v":{"$error":"#VALUE!"}},{"$error":"#N/A"},{"$error":"#N/A"},"1902-11-13"]
[1050,104,"1902-11-14",{"$f":"+IF(AND(C1052-シート!$BV$67>=0,シート!$AI$19-C1052>=0),1,0)","v":{"$error":"#N/A"}},{"$f":"IF(AND(C1052-シート!$C$87>=0,シート!$X$87-C1052>=0),1,0)","v":{"$error":"#VALUE!"}},{"$error":"#N/A"},{"$error":"#N/A"},{"$f":"IF(AND(C1052-シート!$CP$87>=0,シート!$DK$87-C1052>=0),1,0)","v":{"$error":"#VALUE!"}},{"$error":"#N/A"},{"$error":"#N/A"},"1902-11-14"]
[1051,104,"1902-11-15",{"$f":"+IF(AND(C1053-シート!$BV$67>=0,シート!$AI$19-C1053>=0),1,0)","v":{"$error":"#N/A"}},{"$f":"IF(AND(C1053-シート!$C$87>=0,シート!$X$87-C1053>=0),1,0)","v":{"$error":"#VALUE!"}},{"$error":"#N/A"},{"$error":"#N/A"},{"$f":"IF(AND(C1053-シート!$CP$87>=0,シート!$DK$87-C1053>=0),1,0)","v":{"$error":"#VALUE!"}},{"$error":"#N/A"},{"$error":"#N/A"},"1902-11-15"]
[1052,104,"1902-11-16",{"$f":"+IF(AND(C1054-シート!$BV$67>=0,シート!$AI$19-C1054>=0),1,0)","v":{"$error":"#N/A"}},{"$f":"IF(AND(C1054-シート!$C$87>=0,シート!$X$87-C1054>=0),1,0)","v":{"$error":"#VALUE!"}},{"$error":"#N/A"},{"$error":"#N/A"},{"$f":"IF(AND(C1054-シート!$CP$87>=0,シート!$DK$87-C1054>=0),1,0)","v":{"$error":"#VALUE!"}},{"$error":"#N/A"},{"$error":"#N/A"},"1902-11-16"]
[1053,104,"1902-11-17",{"$f":"+IF(AND(C1055-シート!$BV$67>=0,シート!$AI$19-C1055>=0),1,0)","v":{"$error":"#N/A"}},{"$f":"IF(AND(C1055-シート!$C$87>=0,シート!$X$87-C1055>=0),1,0)","v":{"$error":"#VALUE!"}},{"$error":"#N/A"},{"$error":"#N/A"},{"$f":"IF(AND(C1055-シート!$CP$87>=0,シート!$DK$87-C1055>=0),1,0)","v":{"$error":"#VALUE!"}},{"$error":"#N/A"},{"$error":"#N/A"},"1902-11-17"]
[1054,104,"1902-11-18",{"$f":"+IF(AND(C1056-シート!$BV$67>=0,シート!$AI$19-C1056>=0),1,0)","v":{"$error":"#N/A"}},{"$f":"IF(AND(C1056-シート!$C$87>=0,シート!$X$87-C1056>=0),1,0)","v":{"$error":"#VALUE!"}},{"$error":"#N/A"},{"$error":"#N/A"},{"$f":"IF(AND(C1056-シート!$CP$87>=0,シート!$DK$87-C1056>=0),1,0)","v":{"$error":"#VALUE!"}},{"$error":"#N/A"},{"$error":"#N/A"},"1902-11-18"]
[1055,104,"1902-11-19",{"$f":"+IF(AND(C1057-シート!$BV$67>=0,シート!$AI$19-C1057>=0),1,0)","v":{"$error":"#N/A"}},{"$f":"IF(AND(C1057-シート!$C$87>=0,シート!$X$87-C1057>=0),1,0)","v":{"$error":"#VALUE!"}},{"$error":"#N/A"},{"$error":"#N/A"},{"$f":"IF(AND(C1057-シート!$CP$87>=0,シート!$DK$87-C1057>=0),1,0)","v":{"$error":"#VALUE!"}},{"$error":"#N/A"},{"$error":"#N/A"},"1902-11-19"]
[1056,104,"1902-11-20",{"$f":"+IF(AND(C1058-シート!$BV$67>=0,シート!$AI$19-C1058>=0),1,0)","v":{"$error":"#N/A"}},{"$f":"IF(AND(C1058-シート!$C$87>=0,シート!$X$87-C1058>=0),1,0)","v":{"$error":"#VALUE!"}},{"$error":"#N/A"},{"$error":"#N/A"},{"$f":"IF(AND(C1058-シート!$CP$87>=0,シート!$DK$87-C1058>=0),1,0)","v":{"$error":"#VALUE!"}},{"$error":"#N/A"},{"$error":"#N/A"},"1902-11-20"]
[1057,105,"1902-11-21",{"$f":"+IF(AND(C1059-シート!$BV$67>=0,シート!$AI$19-C1059>=0),1,0)","v":{"$error":"#N/A"}},{"$f":"IF(AND(C1059-シート!$C$87>=0,シート!$X$87-C1059>=0),1,0)","v":{"$error":"#VALUE!"}},{"$error":"#N/A"},{"$error":"#N/A"},{"$f":"IF(AND(C1059-シート!$CP$87>=0,シート!$DK$87-C1059>=0),1,0)","v":{"$error":"#VALUE!"}},{"$error":"#N/A"},{"$error":"#N/A"},"1902-11-21"]
[1058,105,"1902-11-22",{"$f":"+IF(AND(C1060-シート!$BV$67>=0,シート!$AI$19-C1060>=0),1,0)","v":{"$error":"#N/A"}},{"$f":"IF(AND(C1060-シート!$C$87>=0,シート!$X$87-C1060>=0),1,0)","v":{"$error":"#VALUE!"}},{"$error":"#N/A"},{"$error":"#N/A"},{"$f":"IF(AND(C1060-シート!$CP$87>=0,シート!$DK$87-C1060>=0),1,0)","v":{"$error":"#VALUE!"}},{"$error":"#N/A"},{"$error":"#N/A"},"1902-11-22"]
[1059,105,"1902-11-23",{"$f":"+IF(AND(C1061-シート!$BV$67>=0,シート!$AI$19-C1061>=0),1,0)","v":{"$error":"#N/A"}},{"$f":"IF(AND(C1061-シート!$C$87>=0,シート!$X$87-C1061>=0),1,0)","v":{"$error":"#VALUE!"}},{"$error":"#N/A"},{"$error":"#N/A"},{"$f":"IF(AND(C1061-シート!$CP$87>=0,シート!$DK$87-C1061>=0),1,0)","v":{"$error":"#VALUE!"}},{"$error":"#N/A"},{"$error":"#N/A"},"1902-11-23"]
[1060,105,"1902-11-24",{"$f":"+IF(AND(C1062-シート!$BV$67>=0,シート!$AI$19-C1062>=0),1,0)","v":{"$error":"#N/A"}},{"$f":"IF(AND(C1062-シート!$C$87>=0,シート!$X$87-C1062>=0),1,0)","v":{"$error":"#VALUE!"}},{"$error":"#N/A"},{"$error":"#N/A"},{"$f":"IF(AND(C1062-シート!$CP$87>=0,シート!$DK$87-C1062>=0),1,0)","v":{"$error":"#VALUE!"}},{"$error":"#N/A"},{"$error":"#N/A"},"1902-11-24"]
[1061,105,"1902-11-25",{"$f":"+IF(AND(C1063-シート!$BV$67>=0,シート!$AI$19-C1063>=0),1,0)","v":{"$error":"#N/A"}},{"$f":"IF(AND(C1063-シート!$C$87>=0,シート!$X$87-C1063>=0),1,0)","v":{"$error":"#VALUE!"}},{"$error":"#N/A"},{"$error":"#N/A"},{"$f":"IF(AND(C1063-シート!$CP$87>=0,シート!$DK$87-C1063>=0),1,0)","v":{"$error":"#VALUE!"}},{"$error":"#N/A"},{"$error":"#N/A"},"1902-11-25"]
[1062,105,"1902-11-26",{"$f":"+IF(AND(C1064-シート!$BV$67>=0,シート!$AI$19-C1064>=0),1,0)","v":{"$error":"#N/A"}},{"$f":"IF(AND(C1064-シート!$C$87>=0,シート!$X$87-C1064>=0),1,0)","v":{"$error":"#VALUE!"}},{"$error":"#N/A"},{"$error":"#N/A"},{"$f":"IF(AND(C1064-シート!$CP$87>=0,シート!$DK$87-C1064>=0),1,0)","v":{"$error":"#VALUE!"}},{"$error":"#N/A"},{"$error":"#N/A"},"1902-11-26"]
[1063,105,"1902-11-27",{"$f":"+IF(AND(C1065-シート!$BV$67>=0,シート!$AI$19-C1065>=0),1,0)","v":{"$error":"#N/A"}},{"$f":"IF(AND(C1065-シート!$C$87>=0,シート!$X$87-C1065>=0),1,0)","v":{"$error":"#VALUE!"}},{"$error":"#N/A"},{"$error":"#N/A"},{"$f":"IF(AND(C1065-シート!$CP$87>=0,シート!$DK$87-C1065>=0),1,0)","v":{"$error":"#VALUE!"}},{"$error":"#N/A"},{"$error":"#N/A"},"1902-11-27"]
[1064,105,"1902-11-28",{"$f":"+IF(AND(C1066-シート!$BV$67>=0,シート!$AI$19-C1066>=0),1,0)","v":{"$error":"#N/A"}},{"$f":"IF(AND(C1066-シート!$C$87>=0,シート!$X$87-C1066>=0),1,0)","v":{"$error":"#VALUE!"}},{"$error":"#N/A"},{"$error":"#N/A"},{"$f":"IF(AND(C1066-シート!$CP$87>=0,シート!$DK$87-C1066>=0),1,0)","v":{"$error":"#VALUE!"}},{"$error":"#N/A"},{"$error":"#N/A"},"1902-11-28"]
[1065,105,"1902-11-29",{"$f":"+IF(AND(C1067-シート!$BV$67>=0,シート!$AI$19-C1067>=0),1,0)","v":{"$error":"#N/A"}},{"$f":"IF(AND(C1067-シート!$C$87>=0,シート!$X$87-C1067>=0),1,0)","v":{"$error":"#VALUE!"}},{"$error":"#N/A"},{"$error":"#N/A"},{"$f":"IF(AND(C1067-シート!$CP$87>=0,シート!$DK$87-C1067>=0),1,0)","v":{"$error":"#VALUE!"}},{"$error":"#N/A"},{"$error":"#N/A"},"1902-11-29"]
[1066,105,"1902-11-30",{"$f":"+IF(AND(C1068-シート!$BV$67>=0,シート!$AI$19-C1068>=0),1,0)","v":{"$error":"#N/A"}},{"$f":"IF(AND(C1068-シート!$C$87>=0,シート!$X$87-C1068>=0),1,0)","v":{"$error":"#VALUE!"}},{"$error":"#N/A"},{"$error":"#N/A"},{"$f":"IF(AND(C1068-シート!$CP$87>=0,シート!$DK$87-C1068>=0),1,0)","v":{"$error":"#VALUE!"}},{"$error":"#N/A"},{"$error":"#N/A"},"1902-11-30"]
[1067,106,"1902-12-01",{"$f":"+IF(AND(C1069-シート!$BV$67>=0,シート!$AI$19-C1069>=0),1,0)","v":{"$error":"#N/A"}},{"$f":"IF(AND(C1069-シート!$C$87>=0,シート!$X$87-C1069>=0),1,0)","v":{"$error":"#VALUE!"}},{"$error":"#N/A"},{"$error":"#N/A"},{"$f":"IF(AND(C1069-シート!$CP$87>=0,シート!$DK$87-C1069>=0),1,0)","v":{"$error":"#VALUE!"}},{"$error":"#N/A"},{"$error":"#N/A"},"1902-12-01"]
[1068,106,"1902-12-02",{"$f":"+IF(AND(C1070-シート!$BV$67>=0,シート!$AI$19-C1070>=0),1,0)","v":{"$error":"#N/A"}},{"$f":"IF(AND(C1070-シート!$C$87>=0,シート!$X$87-C1070>=0),1,0)","v":{"$error":"#VALUE!"}},{"$error":"#N/A"},{"$error":"#N/A"},{"$f":"IF(AND(C1070-シート!$CP$87>=0,シート!$DK$87-C1070>=0),1,0)","v":{"$error":"#VALUE!"}},{"$error":"#N/A"},{"$error":"#N/A"},"1902-12-02"]
[1069,106,"1902-12-03",{"$f":"+IF(AND(C1071-シート!$BV$67>=0,シート!$AI$19-C1071>=0),1,0)","v":{"$error":"#N/A"}},{"$f":"IF(AND(C1071-シート!$C$87>=0,シート!$X$87-C1071>=0),1,0)","v":{"$error":"#VALUE!"}},{"$error":"#N/A"},{"$error":"#N/A"},{"$f":"IF(AND(C1071-シート!$CP$87>=0,シート!$DK$87-C1071>=0),1,0)","v":{"$error":"#VALUE!"}},{"$error":"#N/A"},{"$error":"#N/A"},"1902-12-03"]
[1070,106,"1902-12-04",{"$f":"+IF(AND(C1072-シート!$BV$67>=0,シート!$AI$19-C1072>=0),1,0)","v":{"$error":"#N/A"}},{"$f":"IF(AND(C1072-シート!$C$87>=0,シート!$X$87-C1072>=0),1,0)","v":{"$error":"#VALUE!"}},{"$error":"#N/A"},{"$error":"#N/A"},{"$f":"IF(AND(C1072-シート!$CP$87>=0,シート!$DK$87-C1072>=0),1,0)","v":{"$error":"#VALUE!"}},{"$error":"#N/A"},{"$error":"#N/A"},"1902-12-04"]
[1071,106,"1902-12-05",{"$f":"+IF(AND(C1073-シート!$BV$67>=0,シート!$AI$19-C1073>=0),1,0)","v":{"$error":"#N/A"}},{"$f":"IF(AND(C1073-シート!$C$87>=0,シート!$X$87-C1073>=0),1,0)","v":{"$error":"#VALUE!"}},{"$error":"#N/A"},{"$error":"#N/A"},{"$f":"IF(AND(C1073-シート!$CP$87>=0,シート!$DK$87-C1073>=0),1,0)","v":{"$error":"#VALUE!"}},{"$error":"#N/A"},{"$error":"#N/A"},"1902-12-05"]
[1072,106,"1902-12-06",{"$f":"+IF(AND(C1074-シート!$BV$67>=0,シート!$AI$19-C1074>=0),1,0)","v":{"$error":"#N/A"}},{"$f":"IF(AND(C1074-シート!$C$87>=0,シート!$X$87-C1074>=0),1,0)","v":{"$error":"#VALUE!"}},{"$error":"#N/A"},{"$error":"#N/A"},{"$f":"IF(AND(C1074-シート!$CP$87>=0,シート!$DK$87-C1074>=0),1,0)","v":{"$error":"#VALUE!"}},{"$error":"#N/A"},{"$error":"#N/A"},"1902-12-06"]
[1073,106,"1902-12-07",{"$f":"+IF(AND(C1075-シート!$BV$67>=0,シート!$AI$19-C1075>=0),1,0)","v":{"$error":"#N/A"}},{"$f":"IF(AND(C1075-シート!$C$87>=0,シート!$X$87-C1075>=0),1,0)","v":{"$error":"#VALUE!"}},{"$error":"#N/A"},{"$error":"#N/A"},{"$f":"IF(AND(C1075-シート!$CP$87>=0,シート!$DK$87-C1075>=0),1,0)","v":{"$error":"#VALUE!"}},{"$error":"#N/A"},{"$error":"#N/A"},"1902-12-07"]
[1074,106,"1902-12-08",{"$f":"+IF(AND(C1076-シート!$BV$67>=0,シート!$AI$19-C1076>=0),1,0)","v":{"$error":"#N/A"}},{"$f":"IF(AND(C1076-シート!$C$87>=0,シート!$X$87-C1076>=0),1,0)","v":{"$error":"#VALUE!"}},{"$error":"#N/A"},{"$error":"#N/A"},{"$f":"IF(AND(C1076-シート!$CP$87>=0,シート!$DK$87-C1076>=0),1,0)","v":{"$error":"#VALUE!"}},{"$error":"#N/A"},{"$error":"#N/A"},"1902-12-08"]
[1075,106,"1902-12-09",{"$f":"+IF(AND(C1077-シート!$BV$67>=0,シート!$AI$19-C1077>=0),1,0)","v":{"$error":"#N/A"}},{"$f":"IF(AND(C1077-シート!$C$87>=0,シート!$X$87-C1077>=0),1,0)","v":{"$error":"#VALUE!"}},{"$error":"#N/A"},{"$error":"#N/A"},{"$f":"IF(AND(C1077-シート!$CP$87>=0,シート!$DK$87-C1077>=0),1,0)","v":{"$error":"#VALUE!"}},{"$error":"#N/A"},{"$error":"#N/A"},"1902-12-09"]
[1076,106,"1902-12-10",{"$f":"+IF(AND(C1078-シート!$BV$67>=0,シート!$AI$19-C1078>=0),1,0)","v":{"$error":"#N/A"}},{"$f":"IF(AND(C1078-シート!$C$87>=0,シート!$X$87-C1078>=0),1,0)","v":{"$error":"#VALUE!"}},{"$error":"#N/A"},{"$error":"#N/A"},{"$f":"IF(AND(C1078-シート!$CP$87>=0,シート!$DK$87-C1078>=0),1,0)","v":{"$error":"#VALUE!"}},{"$error":"#N/A"},{"$error":"#N/A"},"1902-12-10"]
[1077,107,"1902-12-11",{"$f":"+IF(AND(C1079-シート!$BV$67>=0,シート!$AI$19-C1079>=0),1,0)","v":{"$error":"#N/A"}},{"$f":"IF(AND(C1079-シート!$C$87>=0,シート!$X$87-C1079>=0),1,0)","v":{"$error":"#VALUE!"}},{"$error":"#N/A"},{"$error":"#N/A"},{"$f":"IF(AND(C1079-シート!$CP$87>=0,シート!$DK$87-C1079>=0),1,0)","v":{"$error":"#VALUE!"}},{"$error":"#N/A"},{"$error":"#N/A"},"1902-12-11"]
[1078,107,"1902-12-12",{"$f":"+IF(AND(C1080-シート!$BV$67>=0,シート!$AI$19-C1080>=0),1,0)","v":{"$error":"#N/A"}},{"$f":"IF(AND(C1080-シート!$C$87>=0,シート!$X$87-C1080>=0),1,0)","v":{"$error":"#VALUE!"}},{"$error":"#N/A"},{"$error":"#N/A"},{"$f":"IF(AND(C1080-シート!$CP$87>=0,シート!$DK$87-C1080>=0),1,0)","v":{"$error":"#VALUE!"}},{"$error":"#N/A"},{"$error":"#N/A"},"1902-12-12"]
[1079,107,"1902-12-13",{"$f":"+IF(AND(C1081-シート!$BV$67>=0,シート!$AI$19-C1081>=0),1,0)","v":{"$error":"#N/A"}},{"$f":"IF(AND(C1081-シート!$C$87>=0,シート!$X$87-C1081>=0),1,0)","v":{"$error":"#VALUE!"}},{"$error":"#N/A"},{"$error":"#N/A"},{"$f":"IF(AND(C1081-シート!$CP$87>=0,シート!$DK$87-C1081>=0),1,0)","v":{"$error":"#VALUE!"}},{"$error":"#N/A"},{"$error":"#N/A"},"1902-12-13"]
[1080,107,"1902-12-14",{"$f":"+IF(AND(C1082-シート!$BV$67>=0,シート!$AI$19-C1082>=0),1,0)","v":{"$error":"#N/A"}},{"$f":"IF(AND(C1082-シート!$C$87>=0,シート!$X$87-C1082>=0),1,0)","v":{"$error":"#VALUE!"}},{"$error":"#N/A"},{"$error":"#N/A"},{"$f":"IF(AND(C1082-シート!$CP$87>=0,シート!$DK$87-C1082>=0),1,0)","v":{"$error":"#VALUE!"}},{"$error":"#N/A"},{"$error":"#N/A"},"1902-12-14"]
[1081,107,"1902-12-15",{"$f":"+IF(AND(C1083-シート!$BV$67>=0,シート!$AI$19-C1083>=0),1,0)","v":{"$error":"#N/A"}},{"$f":"IF(AND(C1083-シート!$C$87>=0,シート!$X$87-C1083>=0),1,0)","v":{"$error":"#VALUE!"}},{"$error":"#N/A"},{"$error":"#N/A"},{"$f":"IF(AND(C1083-シート!$CP$87>=0,シート!$DK$87-C1083>=0),1,0)","v":{"$error":"#VALUE!"}},{"$error":"#N/A"},{"$error":"#N/A"},"1902-12-15"]
[1082,107,"1902-12-16",{"$f":"+IF(AND(C1084-シート!$BV$67>=0,シート!$AI$19-C1084>=0),1,0)","v":{"$error":"#N/A"}},{"$f":"IF(AND(C1084-シート!$C$87>=0,シート!$X$87-C1084>=0),1,0)","v":{"$error":"#VALUE!"}},{"$error":"#N/A"},{"$error":"#N/A"},{"$f":"IF(AND(C1084-シート!$CP$87>=0,シート!$DK$87-C1084>=0),1,0)","v":{"$error":"#VALUE!"}},{"$error":"#N/A"},{"$error":"#N/A"},"1902-12-16"]
[1083,107,"1902-12-17",{"$f":"+IF(AND(C1085-シート!$BV$67>=0,シート!$AI$19-C1085>=0),1,0)","v":{"$error":"#N/A"}},{"$f":"IF(AND(C1085-シート!$C$87>=0,シート!$X$87-C1085>=0),1,0)","v":{"$error":"#VALUE!"}},{"$error":"#N/A"},{"$error":"#N/A"},{"$f":"IF(AND(C1085-シート!$CP$87>=0,シート!$DK$87-C1085>=0),1,0)","v":{"$error":"#VALUE!"}},{"$error":"#N/A"},{"$error":"#N/A"},"1902-12-17"]
[1084,107,"1902-12-18",{"$f":"+IF(AND(C1086-シート!$BV$67>=0,シート!$AI$19-C1086>=0),1,0)","v":{"$error":"#N/A"}},{"$f":"IF(AND(C1086-シート!$C$87>=0,シート!$X$87-C1086>=0),1,0)","v":{"$error":"#VALUE!"}},{"$error":"#N/A"},{"$error":"#N/A"},{"$f":"IF(AND(C1086-シート!$CP$87>=0,シート!$DK$87-C1086>=0),1,0)","v":{"$error":"#VALUE!"}},{"$error":"#N/A"},{"$error":"#N/A"},"1902-12-18"]
[1085,107,"1902-12-19",{"$f":"+IF(AND(C1087-シート!$BV$67>=0,シート!$AI$19-C1087>=0),1,0)","v":{"$error":"#N/A"}},{"$f":"IF(AND(C1087-シート!$C$87>=0,シート!$X$87-C1087>=0),1,0)","v":{"$error":"#VALUE!"}},{"$error":"#N/A"},{"$error":"#N/A"},{"$f":"IF(AND(C1087-シート!$CP$87>=0,シート!$DK$87-C1087>=0),1,0)","v":{"$error":"#VALUE!"}},{"$error":"#N/A"},{"$error":"#N/A"},"1902-12-19"]
[1086,107,"1902-12-20",{"$f":"+IF(AND(C1088-シート!$BV$67>=0,シート!$AI$19-C1088>=0),1,0)","v":{"$error":"#N/A"}},{"$f":"IF(AND(C1088-シート!$C$87>=0,シート!$X$87-C1088>=0),1,0)","v":{"$error":"#VALUE!"}},{"$error":"#N/A"},{"$error":"#N/A"},{"$f":"IF(AND(C1088-シート!$CP$87>=0,シート!$DK$87-C1088>=0),1,0)","v":{"$error":"#VALUE!"}},{"$error":"#N/A"},{"$error":"#N/A"},"1902-12-20"]
[1087,108,"1902-12-21",{"$f":"+IF(AND(C1089-シート!$BV$67>=0,シート!$AI$19-C1089>=0),1,0)","v":{"$error":"#N/A"}},{"$f":"IF(AND(C1089-シート!$C$87>=0,シート!$X$87-C1089>=0),1,0)","v":{"$error":"#VALUE!"}},{"$error":"#N/A"},{"$error":"#N/A"},{"$f":"IF(AND(C1089-シート!$CP$87>=0,シート!$DK$87-C1089>=0),1,0)","v":{"$error":"#VALUE!"}},{"$error":"#N/A"},{"$error":"#N/A"},"1902-12-21"]
[1088,108,"1902-12-22",{"$f":"+IF(AND(C1090-シート!$BV$67>=0,シート!$AI$19-C1090>=0),1,0)","v":{"$error":"#N/A"}},{"$f":"IF(AND(C1090-シート!$C$87>=0,シート!$X$87-C1090>=0),1,0)","v":{"$error":"#VALUE!"}},{"$error":"#N/A"},{"$error":"#N/A"},{"$f":"IF(AND(C1090-シート!$CP$87>=0,シート!$DK$87-C1090>=0),1,0)","v":{"$error":"#VALUE!"}},{"$error":"#N/A"},{"$error":"#N/A"},"1902-12-22"]
[1089,108,"1902-12-23",{"$f":"+IF(AND(C1091-シート!$BV$67>=0,シート!$AI$19-C1091>=0),1,0)","v":{"$error":"#N/A"}},{"$f":"IF(AND(C1091-シート!$C$87>=0,シート!$X$87-C1091>=0),1,0)","v":{"$error":"#VALUE!"}},{"$error":"#N/A"},{"$error":"#N/A"},{"$f":"IF(AND(C1091-シート!$CP$87>=0,シート!$DK$87-C1091>=0),1,0)","v":{"$error":"#VALUE!"}},{"$error":"#N/A"},{"$error":"#N/A"},"1902-12-23"]
[1090,108,"1902-12-24",{"$f":"+IF(AND(C1092-シート!$BV$67>=0,シート!$AI$19-C1092>=0),1,0)","v":{"$error":"#N/A"}},{"$f":"IF(AND(C1092-シート!$C$87>=0,シート!$X$87-C1092>=0),1,0)","v":{"$error":"#VALUE!"}},{"$f":"IF(+D1092+E1092=2,1,0)","v":{"$error":"#N/A"}},{"$error":"#N/A"},{"$f":"IF(AND(C1092-シート!$CP$87>=0,シート!$DK$87-C1092>=0),1,0)","v":{"$error":"#VALUE!"}},{"$f":"IF(+D1092+H1092=2,1,0)","v":{"$error":"#N/A"}},{"$error":"#N/A"},{"$f":"+C1092","v":"1902-12-24"}]
[{"$f":"+A1092+1","v":1091},108,{"$f":"+C1092+1","v":"1902-12-25"},{"$f":"+IF(AND(C1093-シート!$BV$67>=0,シート!$AI$19-C1093>=0),1,0)","v":{"$error":"#N/A"}},{"$f":"IF(AND(C1093-シート!$C$87>=0,シート!$X$87-C1093>=0),1,0)","v":{"$error":"#VALUE!"}},{"$error":"#N/A"},{"$f":"+G1092+F1093","v":{"$error":"#N/A"}},{"$f":"IF(AND(C1093-シート!$CP$87>=0,シート!$DK$87-C1093>=0),1,0)","v":{"$error":"#VALUE!"}},{"$error":"#N/A"},{"$f":"+J1092+I1093","v":{"$error":"#N/A"}},"1902-12-25"]
[1092,108,"1902-12-26",{"$f":"+IF(AND(C1094-シート!$BV$67>=0,シート!$AI$19-C1094>=0),1,0)","v":{"$error":"#N/A"}},{"$f":"IF(AND(C1094-シート!$C$87>=0,シート!$X$87-C1094>=0),1,0)","v":{"$error":"#VALUE!"}},{"$error":"#N/A"},{"$error":"#N/A"},{"$f":"IF(AND(C1094-シート!$CP$87>=0,シート!$DK$87-C1094>=0),1,0)","v":{"$error":"#VALUE!"}},{"$error":"#N/A"},{"$error":"#N/A"},"1902-12-26"]
[1093,108,"1902-12-27",{"$f":"+IF(AND(C1095-シート!$BV$67>=0,シート!$AI$19-C1095>=0),1,0)","v":{"$error":"#N/A"}},{"$f":"IF(AND(C1095-シート!$C$87>=0,シート!$X$87-C1095>=0),1,0)","v":{"$error":"#VALUE!"}},{"$error":"#N/A"},{"$error":"#N/A"},{"$f":"IF(AND(C1095-シート!$CP$87>=0,シート!$DK$87-C1095>=0),1,0)","v":{"$error":"#VALUE!"}},{"$error":"#N/A"},{"$error":"#N/A"},"1902-12-27"]
[1094,108,"1902-12-28",{"$f":"+IF(AND(C1096-シート!$BV$67>=0,シート!$AI$19-C1096>=0),1,0)","v":{"$error":"#N/A"}},{"$f":"IF(AND(C1096-シート!$C$87>=0,シート!$X$87-C1096>=0),1,0)","v":{"$error":"#VALUE!"}},{"$error":"#N/A"},{"$error":"#N/A"},{"$f":"IF(AND(C1096-シート!$CP$87>=0,シート!$DK$87-C1096>=0),1,0)","v":{"$error":"#VALUE!"}},{"$error":"#N/A"},{"$error":"#N/A"},"1902-12-28"]
[1095,108,"1902-12-29",{"$f":"+IF(AND(C1097-シート!$BV$67>=0,シート!$AI$19-C1097>=0),1,0)","v":{"$error":"#N/A"}},{"$f":"IF(AND(C1097-シート!$C$87>=0,シート!$X$87-C1097>=0),1,0)","v":{"$error":"#VALUE!"}},{"$error":"#N/A"},{"$error":"#N/A"},{"$f":"IF(AND(C1097-シート!$CP$87>=0,シート!$DK$87-C1097>=0),1,0)","v":{"$error":"#VALUE!"}},{"$error":"#N/A"},{"$error":"#N/A"},"1902-12-29"]
[1096,108,"1902-12-30",{"$f":"+IF(AND(C1098-シート!$BV$67>=0,シート!$AI$19-C1098>=0),1,0)","v":{"$error":"#N/A"}},{"$f":"IF(AND(C1098-シート!$C$87>=0,シート!$X$87-C1098>=0),1,0)","v":{"$error":"#VALUE!"}},{"$error":"#N/A"},{"$error":"#N/A"},{"$f":"IF(AND(C1098-シート!$CP$87>=0,シート!$DK$87-C1098>=0),1,0)","v":{"$error":"#VALUE!"}},{"$error":"#N/A"},{"$error":"#N/A"},"1902-12-30"]
[1097,109,"1902-12-31",{"$f":"+IF(AND(C1099-シート!$BV$67>=0,シート!$AI$19-C1099>=0),1,0)","v":{"$error":"#N/A"}},{"$f":"IF(AND(C1099-シート!$C$87>=0,シート!$X$87-C1099>=0),1,0)","v":{"$error":"#VALUE!"}},{"$error":"#N/A"},{"$error":"#N/A"},{"$f":"IF(AND(C1099-シート!$CP$87>=0,シート!$DK$87-C1099>=0),1,0)","v":{"$error":"#VALUE!"}},{"$error":"#N/A"},{"$error":"#N/A"},"1902-12-31"]
[1098,109,"1903-01-01",{"$f":"+IF(AND(C1100-シート!$BV$67>=0,シート!$AI$19-C1100>=0),1,0)","v":{"$error":"#N/A"}},{"$f":"IF(AND(C1100-シート!$C$87>=0,シート!$X$87-C1100>=0),1,0)","v":{"$error":"#VALUE!"}},{"$error":"#N/A"},{"$error":"#N/A"},{"$f":"IF(AND(C1100-シート!$CP$87>=0,シート!$DK$87-C1100>=0),1,0)","v":{"$error":"#VALUE!"}},{"$error":"#N/A"},{"$error":"#N/A"},"1903-01-01"]
[1099,109,"1903-01-02",{"$f":"+IF(AND(C1101-シート!$BV$67>=0,シート!$AI$19-C1101>=0),1,0)","v":{"$error":"#N/A"}},{"$f":"IF(AND(C1101-シート!$C$87>=0,シート!$X$87-C1101>=0),1,0)","v":{"$error":"#VALUE!"}},{"$error":"#N/A"},{"$error":"#N/A"},{"$f":"IF(AND(C1101-シート!$CP$87>=0,シート!$DK$87-C1101>=0),1,0)","v":{"$error":"#VALUE!"}},{"$error":"#N/A"},{"$error":"#N/A"},"1903-01-02"]
[1100,109,"1903-01-03",{"$f":"+IF(AND(C1102-シート!$BV$67>=0,シート!$AI$19-C1102>=0),1,0)","v":{"$error":"#N/A"}},{"$f":"IF(AND(C1102-シート!$C$87>=0,シート!$X$87-C1102>=0),1,0)","v":{"$error":"#VALUE!"}},{"$error":"#N/A"},{"$error":"#N/A"},{"$f":"IF(AND(C1102-シート!$CP$87>=0,シート!$DK$87-C1102>=0),1,0)","v":{"$error":"#VALUE!"}},{"$error":"#N/A"},{"$error":"#N/A"},"1903-01-03"]
[1101,109,"1903-01-04",{"$f":"+IF(AND(C1103-シート!$BV$67>=0,シート!$AI$19-C1103>=0),1,0)","v":{"$error":"#N/A"}},{"$f":"IF(AND(C1103-シート!$C$87>=0,シート!$X$87-C1103>=0),1,0)","v":{"$error":"#VALUE!"}},{"$error":"#N/A"},{"$error":"#N/A"},{"$f":"IF(AND(C1103-シート!$CP$87>=0,シート!$DK$87-C1103>=0),1,0)","v":{"$error":"#VALUE!"}},{"$error":"#N/A"},{"$error":"#N/A"},"1903-01-04"]
[1102,109,"1903-01-05",{"$f":"+IF(AND(C1104-シート!$BV$67>=0,シート!$AI$19-C1104>=0),1,0)","v":{"$error":"#N/A"}},{"$f":"IF(AND(C1104-シート!$C$87>=0,シート!$X$87-C1104>=0),1,0)","v":{"$error":"#VALUE!"}},{"$error":"#N/A"},{"$error":"#N/A"},{"$f":"IF(AND(C1104-シート!$CP$87>=0,シート!$DK$87-C1104>=0),1,0)","v":{"$error":"#VALUE!"}},{"$error":"#N/A"},{"$error":"#N/A"},"1903-01-05"]
[1103,109,"1903-01-06",{"$f":"+IF(AND(C1105-シート!$BV$67>=0,シート!$AI$19-C1105>=0),1,0)","v":{"$error":"#N/A"}},{"$f":"IF(AND(C1105-シート!$C$87>=0,シート!$X$87-C1105>=0),1,0)","v":{"$error":"#VALUE!"}},{"$error":"#N/A"},{"$error":"#N/A"},{"$f":"IF(AND(C1105-シート!$CP$87>=0,シート!$DK$87-C1105>=0),1,0)","v":{"$error":"#VALUE!"}},{"$error":"#N/A"},{"$error":"#N/A"},"1903-01-06"]
[1104,109,"1903-01-07",{"$f":"+IF(AND(C1106-シート!$BV$67>=0,シート!$AI$19-C1106>=0),1,0)","v":{"$error":"#N/A"}},{"$f":"IF(AND(C1106-シート!$C$87>=0,シート!$X$87-C1106>=0),1,0)","v":{"$error":"#VALUE!"}},{"$error":"#N/A"},{"$error":"#N/A"},{"$f":"IF(AND(C1106-シート!$CP$87>=0,シート!$DK$87-C1106>=0),1,0)","v":{"$error":"#VALUE!"}},{"$error":"#N/A"},{"$error":"#N/A"},"1903-01-07"]
[1105,109,"1903-01-08",{"$f":"+IF(AND(C1107-シート!$BV$67>=0,シート!$AI$19-C1107>=0),1,0)","v":{"$error":"#N/A"}},{"$f":"IF(AND(C1107-シート!$C$87>=0,シート!$X$87-C1107>=0),1,0)","v":{"$error":"#VALUE!"}},{"$error":"#N/A"},{"$error":"#N/A"},{"$f":"IF(AND(C1107-シート!$CP$87>=0,シート!$DK$87-C1107>=0),1,0)","v":{"$error":"#VALUE!"}},{"$error":"#N/A"},{"$error":"#N/A"},"1903-01-08"]
[1106,109,"1903-01-09",{"$f":"+IF(AND(C1108-シート!$BV$67>=0,シート!$AI$19-C1108>=0),1,0)","v":{"$error":"#N/A"}},{"$f":"IF(AND(C1108-シート!$C$87>=0,シート!$X$87-C1108>=0),1,0)","v":{"$error":"#VALUE!"}},{"$error":"#N/A"},{"$error":"#N/A"},{"$f":"IF(AND(C1108-シート!$CP$87>=0,シート!$DK$87-C1108>=0),1,0)","v":{"$error":"#VALUE!"}},{"$error":"#N/A"},{"$error":"#N/A"},"1903-01-09"]
[1107,110,"1903-01-10",{"$f":"+IF(AND(C1109-シート!$BV$67>=0,シート!$AI$19-C1109>=0),1,0)","v":{"$error":"#N/A"}},{"$f":"IF(AND(C1109-シート!$C$87>=0,シート!$X$87-C1109>=0),1,0)","v":{"$error":"#VALUE!"}},{"$error":"#N/A"},{"$error":"#N/A"},{"$f":"IF(AND(C1109-シート!$CP$87>=0,シート!$DK$87-C1109>=0),1,0)","v":{"$error":"#VALUE!"}},{"$error":"#N/A"},{"$error":"#N/A"},"1903-01-10"]
[1108,110,"1903-01-11",{"$f":"+IF(AND(C1110-シート!$BV$67>=0,シート!$AI$19-C1110>=0),1,0)","v":{"$error":"#N/A"}},{"$f":"IF(AND(C1110-シート!$C$87>=0,シート!$X$87-C1110>=0),1,0)","v":{"$error":"#VALUE!"}},{"$error":"#N/A"},{"$error":"#N/A"},{"$f":"IF(AND(C1110-シート!$CP$87>=0,シート!$DK$87-C1110>=0),1,0)","v":{"$error":"#VALUE!"}},{"$error":"#N/A"},{"$error":"#N/A"},"1903-01-11"]
[1109,110,"1903-01-12",{"$f":"+IF(AND(C1111-シート!$BV$67>=0,シート!$AI$19-C1111>=0),1,0)","v":{"$error":"#N/A"}},{"$f":"IF(AND(C1111-シート!$C$87>=0,シート!$X$87-C1111>=0),1,0)","v":{"$error":"#VALUE!"}},{"$error":"#N/A"},{"$error":"#N/A"},{"$f":"IF(AND(C1111-シート!$CP$87>=0,シート!$DK$87-C1111>=0),1,0)","v":{"$error":"#VALUE!"}},{"$error":"#N/A"},{"$error":"#N/A"},"1903-01-12"]
[1110,110,"1903-01-13",{"$f":"+IF(AND(C1112-シート!$BV$67>=0,シート!$AI$19-C1112>=0),1,0)","v":{"$error":"#N/A"}},{"$f":"IF(AND(C1112-シート!$C$87>=0,シート!$X$87-C1112>=0),1,0)","v":{"$error":"#VALUE!"}},{"$error":"#N/A"},{"$error":"#N/A"},{"$f":"IF(AND(C1112-シート!$CP$87>=0,シート!$DK$87-C1112>=0),1,0)","v":{"$error":"#VALUE!"}},{"$error":"#N/A"},{"$error":"#N/A"},"1903-01-13"]
[1111,110,"1903-01-14",{"$f":"+IF(AND(C1113-シート!$BV$67>=0,シート!$AI$19-C1113>=0),1,0)","v":{"$error":"#N/A"}},{"$f":"IF(AND(C1113-シート!$C$87>=0,シート!$X$87-C1113>=0),1,0)","v":{"$error":"#VALUE!"}},{"$error":"#N/A"},{"$error":"#N/A"},{"$f":"IF(AND(C1113-シート!$CP$87>=0,シート!$DK$87-C1113>=0),1,0)","v":{"$error":"#VALUE!"}},{"$error":"#N/A"},{"$error":"#N/A"},"1903-01-14"]
[1112,110,"1903-01-15",{"$f":"+IF(AND(C1114-シート!$BV$67>=0,シート!$AI$19-C1114>=0),1,0)","v":{"$error":"#N/A"}},{"$f":"IF(AND(C1114-シート!$C$87>=0,シート!$X$87-C1114>=0),1,0)","v":{"$error":"#VALUE!"}},{"$error":"#N/A"},{"$error":"#N/A"},{"$f":"IF(AND(C1114-シート!$CP$87>=0,シート!$DK$87-C1114>=0),1,0)","v":{"$error":"#VALUE!"}},{"$error":"#N/A"},{"$error":"#N/A"},"1903-01-15"]
[1113,110,"1903-01-16",{"$f":"+IF(AND(C1115-シート!$BV$67>=0,シート!$AI$19-C1115>=0),1,0)","v":{"$error":"#N/A"}},{"$f":"IF(AND(C1115-シート!$C$87>=0,シート!$X$87-C1115>=0),1,0)","v":{"$error":"#VALUE!"}},{"$error":"#N/A"},{"$error":"#N/A"},{"$f":"IF(AND(C1115-シート!$CP$87>=0,シート!$DK$87-C1115>=0),1,0)","v":{"$error":"#VALUE!"}},{"$error":"#N/A"},{"$error":"#N/A"},"1903-01-16"]
[1114,110,"1903-01-17",{"$f":"+IF(AND(C1116-シート!$BV$67>=0,シート!$AI$19-C1116>=0),1,0)","v":{"$error":"#N/A"}},{"$f":"IF(AND(C1116-シート!$C$87>=0,シート!$X$87-C1116>=0),1,0)","v":{"$error":"#VALUE!"}},{"$error":"#N/A"},{"$error":"#N/A"},{"$f":"IF(AND(C1116-シート!$CP$87>=0,シート!$DK$87-C1116>=0),1,0)","v":{"$error":"#VALUE!"}},{"$error":"#N/A"},{"$error":"#N/A"},"1903-01-17"]
[1115,110,"1903-01-18",{"$f":"+IF(AND(C1117-シート!$BV$67>=0,シート!$AI$19-C1117>=0),1,0)","v":{"$error":"#N/A"}},{"$f":"IF(AND(C1117-シート!$C$87>=0,シート!$X$87-C1117>=0),1,0)","v":{"$error":"#VALUE!"}},{"$error":"#N/A"},{"$error":"#N/A"},{"$f":"IF(AND(C1117-シート!$CP$87>=0,シート!$DK$87-C1117>=0),1,0)","v":{"$error":"#VALUE!"}},{"$error":"#N/A"},{"$error":"#N/A"},"1903-01-18"]
[1116,110,"1903-01-19",{"$f":"+IF(AND(C1118-シート!$BV$67>=0,シート!$AI$19-C1118>=0),1,0)","v":{"$error":"#N/A"}},{"$f":"IF(AND(C1118-シート!$C$87>=0,シート!$X$87-C1118>=0),1,0)","v":{"$error":"#VALUE!"}},{"$error":"#N/A"},{"$error":"#N/A"},{"$f":"IF(AND(C1118-シート!$CP$87>=0,シート!$DK$87-C1118>=0),1,0)","v":{"$error":"#VALUE!"}},{"$error":"#N/A"},{"$error":"#N/A"},"1903-01-19"]
[1117,110,"1903-01-20",{"$f":"+IF(AND(C1119-シート!$BV$67>=0,シート!$AI$19-C1119>=0),1,0)","v":{"$error":"#N/A"}},{"$f":"IF(AND(C1119-シート!$C$87>=0,シート!$X$87-C1119>=0),1,0)","v":{"$error":"#VALUE!"}},{"$error":"#N/A"},{"$error":"#N/A"},{"$f":"IF(AND(C1119-シート!$CP$87>=0,シート!$DK$87-C1119>=0),1,0)","v":{"$error":"#VALUE!"}},{"$error":"#N/A"},{"$error":"#N/A"},"1903-01-20"]
[1118,111,"1903-01-21",{"$f":"+IF(AND(C1120-シート!$BV$67>=0,シート!$AI$19-C1120>=0),1,0)","v":{"$error":"#N/A"}},{"$f":"IF(AND(C1120-シート!$C$87>=0,シート!$X$87-C1120>=0),1,0)","v":{"$error":"#VALUE!"}},{"$error":"#N/A"},{"$error":"#N/A"},{"$f":"IF(AND(C1120-シート!$CP$87>=0,シート!$DK$87-C1120>=0),1,0)","v":{"$error":"#VALUE!"}},{"$error":"#N/A"},{"$error":"#N/A"},"1903-01-21"]
[1119,111,"1903-01-22",{"$f":"+IF(AND(C1121-シート!$BV$67>=0,シート!$AI$19-C1121>=0),1,0)","v":{"$error":"#N/A"}},{"$f":"IF(AND(C1121-シート!$C$87>=0,シート!$X$87-C1121>=0),1,0)","v":{"$error":"#VALUE!"}},{"$error":"#N/A"},{"$error":"#N/A"},{"$f":"IF(AND(C1121-シート!$CP$87>=0,シート!$DK$87-C1121>=0),1,0)","v":{"$error":"#VALUE!"}},{"$error":"#N/A"},{"$error":"#N/A"},"1903-01-22"]
[1120,111,"1903-01-23",{"$f":"+IF(AND(C1122-シート!$BV$67>=0,シート!$AI$19-C1122>=0),1,0)","v":{"$error":"#N/A"}},{"$f":"IF(AND(C1122-シート!$C$87>=0,シート!$X$87-C1122>=0),1,0)","v":{"$error":"#VALUE!"}},{"$error":"#N/A"},{"$error":"#N/A"},{"$f":"IF(AND(C1122-シート!$CP$87>=0,シート!$DK$87-C1122>=0),1,0)","v":{"$error":"#VALUE!"}},{"$error":"#N/A"},{"$error":"#N/A"},"1903-01-23"]
[1121,111,"1903-01-24",{"$f":"+IF(AND(C1123-シート!$BV$67>=0,シート!$AI$19-C1123>=0),1,0)","v":{"$error":"#N/A"}},{"$f":"IF(AND(C1123-シート!$C$87>=0,シート!$X$87-C1123>=0),1,0)","v":{"$error":"#VALUE!"}},{"$error":"#N/A"},{"$error":"#N/A"},{"$f":"IF(AND(C1123-シート!$CP$87>=0,シート!$DK$87-C1123>=0),1,0)","v":{"$error":"#VALUE!"}},{"$error":"#N/A"},{"$error":"#N/A"},"1903-01-24"]
[1122,111,"1903-01-25",{"$f":"+IF(AND(C1124-シート!$BV$67>=0,シート!$AI$19-C1124>=0),1,0)","v":{"$error":"#N/A"}},{"$f":"IF(AND(C1124-シート!$C$87>=0,シート!$X$87-C1124>=0),1,0)","v":{"$error":"#VALUE!"}},{"$error":"#N/A"},{"$error":"#N/A"},{"$f":"IF(AND(C1124-シート!$CP$87>=0,シート!$DK$87-C1124>=0),1,0)","v":{"$error":"#VALUE!"}},{"$error":"#N/A"},{"$error":"#N/A"},"1903-01-25"]
[1123,111,"1903-01-26",{"$f":"+IF(AND(C1125-シート!$BV$67>=0,シート!$AI$19-C1125>=0),1,0)","v":{"$error":"#N/A"}},{"$f":"IF(AND(C1125-シート!$C$87>=0,シート!$X$87-C1125>=0),1,0)","v":{"$error":"#VALUE!"}},{"$error":"#N/A"},{"$error":"#N/A"},{"$f":"IF(AND(C1125-シート!$CP$87>=0,シート!$DK$87-C1125>=0),1,0)","v":{"$error":"#VALUE!"}},{"$error":"#N/A"},{"$error":"#N/A"},"1903-01-26"]
[1124,111,"1903-01-27",{"$f":"+IF(AND(C1126-シート!$BV$67>=0,シート!$AI$19-C1126>=0),1,0)","v":{"$error":"#N/A"}},{"$f":"IF(AND(C1126-シート!$C$87>=0,シート!$X$87-C1126>=0),1,0)","v":{"$error":"#VALUE!"}},{"$error":"#N/A"},{"$error":"#N/A"},{"$f":"IF(AND(C1126-シート!$CP$87>=0,シート!$DK$87-C1126>=0),1,0)","v":{"$error":"#VALUE!"}},{"$error":"#N/A"},{"$error":"#N/A"},"1903-01-27"]
[1125,111,"1903-01-28",{"$f":"+IF(AND(C1127-シート!$BV$67>=0,シート!$AI$19-C1127>=0),1,0)","v":{"$error":"#N/A"}},{"$f":"IF(AND(C1127-シート!$C$87>=0,シート!$X$87-C1127>=0),1,0)","v":{"$error":"#VALUE!"}},{"$error":"#N/A"},{"$error":"#N/A"},{"$f":"IF(AND(C1127-シート!$CP$87>=0,シート!$DK$87-C1127>=0),1,0)","v":{"$error":"#VALUE!"}},{"$error":"#N/A"},{"$error":"#N/A"},"1903-01-28"]
[1126,111,"1903-01-29",{"$f":"+IF(AND(C1128-シート!$BV$67>=0,シート!$AI$19-C1128>=0),1,0)","v":{"$error":"#N/A"}},{"$f":"IF(AND(C1128-シート!$C$87>=0,シート!$X$87-C1128>=0),1,0)","v":{"$error":"#VALUE!"}},{"$error":"#N/A"},{"$error":"#N/A"},{"$f":"IF(AND(C1128-シート!$CP$87>=0,シート!$DK$87-C1128>=0),1,0)","v":{"$error":"#VALUE!"}},{"$error":"#N/A"},{"$error":"#N/A"},"1903-01-29"]
[1127,111,"1903-01-30",{"$f":"+IF(AND(C1129-シート!$BV$67>=0,シート!$AI$19-C1129>=0),1,0)","v":{"$error":"#N/A"}},{"$f":"IF(AND(C1129-シート!$C$87>=0,シート!$X$87-C1129>=0),1,0)","v":{"$error":"#VALUE!"}},{"$error":"#N/A"},{"$error":"#N/A"},{"$f":"IF(AND(C1129-シート!$CP$87>=0,シート!$DK$87-C1129>=0),1,0)","v":{"$error":"#VALUE!"}},{"$error":"#N/A"},{"$error":"#N/A"},"1903-01-30"]
[1128,112,"1903-01-31",{"$f":"+IF(AND(C1130-シート!$BV$67>=0,シート!$AI$19-C1130>=0),1,0)","v":{"$error":"#N/A"}},{"$f":"IF(AND(C1130-シート!$C$87>=0,シート!$X$87-C1130>=0),1,0)","v":{"$error":"#VALUE!"}},{"$error":"#N/A"},{"$error":"#N/A"},{"$f":"IF(AND(C1130-シート!$CP$87>=0,シート!$DK$87-C1130>=0),1,0)","v":{"$error":"#VALUE!"}},{"$error":"#N/A"},{"$error":"#N/A"},"1903-01-31"]
[1129,112,"1903-02-01",{"$f":"+IF(AND(C1131-シート!$BV$67>=0,シート!$AI$19-C1131>=0),1,0)","v":{"$error":"#N/A"}},{"$f":"IF(AND(C1131-シート!$C$87>=0,シート!$X$87-C1131>=0),1,0)","v":{"$error":"#VALUE!"}},{"$error":"#N/A"},{"$error":"#N/A"},{"$f":"IF(AND(C1131-シート!$CP$87>=0,シート!$DK$87-C1131>=0),1,0)","v":{"$error":"#VALUE!"}},{"$error":"#N/A"},{"$error":"#N/A"},"1903-02-01"]
[1130,112,"1903-02-02",{"$f":"+IF(AND(C1132-シート!$BV$67>=0,シート!$AI$19-C1132>=0),1,0)","v":{"$error":"#N/A"}},{"$f":"IF(AND(C1132-シート!$C$87>=0,シート!$X$87-C1132>=0),1,0)","v":{"$error":"#VALUE!"}},{"$error":"#N/A"},{"$error":"#N/A"},{"$f":"IF(AND(C1132-シート!$CP$87>=0,シート!$DK$87-C1132>=0),1,0)","v":{"$error":"#VALUE!"}},{"$error":"#N/A"},{"$error":"#N/A"},"1903-02-02"]
[1131,112,"1903-02-03",{"$f":"+IF(AND(C1133-シート!$BV$67>=0,シート!$AI$19-C1133>=0),1,0)","v":{"$error":"#N/A"}},{"$f":"IF(AND(C1133-シート!$C$87>=0,シート!$X$87-C1133>=0),1,0)","v":{"$error":"#VALUE!"}},{"$error":"#N/A"},{"$error":"#N/A"},{"$f":"IF(AND(C1133-シート!$CP$87>=0,シート!$DK$87-C1133>=0),1,0)","v":{"$error":"#VALUE!"}},{"$error":"#N/A"},{"$error":"#N/A"},"1903-02-03"]
[1132,112,"1903-02-04",{"$f":"+IF(AND(C1134-シート!$BV$67>=0,シート!$AI$19-C1134>=0),1,0)","v":{"$error":"#N/A"}},{"$f":"IF(AND(C1134-シート!$C$87>=0,シート!$X$87-C1134>=0),1,0)","v":{"$error":"#VALUE!"}},{"$error":"#N/A"},{"$error":"#N/A"},{"$f":"IF(AND(C1134-シート!$CP$87>=0,シート!$DK$87-C1134>=0),1,0)","v":{"$error":"#VALUE!"}},{"$error":"#N/A"},{"$error":"#N/A"},"1903-02-04"]
[1133,112,"1903-02-05",{"$f":"+IF(AND(C1135-シート!$BV$67>=0,シート!$AI$19-C1135>=0),1,0)","v":{"$error":"#N/A"}},{"$f":"IF(AND(C1135-シート!$C$87>=0,シート!$X$87-C1135>=0),1,0)","v":{"$error":"#VALUE!"}},{"$error":"#N/A"},{"$error":"#N/A"},{"$f":"IF(AND(C1135-シート!$CP$87>=0,シート!$DK$87-C1135>=0),1,0)","v":{"$error":"#VALUE!"}},{"$error":"#N/A"},{"$error":"#N/A"},"1903-02-05"]
[1134,112,"1903-02-06",{"$f":"+IF(AND(C1136-シート!$BV$67>=0,シート!$AI$19-C1136>=0),1,0)","v":{"$error":"#N/A"}},{"$f":"IF(AND(C1136-シート!$C$87>=0,シート!$X$87-C1136>=0),1,0)","v":{"$error":"#VALUE!"}},{"$error":"#N/A"},{"$error":"#N/A"},{"$f":"IF(AND(C1136-シート!$CP$87>=0,シート!$DK$87-C1136>=0),1,0)","v":{"$error":"#VALUE!"}},{"$error":"#N/A"},{"$error":"#N/A"},"1903-02-06"]
[1135,112,"1903-02-07",{"$f":"+IF(AND(C1137-シート!$BV$67>=0,シート!$AI$19-C1137>=0),1,0)","v":{"$error":"#N/A"}},{"$f":"IF(AND(C1137-シート!$C$87>=0,シート!$X$87-C1137>=0),1,0)","v":{"$error":"#VALUE!"}},{"$error":"#N/A"},{"$error":"#N/A"},{"$f":"IF(AND(C1137-シート!$CP$87>=0,シート!$DK$87-C1137>=0),1,0)","v":{"$error":"#VALUE!"}},{"$error":"#N/A"},{"$error":"#N/A"},"1903-02-07"]
[1136,112,"1903-02-08",{"$f":"+IF(AND(C1138-シート!$BV$67>=0,シート!$AI$19-C1138>=0),1,0)","v":{"$error":"#N/A"}},{"$f":"IF(AND(C1138-シート!$C$87>=0,シート!$X$87-C1138>=0),1,0)","v":{"$error":"#VALUE!"}},{"$error":"#N/A"},{"$error":"#N/A"},{"$f":"IF(AND(C1138-シート!$CP$87>=0,シート!$DK$87-C1138>=0),1,0)","v":{"$error":"#VALUE!"}},{"$error":"#N/A"},{"$error":"#N/A"},"1903-02-08"]
[1137,112,"1903-02-09",{"$f":"+IF(AND(C1139-シート!$BV$67>=0,シート!$AI$19-C1139>=0),1,0)","v":{"$error":"#N/A"}},{"$f":"IF(AND(C1139-シート!$C$87>=0,シート!$X$87-C1139>=0),1,0)","v":{"$error":"#VALUE!"}},{"$error":"#N/A"},{"$error":"#N/A"},{"$f":"IF(AND(C1139-シート!$CP$87>=0,シート!$DK$87-C1139>=0),1,0)","v":{"$error":"#VALUE!"}},{"$error":"#N/A"},{"$error":"#N/A"},"1903-02-09"]
[1138,113,"1903-02-10",{"$f":"+IF(AND(C1140-シート!$BV$67>=0,シート!$AI$19-C1140>=0),1,0)","v":{"$error":"#N/A"}},{"$f":"IF(AND(C1140-シート!$C$87>=0,シート!$X$87-C1140>=0),1,0)","v":{"$error":"#VALUE!"}},{"$error":"#N/A"},{"$error":"#N/A"},{"$f":"IF(AND(C1140-シート!$CP$87>=0,シート!$DK$87-C1140>=0),1,0)","v":{"$error":"#VALUE!"}},{"$error":"#N/A"},{"$error":"#N/A"},"1903-02-10"]
[1139,113,"1903-02-11",{"$f":"+IF(AND(C1141-シート!$BV$67>=0,シート!$AI$19-C1141>=0),1,0)","v":{"$error":"#N/A"}},{"$f":"IF(AND(C1141-シート!$C$87>=0,シート!$X$87-C1141>=0),1,0)","v":{"$error":"#VALUE!"}},{"$error":"#N/A"},{"$error":"#N/A"},{"$f":"IF(AND(C1141-シート!$CP$87>=0,シート!$DK$87-C1141>=0),1,0)","v":{"$error":"#VALUE!"}},{"$error":"#N/A"},{"$error":"#N/A"},"1903-02-11"]
[1140,113,"1903-02-12",{"$f":"+IF(AND(C1142-シート!$BV$67>=0,シート!$AI$19-C1142>=0),1,0)","v":{"$error":"#N/A"}},{"$f":"IF(AND(C1142-シート!$C$87>=0,シート!$X$87-C1142>=0),1,0)","v":{"$error":"#VALUE!"}},{"$error":"#N/A"},{"$error":"#N/A"},{"$f":"IF(AND(C1142-シート!$CP$87>=0,シート!$DK$87-C1142>=0),1,0)","v":{"$error":"#VALUE!"}},{"$error":"#N/A"},{"$error":"#N/A"},"1903-02-12"]
[1141,113,"1903-02-13",{"$f":"+IF(AND(C1143-シート!$BV$67>=0,シート!$AI$19-C1143>=0),1,0)","v":{"$error":"#N/A"}},{"$f":"IF(AND(C1143-シート!$C$87>=0,シート!$X$87-C1143>=0),1,0)","v":{"$error":"#VALUE!"}},{"$error":"#N/A"},{"$error":"#N/A"},{"$f":"IF(AND(C1143-シート!$CP$87>=0,シート!$DK$87-C1143>=0),1,0)","v":{"$error":"#VALUE!"}},{"$error":"#N/A"},{"$error":"#N/A"},"1903-02-13"]
[1142,113,"1903-02-14",{"$f":"+IF(AND(C1144-シート!$BV$67>=0,シート!$AI$19-C1144>=0),1,0)","v":{"$error":"#N/A"}},{"$f":"IF(AND(C1144-シート!$C$87>=0,シート!$X$87-C1144>=0),1,0)","v":{"$error":"#VALUE!"}},{"$error":"#N/A"},{"$error":"#N/A"},{"$f":"IF(AND(C1144-シート!$CP$87>=0,シート!$DK$87-C1144>=0),1,0)","v":{"$error":"#VALUE!"}},{"$error":"#N/A"},{"$error":"#N/A"},"1903-02-14"]
[1143,113,"1903-02-15",{"$f":"+IF(AND(C1145-シート!$BV$67>=0,シート!$AI$19-C1145>=0),1,0)","v":{"$error":"#N/A"}},{"$f":"IF(AND(C1145-シート!$C$87>=0,シート!$X$87-C1145>=0),1,0)","v":{"$error":"#VALUE!"}},{"$error":"#N/A"},{"$error":"#N/A"},{"$f":"IF(AND(C1145-シート!$CP$87>=0,シート!$DK$87-C1145>=0),1,0)","v":{"$error":"#VALUE!"}},{"$error":"#N/A"},{"$error":"#N/A"},"1903-02-15"]
[1144,113,"1903-02-16",{"$f":"+IF(AND(C1146-シート!$BV$67>=0,シート!$AI$19-C1146>=0),1,0)","v":{"$error":"#N/A"}},{"$f":"IF(AND(C1146-シート!$C$87>=0,シート!$X$87-C1146>=0),1,0)","v":{"$error":"#VALUE!"}},{"$error":"#N/A"},{"$error":"#N/A"},{"$f":"IF(AND(C1146-シート!$CP$87>=0,シート!$DK$87-C1146>=0),1,0)","v":{"$error":"#VALUE!"}},{"$error":"#N/A"},{"$error":"#N/A"},"1903-02-16"]
[1145,113,"1903-02-17",{"$f":"+IF(AND(C1147-シート!$BV$67>=0,シート!$AI$19-C1147>=0),1,0)","v":{"$error":"#N/A"}},{"$f":"IF(AND(C1147-シート!$C$87>=0,シート!$X$87-C1147>=0),1,0)","v":{"$error":"#VALUE!"}},{"$error":"#N/A"},{"$error":"#N/A"},{"$f":"IF(AND(C1147-シート!$CP$87>=0,シート!$DK$87-C1147>=0),1,0)","v":{"$error":"#VALUE!"}},{"$error":"#N/A"},{"$error":"#N/A"},"1903-02-17"]
[1146,113,"1903-02-18",{"$f":"+IF(AND(C1148-シート!$BV$67>=0,シート!$AI$19-C1148>=0),1,0)","v":{"$error":"#N/A"}},{"$f":"IF(AND(C1148-シート!$C$87>=0,シート!$X$87-C1148>=0),1,0)","v":{"$error":"#VALUE!"}},{"$error":"#N/A"},{"$error":"#N/A"},{"$f":"IF(AND(C1148-シート!$CP$87>=0,シート!$DK$87-C1148>=0),1,0)","v":{"$error":"#VALUE!"}},{"$error":"#N/A"},{"$error":"#N/A"},"1903-02-18"]
[1147,113,"1903-02-19",{"$f":"+IF(AND(C1149-シート!$BV$67>=0,シート!$AI$19-C1149>=0),1,0)","v":{"$error":"#N/A"}},{"$f":"IF(AND(C1149-シート!$C$87>=0,シート!$X$87-C1149>=0),1,0)","v":{"$error":"#VALUE!"}},{"$error":"#N/A"},{"$error":"#N/A"},{"$f":"IF(AND(C1149-シート!$CP$87>=0,シート!$DK$87-C1149>=0),1,0)","v":{"$error":"#VALUE!"}},{"$error":"#N/A"},{"$error":"#N/A"},"1903-02-19"]
[1148,114,"1903-02-20",{"$f":"+IF(AND(C1150-シート!$BV$67>=0,シート!$AI$19-C1150>=0),1,0)","v":{"$error":"#N/A"}},{"$f":"IF(AND(C1150-シート!$C$87>=0,シート!$X$87-C1150>=0),1,0)","v":{"$error":"#VALUE!"}},{"$error":"#N/A"},{"$error":"#N/A"},{"$f":"IF(AND(C1150-シート!$CP$87>=0,シート!$DK$87-C1150>=0),1,0)","v":{"$error":"#VALUE!"}},{"$error":"#N/A"},{"$error":"#N/A"},"1903-02-20"]
[1149,114,"1903-02-21",{"$f":"+IF(AND(C1151-シート!$BV$67>=0,シート!$AI$19-C1151>=0),1,0)","v":{"$error":"#N/A"}},{"$f":"IF(AND(C1151-シート!$C$87>=0,シート!$X$87-C1151>=0),1,0)","v":{"$error":"#VALUE!"}},{"$error":"#N/A"},{"$error":"#N/A"},{"$f":"IF(AND(C1151-シート!$CP$87>=0,シート!$DK$87-C1151>=0),1,0)","v":{"$error":"#VALUE!"}},{"$error":"#N/A"},{"$error":"#N/A"},"1903-02-21"]
[1150,114,"1903-02-22",{"$f":"+IF(AND(C1152-シート!$BV$67>=0,シート!$AI$19-C1152>=0),1,0)","v":{"$error":"#N/A"}},{"$f":"IF(AND(C1152-シート!$C$87>=0,シート!$X$87-C1152>=0),1,0)","v":{"$error":"#VALUE!"}},{"$error":"#N/A"},{"$error":"#N/A"},{"$f":"IF(AND(C1152-シート!$CP$87>=0,シート!$DK$87-C1152>=0),1,0)","v":{"$error":"#VALUE!"}},{"$error":"#N/A"},{"$error":"#N/A"},"1903-02-22"]
[1151,114,"1903-02-23",{"$f":"+IF(AND(C1153-シート!$BV$67>=0,シート!$AI$19-C1153>=0),1,0)","v":{"$error":"#N/A"}},{"$f":"IF(AND(C1153-シート!$C$87>=0,シート!$X$87-C1153>=0),1,0)","v":{"$error":"#VALUE!"}},{"$error":"#N/A"},{"$error":"#N/A"},{"$f":"IF(AND(C1153-シート!$CP$87>=0,シート!$DK$87-C1153>=0),1,0)","v":{"$error":"#VALUE!"}},{"$error":"#N/A"},{"$error":"#N/A"},"1903-02-23"]
[1152,114,"1903-02-24",{"$f":"+IF(AND(C1154-シート!$BV$67>=0,シート!$AI$19-C1154>=0),1,0)","v":{"$error":"#N/A"}},{"$f":"IF(AND(C1154-シート!$C$87>=0,シート!$X$87-C1154>=0),1,0)","v":{"$error":"#VALUE!"}},{"$error":"#N/A"},{"$error":"#N/A"},{"$f":"IF(AND(C1154-シート!$CP$87>=0,シート!$DK$87-C1154>=0),1,0)","v":{"$error":"#VALUE!"}},{"$error":"#N/A"},{"$error":"#N/A"},"1903-02-24"]
[1153,114,"1903-02-25",{"$f":"+IF(AND(C1155-シート!$BV$67>=0,シート!$AI$19-C1155>=0),1,0)","v":{"$error":"#N/A"}},{"$f":"IF(AND(C1155-シート!$C$87>=0,シート!$X$87-C1155>=0),1,0)","v":{"$error":"#VALUE!"}},{"$error":"#N/A"},{"$error":"#N/A"},{"$f":"IF(AND(C1155-シート!$CP$87>=0,シート!$DK$87-C1155>=0),1,0)","v":{"$error":"#VALUE!"}},{"$error":"#N/A"},{"$error":"#N/A"},"1903-02-25"]
[1154,114,"1903-02-26",{"$f":"+IF(AND(C1156-シート!$BV$67>=0,シート!$AI$19-C1156>=0),1,0)","v":{"$error":"#N/A"}},{"$f":"IF(AND(C1156-シート!$C$87>=0,シート!$X$87-C1156>=0),1,0)","v":{"$error":"#VALUE!"}},{"$f":"IF(+D1156+E1156=2,1,0)","v":{"$error":"#N/A"}},{"$error":"#N/A"},{"$f":"IF(AND(C1156-シート!$CP$87>=0,シート!$DK$87-C1156>=0),1,0)","v":{"$error":"#VALUE!"}},{"$f":"IF(+D1156+H1156=2,1,0)","v":{"$error":"#N/A"}},{"$error":"#N/A"},{"$f":"+C1156","v":"1903-02-26"}]
[{"$f":"+A1156+1","v":1155},114,{"$f":"+C1156+1","v":"1903-02-27"},{"$f":"+IF(AND(C1157-シート!$BV$67>=0,シート!$AI$19-C1157>=0),1,0)","v":{"$error":"#N/A"}},{"$f":"IF(AND(C1157-シート!$C$87>=0,シート!$X$87-C1157>=0),1,0)","v":{"$error":"#VALUE!"}},{"$error":"#N/A"},{"$f":"+G1156+F1157","v":{"$error":"#N/A"}},{"$f":"IF(AND(C1157-シート!$CP$87>=0,シート!$DK$87-C1157>=0),1,0)","v":{"$error":"#VALUE!"}},{"$error":"#N/A"},{"$f":"+J1156+I1157","v":{"$error":"#N/A"}},"1903-02-27"]
[1156,114,"1903-02-28",{"$f":"+IF(AND(C1158-シート!$BV$67>=0,シート!$AI$19-C1158>=0),1,0)","v":{"$error":"#N/A"}},{"$f":"IF(AND(C1158-シート!$C$87>=0,シート!$X$87-C1158>=0),1,0)","v":{"$error":"#VALUE!"}},{"$error":"#N/A"},{"$error":"#N/A"},{"$f":"IF(AND(C1158-シート!$CP$87>=0,シート!$DK$87-C1158>=0),1,0)","v":{"$error":"#VALUE!"}},{"$error":"#N/A"},{"$error":"#N/A"},"1903-02-28"]
[1157,114,"1903-03-01",{"$f":"+IF(AND(C1159-シート!$BV$67>=0,シート!$AI$19-C1159>=0),1,0)","v":{"$error":"#N/A"}},{"$f":"IF(AND(C1159-シート!$C$87>=0,シート!$X$87-C1159>=0),1,0)","v":{"$error":"#VALUE!"}},{"$error":"#N/A"},{"$error":"#N/A"},{"$f":"IF(AND(C1159-シート!$CP$87>=0,シート!$DK$87-C1159>=0),1,0)","v":{"$error":"#VALUE!"}},{"$error":"#N/A"},{"$error":"#N/A"},"1903-03-01"]
[1158,115,"1903-03-02",{"$f":"+IF(AND(C1160-シート!$BV$67>=0,シート!$AI$19-C1160>=0),1,0)","v":{"$error":"#N/A"}},{"$f":"IF(AND(C1160-シート!$C$87>=0,シート!$X$87-C1160>=0),1,0)","v":{"$error":"#VALUE!"}},{"$error":"#N/A"},{"$error":"#N/A"},{"$f":"IF(AND(C1160-シート!$CP$87>=0,シート!$DK$87-C1160>=0),1,0)","v":{"$error":"#VALUE!"}},{"$error":"#N/A"},{"$error":"#N/A"},"1903-03-02"]
[1159,115,"1903-03-03",{"$f":"+IF(AND(C1161-シート!$BV$67>=0,シート!$AI$19-C1161>=0),1,0)","v":{"$error":"#N/A"}},{"$f":"IF(AND(C1161-シート!$C$87>=0,シート!$X$87-C1161>=0),1,0)","v":{"$error":"#VALUE!"}},{"$error":"#N/A"},{"$error":"#N/A"},{"$f":"IF(AND(C1161-シート!$CP$87>=0,シート!$DK$87-C1161>=0),1,0)","v":{"$error":"#VALUE!"}},{"$error":"#N/A"},{"$error":"#N/A"},"1903-03-03"]
[1160,115,"1903-03-04",{"$f":"+IF(AND(C1162-シート!$BV$67>=0,シート!$AI$19-C1162>=0),1,0)","v":{"$error":"#N/A"}},{"$f":"IF(AND(C1162-シート!$C$87>=0,シート!$X$87-C1162>=0),1,0)","v":{"$error":"#VALUE!"}},{"$error":"#N/A"},{"$error":"#N/A"},{"$f":"IF(AND(C1162-シート!$CP$87>=0,シート!$DK$87-C1162>=0),1,0)","v":{"$error":"#VALUE!"}},{"$error":"#N/A"},{"$error":"#N/A"},"1903-03-04"]
[1161,115,"1903-03-05",{"$f":"+IF(AND(C1163-シート!$BV$67>=0,シート!$AI$19-C1163>=0),1,0)","v":{"$error":"#N/A"}},{"$f":"IF(AND(C1163-シート!$C$87>=0,シート!$X$87-C1163>=0),1,0)","v":{"$error":"#VALUE!"}},{"$error":"#N/A"},{"$error":"#N/A"},{"$f":"IF(AND(C1163-シート!$CP$87>=0,シート!$DK$87-C1163>=0),1,0)","v":{"$error":"#VALUE!"}},{"$error":"#N/A"},{"$error":"#N/A"},"1903-03-05"]
[1162,115,"1903-03-06",{"$f":"+IF(AND(C1164-シート!$BV$67>=0,シート!$AI$19-C1164>=0),1,0)","v":{"$error":"#N/A"}},{"$f":"IF(AND(C1164-シート!$C$87>=0,シート!$X$87-C1164>=0),1,0)","v":{"$error":"#VALUE!"}},{"$error":"#N/A"},{"$error":"#N/A"},{"$f":"IF(AND(C1164-シート!$CP$87>=0,シート!$DK$87-C1164>=0),1,0)","v":{"$error":"#VALUE!"}},{"$error":"#N/A"},{"$error":"#N/A"},"1903-03-06"]
[1163,115,"1903-03-07",{"$f":"+IF(AND(C1165-シート!$BV$67>=0,シート!$AI$19-C1165>=0),1,0)","v":{"$error":"#N/A"}},{"$f":"IF(AND(C1165-シート!$C$87>=0,シート!$X$87-C1165>=0),1,0)","v":{"$error":"#VALUE!"}},{"$error":"#N/A"},{"$error":"#N/A"},{"$f":"IF(AND(C1165-シート!$CP$87>=0,シート!$DK$87-C1165>=0),1,0)","v":{"$error":"#VALUE!"}},{"$error":"#N/A"},{"$error":"#N/A"},"1903-03-07"]
[1164,115,"1903-03-08",{"$f":"+IF(AND(C1166-シート!$BV$67>=0,シート!$AI$19-C1166>=0),1,0)","v":{"$error":"#N/A"}},{"$f":"IF(AND(C1166-シート!$C$87>=0,シート!$X$87-C1166>=0),1,0)","v":{"$error":"#VALUE!"}},{"$error":"#N/A"},{"$error":"#N/A"},{"$f":"IF(AND(C1166-シート!$CP$87>=0,シート!$DK$87-C1166>=0),1,0)","v":{"$error":"#VALUE!"}},{"$error":"#N/A"},{"$error":"#N/A"},"1903-03-08"]
[1165,115,"1903-03-09",{"$f":"+IF(AND(C1167-シート!$BV$67>=0,シート!$AI$19-C1167>=0),1,0)","v":{"$error":"#N/A"}},{"$f":"IF(AND(C1167-シート!$C$87>=0,シート!$X$87-C1167>=0),1,0)","v":{"$error":"#VALUE!"}},{"$error":"#N/A"},{"$error":"#N/A"},{"$f":"IF(AND(C1167-シート!$CP$87>=0,シート!$DK$87-C1167>=0),1,0)","v":{"$error":"#VALUE!"}},{"$error":"#N/A"},{"$error":"#N/A"},"1903-03-09"]
[1166,115,"1903-03-10",{"$f":"+IF(AND(C1168-シート!$BV$67>=0,シート!$AI$19-C1168>=0),1,0)","v":{"$error":"#N/A"}},{"$f":"IF(AND(C1168-シート!$C$87>=0,シート!$X$87-C1168>=0),1,0)","v":{"$error":"#VALUE!"}},{"$error":"#N/A"},{"$error":"#N/A"},{"$f":"IF(AND(C1168-シート!$CP$87>=0,シート!$DK$87-C1168>=0),1,0)","v":{"$error":"#VALUE!"}},{"$error":"#N/A"},{"$error":"#N/A"},"1903-03-10"]
[1167,115,"1903-03-11",{"$f":"+IF(AND(C1169-シート!$BV$67>=0,シート!$AI$19-C1169>=0),1,0)","v":{"$error":"#N/A"}},{"$f":"IF(AND(C1169-シート!$C$87>=0,シート!$X$87-C1169>=0),1,0)","v":{"$error":"#VALUE!"}},{"$error":"#N/A"},{"$error":"#N/A"},{"$f":"IF(AND(C1169-シート!$CP$87>=0,シート!$DK$87-C1169>=0),1,0)","v":{"$error":"#VALUE!"}},{"$error":"#N/A"},{"$error":"#N/A"},"1903-03-11"]
[1168,116,"1903-03-12",{"$f":"+IF(AND(C1170-シート!$BV$67>=0,シート!$AI$19-C1170>=0),1,0)","v":{"$error":"#N/A"}},{"$f":"IF(AND(C1170-シート!$C$87>=0,シート!$X$87-C1170>=0),1,0)","v":{"$error":"#VALUE!"}},{"$error":"#N/A"},{"$error":"#N/A"},{"$f":"IF(AND(C1170-シート!$CP$87>=0,シート!$DK$87-C1170>=0),1,0)","v":{"$error":"#VALUE!"}},{"$error":"#N/A"},{"$error":"#N/A"},"1903-03-12"]
[1169,116,"1903-03-13",{"$f":"+IF(AND(C1171-シート!$BV$67>=0,シート!$AI$19-C1171>=0),1,0)","v":{"$error":"#N/A"}},{"$f":"IF(AND(C1171-シート!$C$87>=0,シート!$X$87-C1171>=0),1,0)","v":{"$error":"#VALUE!"}},{"$error":"#N/A"},{"$error":"#N/A"},{"$f":"IF(AND(C1171-シート!$CP$87>=0,シート!$DK$87-C1171>=0),1,0)","v":{"$error":"#VALUE!"}},{"$error":"#N/A"},{"$error":"#N/A"},"1903-03-13"]
[1170,116,"1903-03-14",{"$f":"+IF(AND(C1172-シート!$BV$67>=0,シート!$AI$19-C1172>=0),1,0)","v":{"$error":"#N/A"}},{"$f":"IF(AND(C1172-シート!$C$87>=0,シート!$X$87-C1172>=0),1,0)","v":{"$error":"#VALUE!"}},{"$error":"#N/A"},{"$error":"#N/A"},{"$f":"IF(AND(C1172-シート!$CP$87>=0,シート!$DK$87-C1172>=0),1,0)","v":{"$error":"#VALUE!"}},{"$error":"#N/A"},{"$error":"#N/A"},"1903-03-14"]
[1171,116,"1903-03-15",{"$f":"+IF(AND(C1173-シート!$BV$67>=0,シート!$AI$19-C1173>=0),1,0)","v":{"$error":"#N/A"}},{"$f":"IF(AND(C1173-シート!$C$87>=0,シート!$X$87-C1173>=0),1,0)","v":{"$error":"#VALUE!"}},{"$error":"#N/A"},{"$error":"#N/A"},{"$f":"IF(AND(C1173-シート!$CP$87>=0,シート!$DK$87-C1173>=0),1,0)","v":{"$error":"#VALUE!"}},{"$error":"#N/A"},{"$error":"#N/A"},"1903-03-15"]
[1172,116,"1903-03-16",{"$f":"+IF(AND(C1174-シート!$BV$67>=0,シート!$AI$19-C1174>=0),1,0)","v":{"$error":"#N/A"}},{"$f":"IF(AND(C1174-シート!$C$87>=0,シート!$X$87-C1174>=0),1,0)","v":{"$error":"#VALUE!"}},{"$error":"#N/A"},{"$error":"#N/A"},{"$f":"IF(AND(C1174-シート!$CP$87>=0,シート!$DK$87-C1174>=0),1,0)","v":{"$error":"#VALUE!"}},{"$error":"#N/A"},{"$error":"#N/A"},"1903-03-16"]
[1173,116,"1903-03-17",{"$f":"+IF(AND(C1175-シート!$BV$67>=0,シート!$AI$19-C1175>=0),1,0)","v":{"$error":"#N/A"}},{"$f":"IF(AND(C1175-シート!$C$87>=0,シート!$X$87-C1175>=0),1,0)","v":{"$error":"#VALUE!"}},{"$error":"#N/A"},{"$error":"#N/A"},{"$f":"IF(AND(C1175-シート!$CP$87>=0,シート!$DK$87-C1175>=0),1,0)","v":{"$error":"#VALUE!"}},{"$error":"#N/A"},{"$error":"#N/A"},"1903-03-17"]
[1174,116,"1903-03-18",{"$f":"+IF(AND(C1176-シート!$BV$67>=0,シート!$AI$19-C1176>=0),1,0)","v":{"$error":"#N/A"}},{"$f":"IF(AND(C1176-シート!$C$87>=0,シート!$X$87-C1176>=0),1,0)","v":{"$error":"#VALUE!"}},{"$error":"#N/A"},{"$error":"#N/A"},{"$f":"IF(AND(C1176-シート!$CP$87>=0,シート!$DK$87-C1176>=0),1,0)","v":{"$error":"#VALUE!"}},{"$error":"#N/A"},{"$error":"#N/A"},"1903-03-18"]
[1175,116,"1903-03-19",{"$f":"+IF(AND(C1177-シート!$BV$67>=0,シート!$AI$19-C1177>=0),1,0)","v":{"$error":"#N/A"}},{"$f":"IF(AND(C1177-シート!$C$87>=0,シート!$X$87-C1177>=0),1,0)","v":{"$error":"#VALUE!"}},{"$error":"#N/A"},{"$error":"#N/A"},{"$f":"IF(AND(C1177-シート!$CP$87>=0,シート!$DK$87-C1177>=0),1,0)","v":{"$error":"#VALUE!"}},{"$error":"#N/A"},{"$error":"#N/A"},"1903-03-19"]
[1176,116,"1903-03-20",{"$f":"+IF(AND(C1178-シート!$BV$67>=0,シート!$AI$19-C1178>=0),1,0)","v":{"$error":"#N/A"}},{"$f":"IF(AND(C1178-シート!$C$87>=0,シート!$X$87-C1178>=0),1,0)","v":{"$error":"#VALUE!"}},{"$error":"#N/A"},{"$error":"#N/A"},{"$f":"IF(AND(C1178-シート!$CP$87>=0,シート!$DK$87-C1178>=0),1,0)","v":{"$error":"#VALUE!"}},{"$error":"#N/A"},{"$error":"#N/A"},"1903-03-20"]
[1177,116,"1903-03-21",{"$f":"+IF(AND(C1179-シート!$BV$67>=0,シート!$AI$19-C1179>=0),1,0)","v":{"$error":"#N/A"}},{"$f":"IF(AND(C1179-シート!$C$87>=0,シート!$X$87-C1179>=0),1,0)","v":{"$error":"#VALUE!"}},{"$error":"#N/A"},{"$error":"#N/A"},{"$f":"IF(AND(C1179-シート!$CP$87>=0,シート!$DK$87-C1179>=0),1,0)","v":{"$error":"#VALUE!"}},{"$error":"#N/A"},{"$error":"#N/A"},"1903-03-21"]
[1178,116,"1903-03-22",{"$f":"+IF(AND(C1180-シート!$BV$67>=0,シート!$AI$19-C1180>=0),1,0)","v":{"$error":"#N/A"}},{"$f":"IF(AND(C1180-シート!$C$87>=0,シート!$X$87-C1180>=0),1,0)","v":{"$error":"#VALUE!"}},{"$error":"#N/A"},{"$error":"#N/A"},{"$f":"IF(AND(C1180-シート!$CP$87>=0,シート!$DK$87-C1180>=0),1,0)","v":{"$error":"#VALUE!"}},{"$error":"#N/A"},{"$error":"#N/A"},"1903-03-22"]
[1179,117,"1903-03-23",{"$f":"+IF(AND(C1181-シート!$BV$67>=0,シート!$AI$19-C1181>=0),1,0)","v":{"$error":"#N/A"}},{"$f":"IF(AND(C1181-シート!$C$87>=0,シート!$X$87-C1181>=0),1,0)","v":{"$error":"#VALUE!"}},{"$error":"#N/A"},{"$error":"#N/A"},{"$f":"IF(AND(C1181-シート!$CP$87>=0,シート!$DK$87-C1181>=0),1,0)","v":{"$error":"#VALUE!"}},{"$error":"#N/A"},{"$error":"#N/A"},"1903-03-23"]
[1180,117,"1903-03-24",{"$f":"+IF(AND(C1182-シート!$BV$67>=0,シート!$AI$19-C1182>=0),1,0)","v":{"$error":"#N/A"}},{"$f":"IF(AND(C1182-シート!$C$87>=0,シート!$X$87-C1182>=0),1,0)","v":{"$error":"#VALUE!"}},{"$error":"#N/A"},{"$error":"#N/A"},{"$f":"IF(AND(C1182-シート!$CP$87>=0,シート!$DK$87-C1182>=0),1,0)","v":{"$error":"#VALUE!"}},{"$error":"#N/A"},{"$error":"#N/A"},"1903-03-24"]
[1181,117,"1903-03-25",{"$f":"+IF(AND(C1183-シート!$BV$67>=0,シート!$AI$19-C1183>=0),1,0)","v":{"$error":"#N/A"}},{"$f":"IF(AND(C1183-シート!$C$87>=0,シート!$X$87-C1183>=0),1,0)","v":{"$error":"#VALUE!"}},{"$error":"#N/A"},{"$error":"#N/A"},{"$f":"IF(AND(C1183-シート!$CP$87>=0,シート!$DK$87-C1183>=0),1,0)","v":{"$error":"#VALUE!"}},{"$error":"#N/A"},{"$error":"#N/A"},"1903-03-25"]
[1182,117,"1903-03-26",{"$f":"+IF(AND(C1184-シート!$BV$67>=0,シート!$AI$19-C1184>=0),1,0)","v":{"$error":"#N/A"}},{"$f":"IF(AND(C1184-シート!$C$87>=0,シート!$X$87-C1184>=0),1,0)","v":{"$error":"#VALUE!"}},{"$error":"#N/A"},{"$error":"#N/A"},{"$f":"IF(AND(C1184-シート!$CP$87>=0,シート!$DK$87-C1184>=0),1,0)","v":{"$error":"#VALUE!"}},{"$error":"#N/A"},{"$error":"#N/A"},"1903-03-26"]
[1183,117,"1903-03-27",{"$f":"+IF(AND(C1185-シート!$BV$67>=0,シート!$AI$19-C1185>=0),1,0)","v":{"$error":"#N/A"}},{"$f":"IF(AND(C1185-シート!$C$87>=0,シート!$X$87-C1185>=0),1,0)","v":{"$error":"#VALUE!"}},{"$error":"#N/A"},{"$error":"#N/A"},{"$f":"IF(AND(C1185-シート!$CP$87>=0,シート!$DK$87-C1185>=0),1,0)","v":{"$error":"#VALUE!"}},{"$error":"#N/A"},{"$error":"#N/A"},"1903-03-27"]
[1184,117,"1903-03-28",{"$f":"+IF(AND(C1186-シート!$BV$67>=0,シート!$AI$19-C1186>=0),1,0)","v":{"$error":"#N/A"}},{"$f":"IF(AND(C1186-シート!$C$87>=0,シート!$X$87-C1186>=0),1,0)","v":{"$error":"#VALUE!"}},{"$error":"#N/A"},{"$error":"#N/A"},{"$f":"IF(AND(C1186-シート!$CP$87>=0,シート!$DK$87-C1186>=0),1,0)","v":{"$error":"#VALUE!"}},{"$error":"#N/A"},{"$error":"#N/A"},"1903-03-28"]
[1185,117,"1903-03-29",{"$f":"+IF(AND(C1187-シート!$BV$67>=0,シート!$AI$19-C1187>=0),1,0)","v":{"$error":"#N/A"}},{"$f":"IF(AND(C1187-シート!$C$87>=0,シート!$X$87-C1187>=0),1,0)","v":{"$error":"#VALUE!"}},{"$error":"#N/A"},{"$error":"#N/A"},{"$f":"IF(AND(C1187-シート!$CP$87>=0,シート!$DK$87-C1187>=0),1,0)","v":{"$error":"#VALUE!"}},{"$error":"#N/A"},{"$error":"#N/A"},"1903-03-29"]
[1186,117,"1903-03-30",{"$f":"+IF(AND(C1188-シート!$BV$67>=0,シート!$AI$19-C1188>=0),1,0)","v":{"$error":"#N/A"}},{"$f":"IF(AND(C1188-シート!$C$87>=0,シート!$X$87-C1188>=0),1,0)","v":{"$error":"#VALUE!"}},{"$error":"#N/A"},{"$error":"#N/A"},{"$f":"IF(AND(C1188-シート!$CP$87>=0,シート!$DK$87-C1188>=0),1,0)","v":{"$error":"#VALUE!"}},{"$error":"#N/A"},{"$error":"#N/A"},"1903-03-30"]
[1187,117,"1903-03-31",{"$f":"+IF(AND(C1189-シート!$BV$67>=0,シート!$AI$19-C1189>=0),1,0)","v":{"$error":"#N/A"}},{"$f":"IF(AND(C1189-シート!$C$87>=0,シート!$X$87-C1189>=0),1,0)","v":{"$error":"#VALUE!"}},{"$error":"#N/A"},{"$error":"#N/A"},{"$f":"IF(AND(C1189-シート!$CP$87>=0,シート!$DK$87-C1189>=0),1,0)","v":{"$error":"#VALUE!"}},{"$error":"#N/A"},{"$error":"#N/A"},"1903-03-31"]
[1188,117,"1903-04-01",{"$f":"+IF(AND(C1190-シート!$BV$67>=0,シート!$AI$19-C1190>=0),1,0)","v":{"$error":"#N/A"}},{"$f":"IF(AND(C1190-シート!$C$87>=0,シート!$X$87-C1190>=0),1,0)","v":{"$error":"#VALUE!"}},{"$error":"#N/A"},{"$error":"#N/A"},{"$f":"IF(AND(C1190-シート!$CP$87>=0,シート!$DK$87-C1190>=0),1,0)","v":{"$error":"#VALUE!"}},{"$error":"#N/A"},{"$error":"#N/A"},"1903-04-01"]
[1189,118,"1903-04-02",{"$f":"+IF(AND(C1191-シート!$BV$67>=0,シート!$AI$19-C1191>=0),1,0)","v":{"$error":"#N/A"}},{"$f":"IF(AND(C1191-シート!$C$87>=0,シート!$X$87-C1191>=0),1,0)","v":{"$error":"#VALUE!"}},{"$error":"#N/A"},{"$error":"#N/A"},{"$f":"IF(AND(C1191-シート!$CP$87>=0,シート!$DK$87-C1191>=0),1,0)","v":{"$error":"#VALUE!"}},{"$error":"#N/A"},{"$error":"#N/A"},"1903-04-02"]
[1190,118,"1903-04-03",{"$f":"+IF(AND(C1192-シート!$BV$67>=0,シート!$AI$19-C1192>=0),1,0)","v":{"$error":"#N/A"}},{"$f":"IF(AND(C1192-シート!$C$87>=0,シート!$X$87-C1192>=0),1,0)","v":{"$error":"#VALUE!"}},{"$error":"#N/A"},{"$error":"#N/A"},{"$f":"IF(AND(C1192-シート!$CP$87>=0,シート!$DK$87-C1192>=0),1,0)","v":{"$error":"#VALUE!"}},{"$error":"#N/A"},{"$error":"#N/A"},"1903-04-03"]
[1191,118,"1903-04-04",{"$f":"+IF(AND(C1193-シート!$BV$67>=0,シート!$AI$19-C1193>=0),1,0)","v":{"$error":"#N/A"}},{"$f":"IF(AND(C1193-シート!$C$87>=0,シート!$X$87-C1193>=0),1,0)","v":{"$error":"#VALUE!"}},{"$error":"#N/A"},{"$error":"#N/A"},{"$f":"IF(AND(C1193-シート!$CP$87>=0,シート!$DK$87-C1193>=0),1,0)","v":{"$error":"#VALUE!"}},{"$error":"#N/A"},{"$error":"#N/A"},"1903-04-04"]
[1192,118,"1903-04-05",{"$f":"+IF(AND(C1194-シート!$BV$67>=0,シート!$AI$19-C1194>=0),1,0)","v":{"$error":"#N/A"}},{"$f":"IF(AND(C1194-シート!$C$87>=0,シート!$X$87-C1194>=0),1,0)","v":{"$error":"#VALUE!"}},{"$error":"#N/A"},{"$error":"#N/A"},{"$f":"IF(AND(C1194-シート!$CP$87>=0,シート!$DK$87-C1194>=0),1,0)","v":{"$error":"#VALUE!"}},{"$error":"#N/A"},{"$error":"#N/A"},"1903-04-05"]
[1193,118,"1903-04-06",{"$f":"+IF(AND(C1195-シート!$BV$67>=0,シート!$AI$19-C1195>=0),1,0)","v":{"$error":"#N/A"}},{"$f":"IF(AND(C1195-シート!$C$87>=0,シート!$X$87-C1195>=0),1,0)","v":{"$error":"#VALUE!"}},{"$error":"#N/A"},{"$error":"#N/A"},{"$f":"IF(AND(C1195-シート!$CP$87>=0,シート!$DK$87-C1195>=0),1,0)","v":{"$error":"#VALUE!"}},{"$error":"#N/A"},{"$error":"#N/A"},"1903-04-06"]
[1194,118,"1903-04-07",{"$f":"+IF(AND(C1196-シート!$BV$67>=0,シート!$AI$19-C1196>=0),1,0)","v":{"$error":"#N/A"}},{"$f":"IF(AND(C1196-シート!$C$87>=0,シート!$X$87-C1196>=0),1,0)","v":{"$error":"#VALUE!"}},{"$error":"#N/A"},{"$error":"#N/A"},{"$f":"IF(AND(C1196-シート!$CP$87>=0,シート!$DK$87-C1196>=0),1,0)","v":{"$error":"#VALUE!"}},{"$error":"#N/A"},{"$error":"#N/A"},"1903-04-07"]
[1195,118,"1903-04-08",{"$f":"+IF(AND(C1197-シート!$BV$67>=0,シート!$AI$19-C1197>=0),1,0)","v":{"$error":"#N/A"}},{"$f":"IF(AND(C1197-シート!$C$87>=0,シート!$X$87-C1197>=0),1,0)","v":{"$error":"#VALUE!"}},{"$error":"#N/A"},{"$error":"#N/A"},{"$f":"IF(AND(C1197-シート!$CP$87>=0,シート!$DK$87-C1197>=0),1,0)","v":{"$error":"#VALUE!"}},{"$error":"#N/A"},{"$error":"#N/A"},"1903-04-08"]
[1196,118,"1903-04-09",{"$f":"+IF(AND(C1198-シート!$BV$67>=0,シート!$AI$19-C1198>=0),1,0)","v":{"$error":"#N/A"}},{"$f":"IF(AND(C1198-シート!$C$87>=0,シート!$X$87-C1198>=0),1,0)","v":{"$error":"#VALUE!"}},{"$error":"#N/A"},{"$error":"#N/A"},{"$f":"IF(AND(C1198-シート!$CP$87>=0,シート!$DK$87-C1198>=0),1,0)","v":{"$error":"#VALUE!"}},{"$error":"#N/A"},{"$error":"#N/A"},"1903-04-09"]
[1197,118,"1903-04-10",{"$f":"+IF(AND(C1199-シート!$BV$67>=0,シート!$AI$19-C1199>=0),1,0)","v":{"$error":"#N/A"}},{"$f":"IF(AND(C1199-シート!$C$87>=0,シート!$X$87-C1199>=0),1,0)","v":{"$error":"#VALUE!"}},{"$error":"#N/A"},{"$error":"#N/A"},{"$f":"IF(AND(C1199-シート!$CP$87>=0,シート!$DK$87-C1199>=0),1,0)","v":{"$error":"#VALUE!"}},{"$error":"#N/A"},{"$error":"#N/A"},"1903-04-10"]
[1198,118,"1903-04-11",{"$f":"+IF(AND(C1200-シート!$BV$67>=0,シート!$AI$19-C1200>=0),1,0)","v":{"$error":"#N/A"}},{"$f":"IF(AND(C1200-シート!$C$87>=0,シート!$X$87-C1200>=0),1,0)","v":{"$error":"#VALUE!"}},{"$error":"#N/A"},{"$error":"#N/A"},{"$f":"IF(AND(C1200-シート!$CP$87>=0,シート!$DK$87-C1200>=0),1,0)","v":{"$error":"#VALUE!"}},{"$error":"#N/A"},{"$error":"#N/A"},"1903-04-11"]
[1199,119,"1903-04-12",{"$f":"+IF(AND(C1201-シート!$BV$67>=0,シート!$AI$19-C1201>=0),1,0)","v":{"$error":"#N/A"}},{"$f":"IF(AND(C1201-シート!$C$87>=0,シート!$X$87-C1201>=0),1,0)","v":{"$error":"#VALUE!"}},{"$error":"#N/A"},{"$error":"#N/A"},{"$f":"IF(AND(C1201-シート!$CP$87>=0,シート!$DK$87-C1201>=0),1,0)","v":{"$error":"#VALUE!"}},{"$error":"#N/A"},{"$error":"#N/A"},"1903-04-12"]
[1200,119,"1903-04-13",{"$f":"+IF(AND(C1202-シート!$BV$67>=0,シート!$AI$19-C1202>=0),1,0)","v":{"$error":"#N/A"}},{"$f":"IF(AND(C1202-シート!$C$87>=0,シート!$X$87-C1202>=0),1,0)","v":{"$error":"#VALUE!"}},{"$error":"#N/A"},{"$error":"#N/A"},{"$f":"IF(AND(C1202-シート!$CP$87>=0,シート!$DK$87-C1202>=0),1,0)","v":{"$error":"#VALUE!"}},{"$error":"#N/A"},{"$error":"#N/A"},"1903-04-13"]
[1201,119,"1903-04-14",{"$f":"+IF(AND(C1203-シート!$BV$67>=0,シート!$AI$19-C1203>=0),1,0)","v":{"$error":"#N/A"}},{"$f":"IF(AND(C1203-シート!$C$87>=0,シート!$X$87-C1203>=0),1,0)","v":{"$error":"#VALUE!"}},{"$error":"#N/A"},{"$error":"#N/A"},{"$f":"IF(AND(C1203-シート!$CP$87>=0,シート!$DK$87-C1203>=0),1,0)","v":{"$error":"#VALUE!"}},{"$error":"#N/A"},{"$error":"#N/A"},"1903-04-14"]
[1202,119,"1903-04-15",{"$f":"+IF(AND(C1204-シート!$BV$67>=0,シート!$AI$19-C1204>=0),1,0)","v":{"$error":"#N/A"}},{"$f":"IF(AND(C1204-シート!$C$87>=0,シート!$X$87-C1204>=0),1,0)","v":{"$error":"#VALUE!"}},{"$error":"#N/A"},{"$error":"#N/A"},{"$f":"IF(AND(C1204-シート!$CP$87>=0,シート!$DK$87-C1204>=0),1,0)","v":{"$error":"#VALUE!"}},{"$error":"#N/A"},{"$error":"#N/A"},"1903-04-15"]
[1203,119,"1903-04-16",{"$f":"+IF(AND(C1205-シート!$BV$67>=0,シート!$AI$19-C1205>=0),1,0)","v":{"$error":"#N/A"}},{"$f":"IF(AND(C1205-シート!$C$87>=0,シート!$X$87-C1205>=0),1,0)","v":{"$error":"#VALUE!"}},{"$error":"#N/A"},{"$error":"#N/A"},{"$f":"IF(AND(C1205-シート!$CP$87>=0,シート!$DK$87-C1205>=0),1,0)","v":{"$error":"#VALUE!"}},{"$error":"#N/A"},{"$error":"#N/A"},"1903-04-16"]
[1204,119,"1903-04-17",{"$f":"+IF(AND(C1206-シート!$BV$67>=0,シート!$AI$19-C1206>=0),1,0)","v":{"$error":"#N/A"}},{"$f":"IF(AND(C1206-シート!$C$87>=0,シート!$X$87-C1206>=0),1,0)","v":{"$error":"#VALUE!"}},{"$error":"#N/A"},{"$error":"#N/A"},{"$f":"IF(AND(C1206-シート!$CP$87>=0,シート!$DK$87-C1206>=0),1,0)","v":{"$error":"#VALUE!"}},{"$error":"#N/A"},{"$error":"#N/A"},"1903-04-17"]
[1205,119,"1903-04-18",{"$f":"+IF(AND(C1207-シート!$BV$67>=0,シート!$AI$19-C1207>=0),1,0)","v":{"$error":"#N/A"}},{"$f":"IF(AND(C1207-シート!$C$87>=0,シート!$X$87-C1207>=0),1,0)","v":{"$error":"#VALUE!"}},{"$error":"#N/A"},{"$error":"#N/A"},{"$f":"IF(AND(C1207-シート!$CP$87>=0,シート!$DK$87-C1207>=0),1,0)","v":{"$error":"#VALUE!"}},{"$error":"#N/A"},{"$error":"#N/A"},"1903-04-18"]
[1206,119,"1903-04-19",{"$f":"+IF(AND(C1208-シート!$BV$67>=0,シート!$AI$19-C1208>=0),1,0)","v":{"$error":"#N/A"}},{"$f":"IF(AND(C1208-シート!$C$87>=0,シート!$X$87-C1208>=0),1,0)","v":{"$error":"#VALUE!"}},{"$error":"#N/A"},{"$error":"#N/A"},{"$f":"IF(AND(C1208-シート!$CP$87>=0,シート!$DK$87-C1208>=0),1,0)","v":{"$error":"#VALUE!"}},{"$error":"#N/A"},{"$error":"#N/A"},"1903-04-19"]
[1207,119,"1903-04-20",{"$f":"+IF(AND(C1209-シート!$BV$67>=0,シート!$AI$19-C1209>=0),1,0)","v":{"$error":"#N/A"}},{"$f":"IF(AND(C1209-シート!$C$87>=0,シート!$X$87-C1209>=0),1,0)","v":{"$error":"#VALUE!"}},{"$error":"#N/A"},{"$error":"#N/A"},{"$f":"IF(AND(C1209-シート!$CP$87>=0,シート!$DK$87-C1209>=0),1,0)","v":{"$error":"#VALUE!"}},{"$error":"#N/A"},{"$error":"#N/A"},"1903-04-20"]
[1208,119,"1903-04-21",{"$f":"+IF(AND(C1210-シート!$BV$67>=0,シート!$AI$19-C1210>=0),1,0)","v":{"$error":"#N/A"}},{"$f":"IF(AND(C1210-シート!$C$87>=0,シート!$X$87-C1210>=0),1,0)","v":{"$error":"#VALUE!"}},{"$error":"#N/A"},{"$error":"#N/A"},{"$f":"IF(AND(C1210-シート!$CP$87>=0,シート!$DK$87-C1210>=0),1,0)","v":{"$error":"#VALUE!"}},{"$error":"#N/A"},{"$error":"#N/A"},"1903-04-21"]
[1209,{"$f":"+B1201+1","v":120},"1903-04-22",{"$f":"+IF(AND(C1211-シート!$BV$67>=0,シート!$AI$19-C1211>=0),1,0)","v":{"$error":"#N/A"}},{"$f":"IF(AND(C1211-シート!$C$87>=0,シート!$X$87-C1211>=0),1,0)","v":{"$error":"#VALUE!"}},{"$error":"#N/A"},{"$error":"#N/A"},{"$f":"IF(AND(C1211-シート!$CP$87>=0,シート!$DK$87-C1211>=0),1,0)","v":{"$error":"#VALUE!"}},{"$error":"#N/A"},{"$error":"#N/A"},"1903-04-22"]
[1210,{"$f":"+B1202+1","v":120},"1903-04-23",{"$f":"+IF(AND(C1212-シート!$BV$67>=0,シート!$AI$19-C1212>=0),1,0)","v":{"$error":"#N/A"}},{"$f":"IF(AND(C1212-シート!$C$87>=0,シート!$X$87-C1212>=0),1,0)","v":{"$error":"#VALUE!"}},{"$error":"#N/A"},{"$error":"#N/A"},{"$f":"IF(AND(C1212-シート!$CP$87>=0,シート!$DK$87-C1212>=0),1,0)","v":{"$error":"#VALUE!"}},{"$error":"#N/A"},{"$error":"#N/A"},"1903-04-23"]
[1211,120,"1903-04-24",{"$f":"+IF(AND(C1213-シート!$BV$67>=0,シート!$AI$19-C1213>=0),1,0)","v":{"$error":"#N/A"}},{"$f":"IF(AND(C1213-シート!$C$87>=0,シート!$X$87-C1213>=0),1,0)","v":{"$error":"#VALUE!"}},{"$error":"#N/A"},{"$error":"#N/A"},{"$f":"IF(AND(C1213-シート!$CP$87>=0,シート!$DK$87-C1213>=0),1,0)","v":{"$error":"#VALUE!"}},{"$error":"#N/A"},{"$error":"#N/A"},"1903-04-24"]
[1212,120,"1903-04-25",{"$f":"+IF(AND(C1214-シート!$BV$67>=0,シート!$AI$19-C1214>=0),1,0)","v":{"$error":"#N/A"}},{"$f":"IF(AND(C1214-シート!$C$87>=0,シート!$X$87-C1214>=0),1,0)","v":{"$error":"#VALUE!"}},{"$error":"#N/A"},{"$error":"#N/A"},{"$f":"IF(AND(C1214-シート!$CP$87>=0,シート!$DK$87-C1214>=0),1,0)","v":{"$error":"#VALUE!"}},{"$error":"#N/A"},{"$error":"#N/A"},"1903-04-25"]
[1213,120,"1903-04-26",{"$f":"+IF(AND(C1215-シート!$BV$67>=0,シート!$AI$19-C1215>=0),1,0)","v":{"$error":"#N/A"}},{"$f":"IF(AND(C1215-シート!$C$87>=0,シート!$X$87-C1215>=0),1,0)","v":{"$error":"#VALUE!"}},{"$error":"#N/A"},{"$error":"#N/A"},{"$f":"IF(AND(C1215-シート!$CP$87>=0,シート!$DK$87-C1215>=0),1,0)","v":{"$error":"#VALUE!"}},{"$error":"#N/A"},{"$error":"#N/A"},"1903-04-26"]
[1214,120,"1903-04-27",{"$f":"+IF(AND(C1216-シート!$BV$67>=0,シート!$AI$19-C1216>=0),1,0)","v":{"$error":"#N/A"}},{"$f":"IF(AND(C1216-シート!$C$87>=0,シート!$X$87-C1216>=0),1,0)","v":{"$error":"#VALUE!"}},{"$error":"#N/A"},{"$error":"#N/A"},{"$f":"IF(AND(C1216-シート!$CP$87>=0,シート!$DK$87-C1216>=0),1,0)","v":{"$error":"#VALUE!"}},{"$error":"#N/A"},{"$error":"#N/A"},"1903-04-27"]
[1215,120,"1903-04-28",{"$f":"+IF(AND(C1217-シート!$BV$67>=0,シート!$AI$19-C1217>=0),1,0)","v":{"$error":"#N/A"}},{"$f":"IF(AND(C1217-シート!$C$87>=0,シート!$X$87-C1217>=0),1,0)","v":{"$error":"#VALUE!"}},{"$error":"#N/A"},{"$error":"#N/A"},{"$f":"IF(AND(C1217-シート!$CP$87>=0,シート!$DK$87-C1217>=0),1,0)","v":{"$error":"#VALUE!"}},{"$error":"#N/A"},{"$error":"#N/A"},"1903-04-28"]
[1216,120,"1903-04-29",{"$f":"+IF(AND(C1218-シート!$BV$67>=0,シート!$AI$19-C1218>=0),1,0)","v":{"$error":"#N/A"}},{"$f":"IF(AND(C1218-シート!$C$87>=0,シート!$X$87-C1218>=0),1,0)","v":{"$error":"#VALUE!"}},{"$error":"#N/A"},{"$error":"#N/A"},{"$f":"IF(AND(C1218-シート!$CP$87>=0,シート!$DK$87-C1218>=0),1,0)","v":{"$error":"#VALUE!"}},{"$error":"#N/A"},{"$error":"#N/A"},"1903-04-29"]
[1217,120,"1903-04-30",{"$f":"+IF(AND(C1219-シート!$BV$67>=0,シート!$AI$19-C1219>=0),1,0)","v":{"$error":"#N/A"}},{"$f":"IF(AND(C1219-シート!$C$87>=0,シート!$X$87-C1219>=0),1,0)","v":{"$error":"#VALUE!"}},{"$error":"#N/A"},{"$error":"#N/A"},{"$f":"IF(AND(C1219-シート!$CP$87>=0,シート!$DK$87-C1219>=0),1,0)","v":{"$error":"#VALUE!"}},{"$error":"#N/A"},{"$error":"#N/A"},"1903-04-30"]
[1218,120,"1903-05-01",{"$f":"+IF(AND(C1220-シート!$BV$67>=0,シート!$AI$19-C1220>=0),1,0)","v":{"$error":"#N/A"}},{"$f":"IF(AND(C1220-シート!$C$87>=0,シート!$X$87-C1220>=0),1,0)","v":{"$error":"#VALUE!"}},{"$f":"IF(+D1220+E1220=2,1,0)","v":{"$error":"#N/A"}},{"$error":"#N/A"},{"$f":"IF(AND(C1220-シート!$CP$87>=0,シート!$DK$87-C1220>=0),1,0)","v":{"$error":"#VALUE!"}},{"$f":"IF(+D1220+H1220=2,1,0)","v":{"$error":"#N/A"}},{"$error":"#N/A"},{"$f":"+C1220","v":"1903-05-01"}]
[1219,121,"1903-05-02",{"$f":"+IF(AND(C1221-シート!$BV$67>=0,シート!$AI$19-C1221>=0),1,0)","v":{"$error":"#N/A"}},{"$f":"IF(AND(C1221-シート!$C$87>=0,シート!$X$87-C1221>=0),1,0)","v":{"$error":"#VALUE!"}},{"$f":"IF(+D1221+E1221=2,1,0)","v":{"$error":"#N/A"}},{"$f":"+G1220+F1221","v":{"$error":"#N/A"}},{"$f":"IF(AND(C1221-シート!$CP$87>=0,シート!$DK$87-C1221>=0),1,0)","v":{"$error":"#VALUE!"}},{"$f":"IF(+D1221+H1221=2,1,0)","v":{"$error":"#N/A"}},{"$f":"+J1220+I1221","v":{"$error":"#N/A"}},{"$f":"+C1221","v":"1903-05-02"}]
[{"$f":"+A1221+1","v":1220},121,{"$f":"+C1221+1","v":"1903-05-03"},{"$f":"+IF(AND(C1222-シート!$BV$67>=0,シート!$AI$19-C1222>=0),1,0)","v":{"$error":"#N/A"}},{"$f":"IF(AND(C1222-シート!$C$87>=0,シート!$X$87-C1222>=0),1,0)","v":{"$error":"#VALUE!"}},{"$error":"#N/A"},{"$error":"#N/A"},{"$f":"IF(AND(C1222-シート!$CP$87>=0,シート!$DK$87-C1222>=0),1,0)","v":{"$error":"#VALUE!"}},{"$error":"#N/A"},{"$error":"#N/A"},"1903-05-03"]
[1221,121,"1903-05-04",{"$f":"+IF(AND(C1223-シート!$BV$67>=0,シート!$AI$19-C1223>=0),1,0)","v":{"$error":"#N/A"}},{"$f":"IF(AND(C1223-シート!$C$87>=0,シート!$X$87-C1223>=0),1,0)","v":{"$error":"#VALUE!"}},{"$error":"#N/A"},{"$error":"#N/A"},{"$f":"IF(AND(C1223-シート!$CP$87>=0,シート!$DK$87-C1223>=0),1,0)","v":{"$error":"#VALUE!"}},{"$error":"#N/A"},{"$error":"#N/A"},"1903-05-04"]
[1222,121,"1903-05-05",{"$f":"+IF(AND(C1224-シート!$BV$67>=0,シート!$AI$19-C1224>=0),1,0)","v":{"$error":"#N/A"}},{"$f":"IF(AND(C1224-シート!$C$87>=0,シート!$X$87-C1224>=0),1,0)","v":{"$error":"#VALUE!"}},{"$error":"#N/A"},{"$error":"#N/A"},{"$f":"IF(AND(C1224-シート!$CP$87>=0,シート!$DK$87-C1224>=0),1,0)","v":{"$error":"#VALUE!"}},{"$error":"#N/A"},{"$error":"#N/A"},"1903-05-05"]
[1223,121,"1903-05-06",{"$f":"+IF(AND(C1225-シート!$BV$67>=0,シート!$AI$19-C1225>=0),1,0)","v":{"$error":"#N/A"}},{"$f":"IF(AND(C1225-シート!$C$87>=0,シート!$X$87-C1225>=0),1,0)","v":{"$error":"#VALUE!"}},{"$error":"#N/A"},{"$error":"#N/A"},{"$f":"IF(AND(C1225-シート!$CP$87>=0,シート!$DK$87-C1225>=0),1,0)","v":{"$error":"#VALUE!"}},{"$error":"#N/A"},{"$error":"#N/A"},"1903-05-06"]
[1224,121,"1903-05-07",{"$f":"+IF(AND(C1226-シート!$BV$67>=0,シート!$AI$19-C1226>=0),1,0)","v":{"$error":"#N/A"}},{"$f":"IF(AND(C1226-シート!$C$87>=0,シート!$X$87-C1226>=0),1,0)","v":{"$error":"#VALUE!"}},{"$error":"#N/A"},{"$error":"#N/A"},{"$f":"IF(AND(C1226-シート!$CP$87>=0,シート!$DK$87-C1226>=0),1,0)","v":{"$error":"#VALUE!"}},{"$error":"#N/A"},{"$error":"#N/A"},"1903-05-07"]
[1225,121,"1903-05-08",{"$f":"+IF(AND(C1227-シート!$BV$67>=0,シート!$AI$19-C1227>=0),1,0)","v":{"$error":"#N/A"}},{"$f":"IF(AND(C1227-シート!$C$87>=0,シート!$X$87-C1227>=0),1,0)","v":{"$error":"#VALUE!"}},{"$error":"#N/A"},{"$error":"#N/A"},{"$f":"IF(AND(C1227-シート!$CP$87>=0,シート!$DK$87-C1227>=0),1,0)","v":{"$error":"#VALUE!"}},{"$error":"#N/A"},{"$error":"#N/A"},"1903-05-08"]
[1226,121,"1903-05-09",{"$f":"+IF(AND(C1228-シート!$BV$67>=0,シート!$AI$19-C1228>=0),1,0)","v":{"$error":"#N/A"}},{"$f":"IF(AND(C1228-シート!$C$87>=0,シート!$X$87-C1228>=0),1,0)","v":{"$error":"#VALUE!"}},{"$error":"#N/A"},{"$error":"#N/A"},{"$f":"IF(AND(C1228-シート!$CP$87>=0,シート!$DK$87-C1228>=0),1,0)","v":{"$error":"#VALUE!"}},{"$error":"#N/A"},{"$error":"#N/A"},"1903-05-09"]
[1227,121,"1903-05-10",{"$f":"+IF(AND(C1229-シート!$BV$67>=0,シート!$AI$19-C1229>=0),1,0)","v":{"$error":"#N/A"}},{"$f":"IF(AND(C1229-シート!$C$87>=0,シート!$X$87-C1229>=0),1,0)","v":{"$error":"#VALUE!"}},{"$f":"IF(+D1229+E1229=2,1,0)","v":{"$error":"#N/A"}},{"$f":"+G1228+F1229","v":{"$error":"#N/A"}},{"$f":"IF(AND(C1229-シート!$CP$87>=0,シート!$DK$87-C1229>=0),1,0)","v":{"$error":"#VALUE!"}},{"$f":"IF(+D1229+H1229=2,1,0)","v":{"$error":"#N/A"}},{"$f":"+J1228+I1229","v":{"$error":"#N/A"}},{"$f":"+C1229","v":"1903-05-10"}]
[1228,121,"1903-05-11",{"$f":"+IF(AND(C1230-シート!$BV$67>=0,シート!$AI$19-C1230>=0),1,0)","v":{"$error":"#N/A"}},{"$f":"IF(AND(C1230-シート!$C$87>=0,シート!$X$87-C1230>=0),1,0)","v":{"$error":"#VALUE!"}},{"$error":"#N/A"},{"$error":"#N/A"},{"$f":"IF(AND(C1230-シート!$CP$87>=0,シート!$DK$87-C1230>=0),1,0)","v":{"$error":"#VALUE!"}},{"$error":"#N/A"},{"$error":"#N/A"},"1903-05-11"]
[1229,122,"1903-05-12",{"$f":"+IF(AND(C1231-シート!$BV$67>=0,シート!$AI$19-C1231>=0),1,0)","v":{"$error":"#N/A"}},{"$f":"IF(AND(C1231-シート!$C$87>=0,シート!$X$87-C1231>=0),1,0)","v":{"$error":"#VALUE!"}},{"$error":"#N/A"},{"$error":"#N/A"},{"$f":"IF(AND(C1231-シート!$CP$87>=0,シート!$DK$87-C1231>=0),1,0)","v":{"$error":"#VALUE!"}},{"$error":"#N/A"},{"$error":"#N/A"},"1903-05-12"]
[1230,122,"1903-05-13",{"$f":"+IF(AND(C1232-シート!$BV$67>=0,シート!$AI$19-C1232>=0),1,0)","v":{"$error":"#N/A"}},{"$f":"IF(AND(C1232-シート!$C$87>=0,シート!$X$87-C1232>=0),1,0)","v":{"$error":"#VALUE!"}},{"$error":"#N/A"},{"$error":"#N/A"},{"$f":"IF(AND(C1232-シート!$CP$87>=0,シート!$DK$87-C1232>=0),1,0)","v":{"$error":"#VALUE!"}},{"$error":"#N/A"},{"$error":"#N/A"},"1903-05-13"]
[1231,122,"1903-05-14",{"$f":"+IF(AND(C1233-シート!$BV$67>=0,シート!$AI$19-C1233>=0),1,0)","v":{"$error":"#N/A"}},{"$f":"IF(AND(C1233-シート!$C$87>=0,シート!$X$87-C1233>=0),1,0)","v":{"$error":"#VALUE!"}},{"$error":"#N/A"},{"$error":"#N/A"},{"$f":"IF(AND(C1233-シート!$CP$87>=0,シート!$DK$87-C1233>=0),1,0)","v":{"$error":"#VALUE!"}},{"$error":"#N/A"},{"$error":"#N/A"},"1903-05-14"]
[1232,122,"1903-05-15",{"$f":"+IF(AND(C1234-シート!$BV$67>=0,シート!$AI$19-C1234>=0),1,0)","v":{"$error":"#N/A"}},{"$f":"IF(AND(C1234-シート!$C$87>=0,シート!$X$87-C1234>=0),1,0)","v":{"$error":"#VALUE!"}},{"$error":"#N/A"},{"$error":"#N/A"},{"$f":"IF(AND(C1234-シート!$CP$87>=0,シート!$DK$87-C1234>=0),1,0)","v":{"$error":"#VALUE!"}},{"$error":"#N/A"},{"$error":"#N/A"},"1903-05-15"]
[1233,122,"1903-05-16",{"$f":"+IF(AND(C1235-シート!$BV$67>=0,シート!$AI$19-C1235>=0),1,0)","v":{"$error":"#N/A"}},{"$f":"IF(AND(C1235-シート!$C$87>=0,シート!$X$87-C1235>=0),1,0)","v":{"$error":"#VALUE!"}},{"$error":"#N/A"},{"$error":"#N/A"},{"$f":"IF(AND(C1235-シート!$CP$87>=0,シート!$DK$87-C1235>=0),1,0)","v":{"$error":"#VALUE!"}},{"$error":"#N/A"},{"$error":"#N/A"},"1903-05-16"]
[1234,122,"1903-05-17",{"$f":"+IF(AND(C1236-シート!$BV$67>=0,シート!$AI$19-C1236>=0),1,0)","v":{"$error":"#N/A"}},{"$f":"IF(AND(C1236-シート!$C$87>=0,シート!$X$87-C1236>=0),1,0)","v":{"$error":"#VALUE!"}},{"$error":"#N/A"},{"$error":"#N/A"},{"$f":"IF(AND(C1236-シート!$CP$87>=0,シート!$DK$87-C1236>=0),1,0)","v":{"$error":"#VALUE!"}},{"$error":"#N/A"},{"$error":"#N/A"},"1903-05-17"]
[1235,122,"1903-05-18",{"$f":"+IF(AND(C1237-シート!$BV$67>=0,シート!$AI$19-C1237>=0),1,0)","v":{"$error":"#N/A"}},{"$f":"IF(AND(C1237-シート!$C$87>=0,シート!$X$87-C1237>=0),1,0)","v":{"$error":"#VALUE!"}},{"$error":"#N/A"},{"$error":"#N/A"},{"$f":"IF(AND(C1237-シート!$CP$87>=0,シート!$DK$87-C1237>=0),1,0)","v":{"$error":"#VALUE!"}},{"$error":"#N/A"},{"$error":"#N/A"},"1903-05-18"]
[1236,122,"1903-05-19",{"$f":"+IF(AND(C1238-シート!$BV$67>=0,シート!$AI$19-C1238>=0),1,0)","v":{"$error":"#N/A"}},{"$f":"IF(AND(C1238-シート!$C$87>=0,シート!$X$87-C1238>=0),1,0)","v":{"$error":"#VALUE!"}},{"$error":"#N/A"},{"$error":"#N/A"},{"$f":"IF(AND(C1238-シート!$CP$87>=0,シート!$DK$87-C1238>=0),1,0)","v":{"$error":"#VALUE!"}},{"$error":"#N/A"},{"$error":"#N/A"},"1903-05-19"]
[1237,122,"1903-05-20",{"$f":"+IF(AND(C1239-シート!$BV$67>=0,シート!$AI$19-C1239>=0),1,0)","v":{"$error":"#N/A"}},{"$f":"IF(AND(C1239-シート!$C$87>=0,シート!$X$87-C1239>=0),1,0)","v":{"$error":"#VALUE!"}},{"$error":"#N/A"},{"$error":"#N/A"},{"$f":"IF(AND(C1239-シート!$CP$87>=0,シート!$DK$87-C1239>=0),1,0)","v":{"$error":"#VALUE!"}},{"$error":"#N/A"},{"$error":"#N/A"},"1903-05-20"]
[1238,122,"1903-05-21",{"$f":"+IF(AND(C1240-シート!$BV$67>=0,シート!$AI$19-C1240>=0),1,0)","v":{"$error":"#N/A"}},{"$f":"IF(AND(C1240-シート!$C$87>=0,シート!$X$87-C1240>=0),1,0)","v":{"$error":"#VALUE!"}},{"$error":"#N/A"},{"$error":"#N/A"},{"$f":"IF(AND(C1240-シート!$CP$87>=0,シート!$DK$87-C1240>=0),1,0)","v":{"$error":"#VALUE!"}},{"$error":"#N/A"},{"$error":"#N/A"},"1903-05-21"]
[1239,123,"1903-05-22",{"$f":"+IF(AND(C1241-シート!$BV$67>=0,シート!$AI$19-C1241>=0),1,0)","v":{"$error":"#N/A"}},{"$f":"IF(AND(C1241-シート!$C$87>=0,シート!$X$87-C1241>=0),1,0)","v":{"$error":"#VALUE!"}},{"$error":"#N/A"},{"$error":"#N/A"},{"$f":"IF(AND(C1241-シート!$CP$87>=0,シート!$DK$87-C1241>=0),1,0)","v":{"$error":"#VALUE!"}},{"$error":"#N/A"},{"$error":"#N/A"},"1903-05-22"]
[1240,123,"1903-05-23",{"$f":"+IF(AND(C1242-シート!$BV$67>=0,シート!$AI$19-C1242>=0),1,0)","v":{"$error":"#N/A"}},{"$f":"IF(AND(C1242-シート!$C$87>=0,シート!$X$87-C1242>=0),1,0)","v":{"$error":"#VALUE!"}},{"$error":"#N/A"},{"$error":"#N/A"},{"$f":"IF(AND(C1242-シート!$CP$87>=0,シート!$DK$87-C1242>=0),1,0)","v":{"$error":"#VALUE!"}},{"$error":"#N/A"},{"$error":"#N/A"},"1903-05-23"]
[1241,123,"1903-05-24",{"$f":"+IF(AND(C1243-シート!$BV$67>=0,シート!$AI$19-C1243>=0),1,0)","v":{"$error":"#N/A"}},{"$f":"IF(AND(C1243-シート!$C$87>=0,シート!$X$87-C1243>=0),1,0)","v":{"$error":"#VALUE!"}},{"$error":"#N/A"},{"$error":"#N/A"},{"$f":"IF(AND(C1243-シート!$CP$87>=0,シート!$DK$87-C1243>=0),1,0)","v":{"$error":"#VALUE!"}},{"$error":"#N/A"},{"$error":"#N/A"},"1903-05-24"]
[1242,123,"1903-05-25",{"$f":"+IF(AND(C1244-シート!$BV$67>=0,シート!$AI$19-C1244>=0),1,0)","v":{"$error":"#N/A"}},{"$f":"IF(AND(C1244-シート!$C$87>=0,シート!$X$87-C1244>=0),1,0)","v":{"$error":"#VALUE!"}},{"$error":"#N/A"},{"$error":"#N/A"},{"$f":"IF(AND(C1244-シート!$CP$87>=0,シート!$DK$87-C1244>=0),1,0)","v":{"$error":"#VALUE!"}},{"$error":"#N/A"},{"$error":"#N/A"},"1903-05-25"]
[1243,123,"1903-05-26",{"$f":"+IF(AND(C1245-シート!$BV$67>=0,シート!$AI$19-C1245>=0),1,0)","v":{"$error":"#N/A"}},{"$f":"IF(AND(C1245-シート!$C$87>=0,シート!$X$87-C1245>=0),1,0)","v":{"$error":"#VALUE!"}},{"$error":"#N/A"},{"$error":"#N/A"},{"$f":"IF(AND(C1245-シート!$CP$87>=0,シート!$DK$87-C1245>=0),1,0)","v":{"$error":"#VALUE!"}},{"$error":"#N/A"},{"$error":"#N/A"},"1903-05-26"]
[1244,123,"1903-05-27",{"$f":"+IF(AND(C1246-シート!$BV$67>=0,シート!$AI$19-C1246>=0),1,0)","v":{"$error":"#N/A"}},{"$f":"IF(AND(C1246-シート!$C$87>=0,シート!$X$87-C1246>=0),1,0)","v":{"$error":"#VALUE!"}},{"$error":"#N/A"},{"$error":"#N/A"},{"$f":"IF(AND(C1246-シート!$CP$87>=0,シート!$DK$87-C1246>=0),1,0)","v":{"$error":"#VALUE!"}},{"$error":"#N/A"},{"$error":"#N/A"},"1903-05-27"]
[1245,123,"1903-05-28",{"$f":"+IF(AND(C1247-シート!$BV$67>=0,シート!$AI$19-C1247>=0),1,0)","v":{"$error":"#N/A"}},{"$f":"IF(AND(C1247-シート!$C$87>=0,シート!$X$87-C1247>=0),1,0)","v":{"$error":"#VALUE!"}},{"$error":"#N/A"},{"$error":"#N/A"},{"$f":"IF(AND(C1247-シート!$CP$87>=0,シート!$DK$87-C1247>=0),1,0)","v":{"$error":"#VALUE!"}},{"$error":"#N/A"},{"$error":"#N/A"},"1903-05-28"]
[1246,123,"1903-05-29",{"$f":"+IF(AND(C1248-シート!$BV$67>=0,シート!$AI$19-C1248>=0),1,0)","v":{"$error":"#N/A"}},{"$f":"IF(AND(C1248-シート!$C$87>=0,シート!$X$87-C1248>=0),1,0)","v":{"$error":"#VALUE!"}},{"$error":"#N/A"},{"$error":"#N/A"},{"$f":"IF(AND(C1248-シート!$CP$87>=0,シート!$DK$87-C1248>=0),1,0)","v":{"$error":"#VALUE!"}},{"$error":"#N/A"},{"$error":"#N/A"},"1903-05-29"]
[1247,123,"1903-05-30",{"$f":"+IF(AND(C1249-シート!$BV$67>=0,シート!$AI$19-C1249>=0),1,0)","v":{"$error":"#N/A"}},{"$f":"IF(AND(C1249-シート!$C$87>=0,シート!$X$87-C1249>=0),1,0)","v":{"$error":"#VALUE!"}},{"$error":"#N/A"},{"$error":"#N/A"},{"$f":"IF(AND(C1249-シート!$CP$87>=0,シート!$DK$87-C1249>=0),1,0)","v":{"$error":"#VALUE!"}},{"$error":"#N/A"},{"$error":"#N/A"},"1903-05-30"]
[1248,123,"1903-05-31",{"$f":"+IF(AND(C1250-シート!$BV$67>=0,シート!$AI$19-C1250>=0),1,0)","v":{"$error":"#N/A"}},{"$f":"IF(AND(C1250-シート!$C$87>=0,シート!$X$87-C1250>=0),1,0)","v":{"$error":"#VALUE!"}},{"$error":"#N/A"},{"$error":"#N/A"},{"$f":"IF(AND(C1250-シート!$CP$87>=0,シート!$DK$87-C1250>=0),1,0)","v":{"$error":"#VALUE!"}},{"$error":"#N/A"},{"$error":"#N/A"},"1903-05-31"]
[1249,124,"1903-06-01",{"$f":"+IF(AND(C1251-シート!$BV$67>=0,シート!$AI$19-C1251>=0),1,0)","v":{"$error":"#N/A"}},{"$f":"IF(AND(C1251-シート!$C$87>=0,シート!$X$87-C1251>=0),1,0)","v":{"$error":"#VALUE!"}},{"$error":"#N/A"},{"$error":"#N/A"},{"$f":"IF(AND(C1251-シート!$CP$87>=0,シート!$DK$87-C1251>=0),1,0)","v":{"$error":"#VALUE!"}},{"$error":"#N/A"},{"$error":"#N/A"},"1903-06-01"]
[1250,124,"1903-06-02",{"$f":"+IF(AND(C1252-シート!$BV$67>=0,シート!$AI$19-C1252>=0),1,0)","v":{"$error":"#N/A"}},{"$f":"IF(AND(C1252-シート!$C$87>=0,シート!$X$87-C1252>=0),1,0)","v":{"$error":"#VALUE!"}},{"$error":"#N/A"},{"$error":"#N/A"},{"$f":"IF(AND(C1252-シート!$CP$87>=0,シート!$DK$87-C1252>=0),1,0)","v":{"$error":"#VALUE!"}},{"$error":"#N/A"},{"$error":"#N/A"},"1903-06-02"]
[1251,124,"1903-06-03",{"$f":"+IF(AND(C1253-シート!$BV$67>=0,シート!$AI$19-C1253>=0),1,0)","v":{"$error":"#N/A"}},{"$f":"IF(AND(C1253-シート!$C$87>=0,シート!$X$87-C1253>=0),1,0)","v":{"$error":"#VALUE!"}},{"$error":"#N/A"},{"$error":"#N/A"},{"$f":"IF(AND(C1253-シート!$CP$87>=0,シート!$DK$87-C1253>=0),1,0)","v":{"$error":"#VALUE!"}},{"$error":"#N/A"},{"$error":"#N/A"},"1903-06-03"]
[1252,124,"1903-06-04",{"$f":"+IF(AND(C1254-シート!$BV$67>=0,シート!$AI$19-C1254>=0),1,0)","v":{"$error":"#N/A"}},{"$f":"IF(AND(C1254-シート!$C$87>=0,シート!$X$87-C1254>=0),1,0)","v":{"$error":"#VALUE!"}},{"$error":"#N/A"},{"$error":"#N/A"},{"$f":"IF(AND(C1254-シート!$CP$87>=0,シート!$DK$87-C1254>=0),1,0)","v":{"$error":"#VALUE!"}},{"$error":"#N/A"},{"$error":"#N/A"},"1903-06-04"]
[1253,124,"1903-06-05",{"$f":"+IF(AND(C1255-シート!$BV$67>=0,シート!$AI$19-C1255>=0),1,0)","v":{"$error":"#N/A"}},{"$f":"IF(AND(C1255-シート!$C$87>=0,シート!$X$87-C1255>=0),1,0)","v":{"$error":"#VALUE!"}},{"$error":"#N/A"},{"$error":"#N/A"},{"$f":"IF(AND(C1255-シート!$CP$87>=0,シート!$DK$87-C1255>=0),1,0)","v":{"$error":"#VALUE!"}},{"$error":"#N/A"},{"$error":"#N/A"},"1903-06-05"]
[1254,124,"1903-06-06",{"$f":"+IF(AND(C1256-シート!$BV$67>=0,シート!$AI$19-C1256>=0),1,0)","v":{"$error":"#N/A"}},{"$f":"IF(AND(C1256-シート!$C$87>=0,シート!$X$87-C1256>=0),1,0)","v":{"$error":"#VALUE!"}},{"$error":"#N/A"},{"$error":"#N/A"},{"$f":"IF(AND(C1256-シート!$CP$87>=0,シート!$DK$87-C1256>=0),1,0)","v":{"$error":"#VALUE!"}},{"$error":"#N/A"},{"$error":"#N/A"},"1903-06-06"]
[1255,124,"1903-06-07",{"$f":"+IF(AND(C1257-シート!$BV$67>=0,シート!$AI$19-C1257>=0),1,0)","v":{"$error":"#N/A"}},{"$f":"IF(AND(C1257-シート!$C$87>=0,シート!$X$87-C1257>=0),1,0)","v":{"$error":"#VALUE!"}},{"$error":"#N/A"},{"$error":"#N/A"},{"$f":"IF(AND(C1257-シート!$CP$87>=0,シート!$DK$87-C1257>=0),1,0)","v":{"$error":"#VALUE!"}},{"$error":"#N/A"},{"$error":"#N/A"},"1903-06-07"]
[1256,124,"1903-06-08",{"$f":"+IF(AND(C1258-シート!$BV$67>=0,シート!$AI$19-C1258>=0),1,0)","v":{"$error":"#N/A"}},{"$f":"IF(AND(C1258-シート!$C$87>=0,シート!$X$87-C1258>=0),1,0)","v":{"$error":"#VALUE!"}},{"$error":"#N/A"},{"$error":"#N/A"},{"$f":"IF(AND(C1258-シート!$CP$87>=0,シート!$DK$87-C1258>=0),1,0)","v":{"$error":"#VALUE!"}},{"$error":"#N/A"},{"$error":"#N/A"},"1903-06-08"]
[1257,124,"1903-06-09",{"$f":"+IF(AND(C1259-シート!$BV$67>=0,シート!$AI$19-C1259>=0),1,0)","v":{"$error":"#N/A"}},{"$f":"IF(AND(C1259-シート!$C$87>=0,シート!$X$87-C1259>=0),1,0)","v":{"$error":"#VALUE!"}},{"$error":"#N/A"},{"$error":"#N/A"},{"$f":"IF(AND(C1259-シート!$CP$87>=0,シート!$DK$87-C1259>=0),1,0)","v":{"$error":"#VALUE!"}},{"$error":"#N/A"},{"$error":"#N/A"},"1903-06-09"]
[1258,124,"1903-06-10",{"$f":"+IF(AND(C1260-シート!$BV$67>=0,シート!$AI$19-C1260>=0),1,0)","v":{"$error":"#N/A"}},{"$f":"IF(AND(C1260-シート!$C$87>=0,シート!$X$87-C1260>=0),1,0)","v":{"$error":"#VALUE!"}},{"$error":"#N/A"},{"$error":"#N/A"},{"$f":"IF(AND(C1260-シート!$CP$87>=0,シート!$DK$87-C1260>=0),1,0)","v":{"$error":"#VALUE!"}},{"$error":"#N/A"},{"$error":"#N/A"},"1903-06-10"]
[1259,125,"1903-06-11",{"$f":"+IF(AND(C1261-シート!$BV$67>=0,シート!$AI$19-C1261>=0),1,0)","v":{"$error":"#N/A"}},{"$f":"IF(AND(C1261-シート!$C$87>=0,シート!$X$87-C1261>=0),1,0)","v":{"$error":"#VALUE!"}},{"$error":"#N/A"},{"$error":"#N/A"},{"$f":"IF(AND(C1261-シート!$CP$87>=0,シート!$DK$87-C1261>=0),1,0)","v":{"$error":"#VALUE!"}},{"$error":"#N/A"},{"$error":"#N/A"},"1903-06-11"]
[1260,125,"1903-06-12",{"$f":"+IF(AND(C1262-シート!$BV$67>=0,シート!$AI$19-C1262>=0),1,0)","v":{"$error":"#N/A"}},{"$f":"IF(AND(C1262-シート!$C$87>=0,シート!$X$87-C1262>=0),1,0)","v":{"$error":"#VALUE!"}},{"$error":"#N/A"},{"$error":"#N/A"},{"$f":"IF(AND(C1262-シート!$CP$87>=0,シート!$DK$87-C1262>=0),1,0)","v":{"$error":"#VALUE!"}},{"$error":"#N/A"},{"$error":"#N/A"},"1903-06-12"]
[1261,125,"1903-06-13",{"$f":"+IF(AND(C1263-シート!$BV$67>=0,シート!$AI$19-C1263>=0),1,0)","v":{"$error":"#N/A"}},{"$f":"IF(AND(C1263-シート!$C$87>=0,シート!$X$87-C1263>=0),1,0)","v":{"$error":"#VALUE!"}},{"$error":"#N/A"},{"$error":"#N/A"},{"$f":"IF(AND(C1263-シート!$CP$87>=0,シート!$DK$87-C1263>=0),1,0)","v":{"$error":"#VALUE!"}},{"$error":"#N/A"},{"$error":"#N/A"},"1903-06-13"]
[1262,125,"1903-06-14",{"$f":"+IF(AND(C1264-シート!$BV$67>=0,シート!$AI$19-C1264>=0),1,0)","v":{"$error":"#N/A"}},{"$f":"IF(AND(C1264-シート!$C$87>=0,シート!$X$87-C1264>=0),1,0)","v":{"$error":"#VALUE!"}},{"$error":"#N/A"},{"$error":"#N/A"},{"$f":"IF(AND(C1264-シート!$CP$87>=0,シート!$DK$87-C1264>=0),1,0)","v":{"$error":"#VALUE!"}},{"$error":"#N/A"},{"$error":"#N/A"},"1903-06-14"]
[1263,125,"1903-06-15",{"$f":"+IF(AND(C1265-シート!$BV$67>=0,シート!$AI$19-C1265>=0),1,0)","v":{"$error":"#N/A"}},{"$f":"IF(AND(C1265-シート!$C$87>=0,シート!$X$87-C1265>=0),1,0)","v":{"$error":"#VALUE!"}},{"$error":"#N/A"},{"$error":"#N/A"},{"$f":"IF(AND(C1265-シート!$CP$87>=0,シート!$DK$87-C1265>=0),1,0)","v":{"$error":"#VALUE!"}},{"$error":"#N/A"},{"$error":"#N/A"},"1903-06-15"]
[1264,125,"1903-06-16",{"$f":"+IF(AND(C1266-シート!$BV$67>=0,シート!$AI$19-C1266>=0),1,0)","v":{"$error":"#N/A"}},{"$f":"IF(AND(C1266-シート!$C$87>=0,シート!$X$87-C1266>=0),1,0)","v":{"$error":"#VALUE!"}},{"$error":"#N/A"},{"$error":"#N/A"},{"$f":"IF(AND(C1266-シート!$CP$87>=0,シート!$DK$87-C1266>=0),1,0)","v":{"$error":"#VALUE!"}},{"$error":"#N/A"},{"$error":"#N/A"},"1903-06-16"]
[1265,125,"1903-06-17",{"$f":"+IF(AND(C1267-シート!$BV$67>=0,シート!$AI$19-C1267>=0),1,0)","v":{"$error":"#N/A"}},{"$f":"IF(AND(C1267-シート!$C$87>=0,シート!$X$87-C1267>=0),1,0)","v":{"$error":"#VALUE!"}},{"$error":"#N/A"},{"$error":"#N/A"},{"$f":"IF(AND(C1267-シート!$CP$87>=0,シート!$DK$87-C1267>=0),1,0)","v":{"$error":"#VALUE!"}},{"$error":"#N/A"},{"$error":"#N/A"},"1903-06-17"]
[1266,125,"1903-06-18",{"$f":"+IF(AND(C1268-シート!$BV$67>=0,シート!$AI$19-C1268>=0),1,0)","v":{"$error":"#N/A"}},{"$f":"IF(AND(C1268-シート!$C$87>=0,シート!$X$87-C1268>=0),1,0)","v":{"$error":"#VALUE!"}},{"$error":"#N/A"},{"$error":"#N/A"},{"$f":"IF(AND(C1268-シート!$CP$87>=0,シート!$DK$87-C1268>=0),1,0)","v":{"$error":"#VALUE!"}},{"$error":"#N/A"},{"$error":"#N/A"},"1903-06-18"]
[1267,125,"1903-06-19",{"$f":"+IF(AND(C1269-シート!$BV$67>=0,シート!$AI$19-C1269>=0),1,0)","v":{"$error":"#N/A"}},{"$f":"IF(AND(C1269-シート!$C$87>=0,シート!$X$87-C1269>=0),1,0)","v":{"$error":"#VALUE!"}},{"$error":"#N/A"},{"$error":"#N/A"},{"$f":"IF(AND(C1269-シート!$CP$87>=0,シート!$DK$87-C1269>=0),1,0)","v":{"$error":"#VALUE!"}},{"$error":"#N/A"},{"$error":"#N/A"},"1903-06-19"]
[1268,125,"1903-06-20",{"$f":"+IF(AND(C1270-シート!$BV$67>=0,シート!$AI$19-C1270>=0),1,0)","v":{"$error":"#N/A"}},{"$f":"IF(AND(C1270-シート!$C$87>=0,シート!$X$87-C1270>=0),1,0)","v":{"$error":"#VALUE!"}},{"$error":"#N/A"},{"$error":"#N/A"},{"$f":"IF(AND(C1270-シート!$CP$87>=0,シート!$DK$87-C1270>=0),1,0)","v":{"$error":"#VALUE!"}},{"$error":"#N/A"},{"$error":"#N/A"},"1903-06-20"]
[1269,126,"1903-06-21",{"$f":"+IF(AND(C1271-シート!$BV$67>=0,シート!$AI$19-C1271>=0),1,0)","v":{"$error":"#N/A"}},{"$f":"IF(AND(C1271-シート!$C$87>=0,シート!$X$87-C1271>=0),1,0)","v":{"$error":"#VALUE!"}},{"$error":"#N/A"},{"$error":"#N/A"},{"$f":"IF(AND(C1271-シート!$CP$87>=0,シート!$DK$87-C1271>=0),1,0)","v":{"$error":"#VALUE!"}},{"$error":"#N/A"},{"$error":"#N/A"},"1903-06-21"]
[1270,126,"1903-06-22",{"$f":"+IF(AND(C1272-シート!$BV$67>=0,シート!$AI$19-C1272>=0),1,0)","v":{"$error":"#N/A"}},{"$f":"IF(AND(C1272-シート!$C$87>=0,シート!$X$87-C1272>=0),1,0)","v":{"$error":"#VALUE!"}},{"$error":"#N/A"},{"$error":"#N/A"},{"$f":"IF(AND(C1272-シート!$CP$87>=0,シート!$DK$87-C1272>=0),1,0)","v":{"$error":"#VALUE!"}},{"$error":"#N/A"},{"$error":"#N/A"},"1903-06-22"]
[1271,126,"1903-06-23",{"$f":"+IF(AND(C1273-シート!$BV$67>=0,シート!$AI$19-C1273>=0),1,0)","v":{"$error":"#N/A"}},{"$f":"IF(AND(C1273-シート!$C$87>=0,シート!$X$87-C1273>=0),1,0)","v":{"$error":"#VALUE!"}},{"$error":"#N/A"},{"$error":"#N/A"},{"$f":"IF(AND(C1273-シート!$CP$87>=0,シート!$DK$87-C1273>=0),1,0)","v":{"$error":"#VALUE!"}},{"$error":"#N/A"},{"$error":"#N/A"},"1903-06-23"]
[1272,126,"1903-06-24",{"$f":"+IF(AND(C1274-シート!$BV$67>=0,シート!$AI$19-C1274>=0),1,0)","v":{"$error":"#N/A"}},{"$f":"IF(AND(C1274-シート!$C$87>=0,シート!$X$87-C1274>=0),1,0)","v":{"$error":"#VALUE!"}},{"$error":"#N/A"},{"$error":"#N/A"},{"$f":"IF(AND(C1274-シート!$CP$87>=0,シート!$DK$87-C1274>=0),1,0)","v":{"$error":"#VALUE!"}},{"$error":"#N/A"},{"$error":"#N/A"},"1903-06-24"]
[1273,126,"1903-06-25",{"$f":"+IF(AND(C1275-シート!$BV$67>=0,シート!$AI$19-C1275>=0),1,0)","v":{"$error":"#N/A"}},{"$f":"IF(AND(C1275-シート!$C$87>=0,シート!$X$87-C1275>=0),1,0)","v":{"$error":"#VALUE!"}},{"$error":"#N/A"},{"$error":"#N/A"},{"$f":"IF(AND(C1275-シート!$CP$87>=0,シート!$DK$87-C1275>=0),1,0)","v":{"$error":"#VALUE!"}},{"$error":"#N/A"},{"$error":"#N/A"},"1903-06-25"]
[1274,{"$f":"+B1266+1","v":126},"1903-06-26",{"$f":"+IF(AND(C1276-シート!$BV$67>=0,シート!$AI$19-C1276>=0),1,0)","v":{"$error":"#N/A"}},{"$f":"IF(AND(C1276-シート!$C$87>=0,シート!$X$87-C1276>=0),1,0)","v":{"$error":"#VALUE!"}},{"$error":"#N/A"},{"$error":"#N/A"},{"$f":"IF(AND(C1276-シート!$CP$87>=0,シート!$DK$87-C1276>=0),1,0)","v":{"$error":"#VALUE!"}},{"$error":"#N/A"},{"$error":"#N/A"},"1903-06-26"]
[1275,126,"1903-06-27",{"$f":"+IF(AND(C1277-シート!$BV$67>=0,シート!$AI$19-C1277>=0),1,0)","v":{"$error":"#N/A"}},{"$f":"IF(AND(C1277-シート!$C$87>=0,シート!$X$87-C1277>=0),1,0)","v":{"$error":"#VALUE!"}},{"$error":"#N/A"},{"$error":"#N/A"},{"$f":"IF(AND(C1277-シート!$CP$87>=0,シート!$DK$87-C1277>=0),1,0)","v":{"$error":"#VALUE!"}},{"$error":"#N/A"},{"$error":"#N/A"},"1903-06-27"]
[1276,126,"1903-06-28",{"$f":"+IF(AND(C1278-シート!$BV$67>=0,シート!$AI$19-C1278>=0),1,0)","v":{"$error":"#N/A"}},{"$f":"IF(AND(C1278-シート!$C$87>=0,シート!$X$87-C1278>=0),1,0)","v":{"$error":"#VALUE!"}},{"$error":"#N/A"},{"$error":"#N/A"},{"$f":"IF(AND(C1278-シート!$CP$87>=0,シート!$DK$87-C1278>=0),1,0)","v":{"$error":"#VALUE!"}},{"$error":"#N/A"},{"$error":"#N/A"},"1903-06-28"]
[1277,126,"1903-06-29",{"$f":"+IF(AND(C1279-シート!$BV$67>=0,シート!$AI$19-C1279>=0),1,0)","v":{"$error":"#N/A"}},{"$f":"IF(AND(C1279-シート!$C$87>=0,シート!$X$87-C1279>=0),1,0)","v":{"$error":"#VALUE!"}},{"$error":"#N/A"},{"$error":"#N/A"},{"$f":"IF(AND(C1279-シート!$CP$87>=0,シート!$DK$87-C1279>=0),1,0)","v":{"$error":"#VALUE!"}},{"$error":"#N/A"},{"$error":"#N/A"},"1903-06-29"]
[1278,126,"1903-06-30",{"$f":"+IF(AND(C1280-シート!$BV$67>=0,シート!$AI$19-C1280>=0),1,0)","v":{"$error":"#N/A"}},{"$f":"IF(AND(C1280-シート!$C$87>=0,シート!$X$87-C1280>=0),1,0)","v":{"$error":"#VALUE!"}},{"$error":"#N/A"},{"$error":"#N/A"},{"$f":"IF(AND(C1280-シート!$CP$87>=0,シート!$DK$87-C1280>=0),1,0)","v":{"$error":"#VALUE!"}},{"$error":"#N/A"},{"$error":"#N/A"},"1903-06-30"]
[1279,127,"1903-07-01",{"$f":"+IF(AND(C1281-シート!$BV$67>=0,シート!$AI$19-C1281>=0),1,0)","v":{"$error":"#N/A"}},{"$f":"IF(AND(C1281-シート!$C$87>=0,シート!$X$87-C1281>=0),1,0)","v":{"$error":"#VALUE!"}},{"$error":"#N/A"},{"$error":"#N/A"},{"$f":"IF(AND(C1281-シート!$CP$87>=0,シート!$DK$87-C1281>=0),1,0)","v":{"$error":"#VALUE!"}},{"$error":"#N/A"},{"$error":"#N/A"},"1903-07-01"]
[1280,127,"1903-07-02",{"$f":"+IF(AND(C1282-シート!$BV$67>=0,シート!$AI$19-C1282>=0),1,0)","v":{"$error":"#N/A"}},{"$f":"IF(AND(C1282-シート!$C$87>=0,シート!$X$87-C1282>=0),1,0)","v":{"$error":"#VALUE!"}},{"$error":"#N/A"},{"$error":"#N/A"},{"$f":"IF(AND(C1282-シート!$CP$87>=0,シート!$DK$87-C1282>=0),1,0)","v":{"$error":"#VALUE!"}},{"$error":"#N/A"},{"$error":"#N/A"},"1903-07-02"]
[1281,127,"1903-07-03",{"$f":"+IF(AND(C1283-シート!$BV$67>=0,シート!$AI$19-C1283>=0),1,0)","v":{"$error":"#N/A"}},{"$f":"IF(AND(C1283-シート!$C$87>=0,シート!$X$87-C1283>=0),1,0)","v":{"$error":"#VALUE!"}},{"$error":"#N/A"},{"$error":"#N/A"},{"$f":"IF(AND(C1283-シート!$CP$87>=0,シート!$DK$87-C1283>=0),1,0)","v":{"$error":"#VALUE!"}},{"$error":"#N/A"},{"$error":"#N/A"},"1903-07-03"]
[1282,127,"1903-07-04",{"$f":"+IF(AND(C1284-シート!$BV$67>=0,シート!$AI$19-C1284>=0),1,0)","v":{"$error":"#N/A"}},{"$f":"IF(AND(C1284-シート!$C$87>=0,シート!$X$87-C1284>=0),1,0)","v":{"$error":"#VALUE!"}},{"$error":"#N/A"},{"$error":"#N/A"},{"$f":"IF(AND(C1284-シート!$CP$87>=0,シート!$DK$87-C1284>=0),1,0)","v":{"$error":"#VALUE!"}},{"$error":"#N/A"},{"$error":"#N/A"},"1903-07-04"]
[1283,127,"1903-07-05",{"$f":"+IF(AND(C1285-シート!$BV$67>=0,シート!$AI$19-C1285>=0),1,0)","v":{"$error":"#N/A"}},{"$f":"IF(AND(C1285-シート!$C$87>=0,シート!$X$87-C1285>=0),1,0)","v":{"$error":"#VALUE!"}},{"$error":"#N/A"},{"$error":"#N/A"},{"$f":"IF(AND(C1285-シート!$CP$87>=0,シート!$DK$87-C1285>=0),1,0)","v":{"$error":"#VALUE!"}},{"$error":"#N/A"},{"$error":"#N/A"},"1903-07-05"]
[{"$f":"+A1285+1","v":1284},127,{"$f":"+C1285+1","v":"1903-07-06"},{"$f":"+IF(AND(C1286-シート!$BV$67>=0,シート!$AI$19-C1286>=0),1,0)","v":{"$error":"#N/A"}},{"$f":"IF(AND(C1286-シート!$C$87>=0,シート!$X$87-C1286>=0),1,0)","v":{"$error":"#VALUE!"}},{"$error":"#N/A"},{"$error":"#N/A"},{"$f":"IF(AND(C1286-シート!$CP$87>=0,シート!$DK$87-C1286>=0),1,0)","v":{"$error":"#VALUE!"}},{"$error":"#N/A"},{"$error":"#N/A"},"1903-07-06"]
[1285,127,"1903-07-07",{"$f":"+IF(AND(C1287-シート!$BV$67>=0,シート!$AI$19-C1287>=0),1,0)","v":{"$error":"#N/A"}},{"$f":"IF(AND(C1287-シート!$C$87>=0,シート!$X$87-C1287>=0),1,0)","v":{"$error":"#VALUE!"}},{"$error":"#N/A"},{"$error":"#N/A"},{"$f":"IF(AND(C1287-シート!$CP$87>=0,シート!$DK$87-C1287>=0),1,0)","v":{"$error":"#VALUE!"}},{"$error":"#N/A"},{"$error":"#N/A"},"1903-07-07"]
[1286,127,"1903-07-08",{"$f":"+IF(AND(C1288-シート!$BV$67>=0,シート!$AI$19-C1288>=0),1,0)","v":{"$error":"#N/A"}},{"$f":"IF(AND(C1288-シート!$C$87>=0,シート!$X$87-C1288>=0),1,0)","v":{"$error":"#VALUE!"}},{"$error":"#N/A"},{"$error":"#N/A"},{"$f":"IF(AND(C1288-シート!$CP$87>=0,シート!$DK$87-C1288>=0),1,0)","v":{"$error":"#VALUE!"}},{"$error":"#N/A"},{"$error":"#N/A"},"1903-07-08"]
[1287,127,"1903-07-09",{"$f":"+IF(AND(C1289-シート!$BV$67>=0,シート!$AI$19-C1289>=0),1,0)","v":{"$error":"#N/A"}},{"$f":"IF(AND(C1289-シート!$C$87>=0,シート!$X$87-C1289>=0),1,0)","v":{"$error":"#VALUE!"}},{"$error":"#N/A"},{"$error":"#N/A"},{"$f":"IF(AND(C1289-シート!$CP$87>=0,シート!$DK$87-C1289>=0),1,0)","v":{"$error":"#VALUE!"}},{"$error":"#N/A"},{"$error":"#N/A"},"1903-07-09"]
[1288,127,"1903-07-10",{"$f":"+IF(AND(C1290-シート!$BV$67>=0,シート!$AI$19-C1290>=0),1,0)","v":{"$error":"#N/A"}},{"$f":"IF(AND(C1290-シート!$C$87>=0,シート!$X$87-C1290>=0),1,0)","v":{"$error":"#VALUE!"}},{"$error":"#N/A"},{"$error":"#N/A"},{"$f":"IF(AND(C1290-シート!$CP$87>=0,シート!$DK$87-C1290>=0),1,0)","v":{"$error":"#VALUE!"}},{"$error":"#N/A"},{"$error":"#N/A"},"1903-07-10"]
[1289,128,"1903-07-11",{"$f":"+IF(AND(C1291-シート!$BV$67>=0,シート!$AI$19-C1291>=0),1,0)","v":{"$error":"#N/A"}},{"$f":"IF(AND(C1291-シート!$C$87>=0,シート!$X$87-C1291>=0),1,0)","v":{"$error":"#VALUE!"}},{"$error":"#N/A"},{"$error":"#N/A"},{"$f":"IF(AND(C1291-シート!$CP$87>=0,シート!$DK$87-C1291>=0),1,0)","v":{"$error":"#VALUE!"}},{"$error":"#N/A"},{"$error":"#N/A"},"1903-07-11"]
[1290,128,"1903-07-12",{"$f":"+IF(AND(C1292-シート!$BV$67>=0,シート!$AI$19-C1292>=0),1,0)","v":{"$error":"#N/A"}},{"$f":"IF(AND(C1292-シート!$C$87>=0,シート!$X$87-C1292>=0),1,0)","v":{"$error":"#VALUE!"}},{"$error":"#N/A"},{"$error":"#N/A"},{"$f":"IF(AND(C1292-シート!$CP$87>=0,シート!$DK$87-C1292>=0),1,0)","v":{"$error":"#VALUE!"}},{"$error":"#N/A"},{"$error":"#N/A"},"1903-07-12"]
[1291,128,"1903-07-13",{"$f":"+IF(AND(C1293-シート!$BV$67>=0,シート!$AI$19-C1293>=0),1,0)","v":{"$error":"#N/A"}},{"$f":"IF(AND(C1293-シート!$C$87>=0,シート!$X$87-C1293>=0),1,0)","v":{"$error":"#VALUE!"}},{"$f":"IF(+D1293+E1293=2,1,0)","v":{"$error":"#N/A"}},{"$f":"+G1292+F1293","v":{"$error":"#N/A"}},{"$f":"IF(AND(C1293-シート!$CP$87>=0,シート!$DK$87-C1293>=0),1,0)","v":{"$error":"#VALUE!"}},{"$f":"IF(+D1293+H1293=2,1,0)","v":{"$error":"#N/A"}},{"$f":"+J1292+I1293","v":{"$error":"#N/A"}},{"$f":"+C1293","v":"1903-07-13"}]
[1292,128,"1903-07-14",{"$f":"+IF(AND(C1294-シート!$BV$67>=0,シート!$AI$19-C1294>=0),1,0)","v":{"$error":"#N/A"}},{"$f":"IF(AND(C1294-シート!$C$87>=0,シート!$X$87-C1294>=0),1,0)","v":{"$error":"#VALUE!"}},{"$error":"#N/A"},{"$error":"#N/A"},{"$f":"IF(AND(C1294-シート!$CP$87>=0,シート!$DK$87-C1294>=0),1,0)","v":{"$error":"#VALUE!"}},{"$error":"#N/A"},{"$error":"#N/A"},"1903-07-14"]
[1293,128,"1903-07-15",{"$f":"+IF(AND(C1295-シート!$BV$67>=0,シート!$AI$19-C1295>=0),1,0)","v":{"$error":"#N/A"}},{"$f":"IF(AND(C1295-シート!$C$87>=0,シート!$X$87-C1295>=0),1,0)","v":{"$error":"#VALUE!"}},{"$error":"#N/A"},{"$error":"#N/A"},{"$f":"IF(AND(C1295-シート!$CP$87>=0,シート!$DK$87-C1295>=0),1,0)","v":{"$error":"#VALUE!"}},{"$error":"#N/A"},{"$error":"#N/A"},"1903-07-15"]
[1294,128,"1903-07-16",{"$f":"+IF(AND(C1296-シート!$BV$67>=0,シート!$AI$19-C1296>=0),1,0)","v":{"$error":"#N/A"}},{"$f":"IF(AND(C1296-シート!$C$87>=0,シート!$X$87-C1296>=0),1,0)","v":{"$error":"#VALUE!"}},{"$error":"#N/A"},{"$error":"#N/A"},{"$f":"IF(AND(C1296-シート!$CP$87>=0,シート!$DK$87-C1296>=0),1,0)","v":{"$error":"#VALUE!"}},{"$error":"#N/A"},{"$error":"#N/A"},"1903-07-16"]
[1295,128,"1903-07-17",{"$f":"+IF(AND(C1297-シート!$BV$67>=0,シート!$AI$19-C1297>=0),1,0)","v":{"$error":"#N/A"}},{"$f":"IF(AND(C1297-シート!$C$87>=0,シート!$X$87-C1297>=0),1,0)","v":{"$error":"#VALUE!"}},{"$error":"#N/A"},{"$error":"#N/A"},{"$f":"IF(AND(C1297-シート!$CP$87>=0,シート!$DK$87-C1297>=0),1,0)","v":{"$error":"#VALUE!"}},{"$error":"#N/A"},{"$error":"#N/A"},"1903-07-17"]
[1296,128,"1903-07-18",{"$f":"+IF(AND(C1298-シート!$BV$67>=0,シート!$AI$19-C1298>=0),1,0)","v":{"$error":"#N/A"}},{"$f":"IF(AND(C1298-シート!$C$87>=0,シート!$X$87-C1298>=0),1,0)","v":{"$error":"#VALUE!"}},{"$error":"#N/A"},{"$error":"#N/A"},{"$f":"IF(AND(C1298-シート!$CP$87>=0,シート!$DK$87-C1298>=0),1,0)","v":{"$error":"#VALUE!"}},{"$error":"#N/A"},{"$error":"#N/A"},"1903-07-18"]
[1297,128,"1903-07-19",{"$f":"+IF(AND(C1299-シート!$BV$67>=0,シート!$AI$19-C1299>=0),1,0)","v":{"$error":"#N/A"}},{"$f":"IF(AND(C1299-シート!$C$87>=0,シート!$X$87-C1299>=0),1,0)","v":{"$error":"#VALUE!"}},{"$error":"#N/A"},{"$error":"#N/A"},{"$f":"IF(AND(C1299-シート!$CP$87>=0,シート!$DK$87-C1299>=0),1,0)","v":{"$error":"#VALUE!"}},{"$error":"#N/A"},{"$error":"#N/A"},"1903-07-19"]
[1298,128,"1903-07-20",{"$f":"+IF(AND(C1300-シート!$BV$67>=0,シート!$AI$19-C1300>=0),1,0)","v":{"$error":"#N/A"}},{"$f":"IF(AND(C1300-シート!$C$87>=0,シート!$X$87-C1300>=0),1,0)","v":{"$error":"#VALUE!"}},{"$error":"#N/A"},{"$error":"#N/A"},{"$f":"IF(AND(C1300-シート!$CP$87>=0,シート!$DK$87-C1300>=0),1,0)","v":{"$error":"#VALUE!"}},{"$error":"#N/A"},{"$error":"#N/A"},"1903-07-20"]
[1299,129,"1903-07-21",{"$f":"+IF(AND(C1301-シート!$BV$67>=0,シート!$AI$19-C1301>=0),1,0)","v":{"$error":"#N/A"}},{"$f":"IF(AND(C1301-シート!$C$87>=0,シート!$X$87-C1301>=0),1,0)","v":{"$error":"#VALUE!"}},{"$error":"#N/A"},{"$error":"#N/A"},{"$f":"IF(AND(C1301-シート!$CP$87>=0,シート!$DK$87-C1301>=0),1,0)","v":{"$error":"#VALUE!"}},{"$error":"#N/A"},{"$error":"#N/A"},"1903-07-21"]
[1300,129,"1903-07-22",{"$f":"+IF(AND(C1302-シート!$BV$67>=0,シート!$AI$19-C1302>=0),1,0)","v":{"$error":"#N/A"}},{"$f":"IF(AND(C1302-シート!$C$87>=0,シート!$X$87-C1302>=0),1,0)","v":{"$error":"#VALUE!"}},{"$error":"#N/A"},{"$error":"#N/A"},{"$f":"IF(AND(C1302-シート!$CP$87>=0,シート!$DK$87-C1302>=0),1,0)","v":{"$error":"#VALUE!"}},{"$error":"#N/A"},{"$error":"#N/A"},"1903-07-22"]
[1301,129,"1903-07-23",{"$f":"+IF(AND(C1303-シート!$BV$67>=0,シート!$AI$19-C1303>=0),1,0)","v":{"$error":"#N/A"}},{"$f":"IF(AND(C1303-シート!$C$87>=0,シート!$X$87-C1303>=0),1,0)","v":{"$error":"#VALUE!"}},{"$error":"#N/A"},{"$error":"#N/A"},{"$f":"IF(AND(C1303-シート!$CP$87>=0,シート!$DK$87-C1303>=0),1,0)","v":{"$error":"#VALUE!"}},{"$error":"#N/A"},{"$error":"#N/A"},"1903-07-23"]
[1302,129,"1903-07-24",{"$f":"+IF(AND(C1304-シート!$BV$67>=0,シート!$AI$19-C1304>=0),1,0)","v":{"$error":"#N/A"}},{"$f":"IF(AND(C1304-シート!$C$87>=0,シート!$X$87-C1304>=0),1,0)","v":{"$error":"#VALUE!"}},{"$error":"#N/A"},{"$error":"#N/A"},{"$f":"IF(AND(C1304-シート!$CP$87>=0,シート!$DK$87-C1304>=0),1,0)","v":{"$error":"#VALUE!"}},{"$error":"#N/A"},{"$error":"#N/A"},"1903-07-24"]
[1303,129,"1903-07-25",{"$f":"+IF(AND(C1305-シート!$BV$67>=0,シート!$AI$19-C1305>=0),1,0)","v":{"$error":"#N/A"}},{"$f":"IF(AND(C1305-シート!$C$87>=0,シート!$X$87-C1305>=0),1,0)","v":{"$error":"#VALUE!"}},{"$error":"#N/A"},{"$error":"#N/A"},{"$f":"IF(AND(C1305-シート!$CP$87>=0,シート!$DK$87-C1305>=0),1,0)","v":{"$error":"#VALUE!"}},{"$error":"#N/A"},{"$error":"#N/A"},"1903-07-25"]
[1304,129,"1903-07-26",{"$f":"+IF(AND(C1306-シート!$BV$67>=0,シート!$AI$19-C1306>=0),1,0)","v":{"$error":"#N/A"}},{"$f":"IF(AND(C1306-シート!$C$87>=0,シート!$X$87-C1306>=0),1,0)","v":{"$error":"#VALUE!"}},{"$error":"#N/A"},{"$error":"#N/A"},{"$f":"IF(AND(C1306-シート!$CP$87>=0,シート!$DK$87-C1306>=0),1,0)","v":{"$error":"#VALUE!"}},{"$error":"#N/A"},{"$error":"#N/A"},"1903-07-26"]
[1305,129,"1903-07-27",{"$f":"+IF(AND(C1307-シート!$BV$67>=0,シート!$AI$19-C1307>=0),1,0)","v":{"$error":"#N/A"}},{"$f":"IF(AND(C1307-シート!$C$87>=0,シート!$X$87-C1307>=0),1,0)","v":{"$error":"#VALUE!"}},{"$error":"#N/A"},{"$error":"#N/A"},{"$f":"IF(AND(C1307-シート!$CP$87>=0,シート!$DK$87-C1307>=0),1,0)","v":{"$error":"#VALUE!"}},{"$error":"#N/A"},{"$error":"#N/A"},"1903-07-27"]
[1306,129,"1903-07-28",{"$f":"+IF(AND(C1308-シート!$BV$67>=0,シート!$AI$19-C1308>=0),1,0)","v":{"$error":"#N/A"}},{"$f":"IF(AND(C1308-シート!$C$87>=0,シート!$X$87-C1308>=0),1,0)","v":{"$error":"#VALUE!"}},{"$error":"#N/A"},{"$error":"#N/A"},{"$f":"IF(AND(C1308-シート!$CP$87>=0,シート!$DK$87-C1308>=0),1,0)","v":{"$error":"#VALUE!"}},{"$error":"#N/A"},{"$error":"#N/A"},"1903-07-28"]
[1307,129,"1903-07-29",{"$f":"+IF(AND(C1309-シート!$BV$67>=0,シート!$AI$19-C1309>=0),1,0)","v":{"$error":"#N/A"}},{"$f":"IF(AND(C1309-シート!$C$87>=0,シート!$X$87-C1309>=0),1,0)","v":{"$error":"#VALUE!"}},{"$error":"#N/A"},{"$error":"#N/A"},{"$f":"IF(AND(C1309-シート!$CP$87>=0,シート!$DK$87-C1309>=0),1,0)","v":{"$error":"#VALUE!"}},{"$error":"#N/A"},{"$error":"#N/A"},"1903-07-29"]
[1308,129,"1903-07-30",{"$f":"+IF(AND(C1310-シート!$BV$67>=0,シート!$AI$19-C1310>=0),1,0)","v":{"$error":"#N/A"}},{"$f":"IF(AND(C1310-シート!$C$87>=0,シート!$X$87-C1310>=0),1,0)","v":{"$error":"#VALUE!"}},{"$error":"#N/A"},{"$error":"#N/A"},{"$f":"IF(AND(C1310-シート!$CP$87>=0,シート!$DK$87-C1310>=0),1,0)","v":{"$error":"#VALUE!"}},{"$error":"#N/A"},{"$error":"#N/A"},"1903-07-30"]
[1309,130,"1903-07-31",{"$f":"+IF(AND(C1311-シート!$BV$67>=0,シート!$AI$19-C1311>=0),1,0)","v":{"$error":"#N/A"}},{"$f":"IF(AND(C1311-シート!$C$87>=0,シート!$X$87-C1311>=0),1,0)","v":{"$error":"#VALUE!"}},{"$error":"#N/A"},{"$error":"#N/A"},{"$f":"IF(AND(C1311-シート!$CP$87>=0,シート!$DK$87-C1311>=0),1,0)","v":{"$error":"#VALUE!"}},{"$error":"#N/A"},{"$error":"#N/A"},"1903-07-31"]
[1310,130,"1903-08-01",{"$f":"+IF(AND(C1312-シート!$BV$67>=0,シート!$AI$19-C1312>=0),1,0)","v":{"$error":"#N/A"}},{"$f":"IF(AND(C1312-シート!$C$87>=0,シート!$X$87-C1312>=0),1,0)","v":{"$error":"#VALUE!"}},{"$error":"#N/A"},{"$error":"#N/A"},{"$f":"IF(AND(C1312-シート!$CP$87>=0,シート!$DK$87-C1312>=0),1,0)","v":{"$error":"#VALUE!"}},{"$error":"#N/A"},{"$error":"#N/A"},"1903-08-01"]
[1311,130,"1903-08-02",{"$f":"+IF(AND(C1313-シート!$BV$67>=0,シート!$AI$19-C1313>=0),1,0)","v":{"$error":"#N/A"}},{"$f":"IF(AND(C1313-シート!$C$87>=0,シート!$X$87-C1313>=0),1,0)","v":{"$error":"#VALUE!"}},{"$error":"#N/A"},{"$error":"#N/A"},{"$f":"IF(AND(C1313-シート!$CP$87>=0,シート!$DK$87-C1313>=0),1,0)","v":{"$error":"#VALUE!"}},{"$error":"#N/A"},{"$error":"#N/A"},"1903-08-02"]
[1312,130,"1903-08-03",{"$f":"+IF(AND(C1314-シート!$BV$67>=0,シート!$AI$19-C1314>=0),1,0)","v":{"$error":"#N/A"}},{"$f":"IF(AND(C1314-シート!$C$87>=0,シート!$X$87-C1314>=0),1,0)","v":{"$error":"#VALUE!"}},{"$error":"#N/A"},{"$error":"#N/A"},{"$f":"IF(AND(C1314-シート!$CP$87>=0,シート!$DK$87-C1314>=0),1,0)","v":{"$error":"#VALUE!"}},{"$error":"#N/A"},{"$error":"#N/A"},"1903-08-03"]
[1313,130,"1903-08-04",{"$f":"+IF(AND(C1315-シート!$BV$67>=0,シート!$AI$19-C1315>=0),1,0)","v":{"$error":"#N/A"}},{"$f":"IF(AND(C1315-シート!$C$87>=0,シート!$X$87-C1315>=0),1,0)","v":{"$error":"#VALUE!"}},{"$error":"#N/A"},{"$error":"#N/A"},{"$f":"IF(AND(C1315-シート!$CP$87>=0,シート!$DK$87-C1315>=0),1,0)","v":{"$error":"#VALUE!"}},{"$error":"#N/A"},{"$error":"#N/A"},"1903-08-04"]
[1314,130,"1903-08-05",{"$f":"+IF(AND(C1316-シート!$BV$67>=0,シート!$AI$19-C1316>=0),1,0)","v":{"$error":"#N/A"}},{"$f":"IF(AND(C1316-シート!$C$87>=0,シート!$X$87-C1316>=0),1,0)","v":{"$error":"#VALUE!"}},{"$error":"#N/A"},{"$error":"#N/A"},{"$f":"IF(AND(C1316-シート!$CP$87>=0,シート!$DK$87-C1316>=0),1,0)","v":{"$error":"#VALUE!"}},{"$error":"#N/A"},{"$error":"#N/A"},"1903-08-05"]
[1315,130,"1903-08-06",{"$f":"+IF(AND(C1317-シート!$BV$67>=0,シート!$AI$19-C1317>=0),1,0)","v":{"$error":"#N/A"}},{"$f":"IF(AND(C1317-シート!$C$87>=0,シート!$X$87-C1317>=0),1,0)","v":{"$error":"#VALUE!"}},{"$error":"#N/A"},{"$error":"#N/A"},{"$f":"IF(AND(C1317-シート!$CP$87>=0,シート!$DK$87-C1317>=0),1,0)","v":{"$error":"#VALUE!"}},{"$error":"#N/A"},{"$error":"#N/A"},"1903-08-06"]
[1316,130,"1903-08-07",{"$f":"+IF(AND(C1318-シート!$BV$67>=0,シート!$AI$19-C1318>=0),1,0)","v":{"$error":"#N/A"}},{"$f":"IF(AND(C1318-シート!$C$87>=0,シート!$X$87-C1318>=0),1,0)","v":{"$error":"#VALUE!"}},{"$error":"#N/A"},{"$error":"#N/A"},{"$f":"IF(AND(C1318-シート!$CP$87>=0,シート!$DK$87-C1318>=0),1,0)","v":{"$error":"#VALUE!"}},{"$error":"#N/A"},{"$error":"#N/A"},"1903-08-07"]
[1317,130,"1903-08-08",{"$f":"+IF(AND(C1319-シート!$BV$67>=0,シート!$AI$19-C1319>=0),1,0)","v":{"$error":"#N/A"}},{"$f":"IF(AND(C1319-シート!$C$87>=0,シート!$X$87-C1319>=0),1,0)","v":{"$error":"#VALUE!"}},{"$error":"#N/A"},{"$error":"#N/A"},{"$f":"IF(AND(C1319-シート!$CP$87>=0,シート!$DK$87-C1319>=0),1,0)","v":{"$error":"#VALUE!"}},{"$error":"#N/A"},{"$error":"#N/A"},"1903-08-08"]
[1318,130,"1903-08-09",{"$f":"+IF(AND(C1320-シート!$BV$67>=0,シート!$AI$19-C1320>=0),1,0)","v":{"$error":"#N/A"}},{"$f":"IF(AND(C1320-シート!$C$87>=0,シート!$X$87-C1320>=0),1,0)","v":{"$error":"#VALUE!"}},{"$error":"#N/A"},{"$error":"#N/A"},{"$f":"IF(AND(C1320-シート!$CP$87>=0,シート!$DK$87-C1320>=0),1,0)","v":{"$error":"#VALUE!"}},{"$error":"#N/A"},{"$error":"#N/A"},"1903-08-09"]
[1319,131,"1903-08-10",{"$f":"+IF(AND(C1321-シート!$BV$67>=0,シート!$AI$19-C1321>=0),1,0)","v":{"$error":"#N/A"}},{"$f":"IF(AND(C1321-シート!$C$87>=0,シート!$X$87-C1321>=0),1,0)","v":{"$error":"#VALUE!"}},{"$error":"#N/A"},{"$error":"#N/A"},{"$f":"IF(AND(C1321-シート!$CP$87>=0,シート!$DK$87-C1321>=0),1,0)","v":{"$error":"#VALUE!"}},{"$error":"#N/A"},{"$error":"#N/A"},"1903-08-10"]
[1320,131,"1903-08-11",{"$f":"+IF(AND(C1322-シート!$BV$67>=0,シート!$AI$19-C1322>=0),1,0)","v":{"$error":"#N/A"}},{"$f":"IF(AND(C1322-シート!$C$87>=0,シート!$X$87-C1322>=0),1,0)","v":{"$error":"#VALUE!"}},{"$error":"#N/A"},{"$error":"#N/A"},{"$f":"IF(AND(C1322-シート!$CP$87>=0,シート!$DK$87-C1322>=0),1,0)","v":{"$error":"#VALUE!"}},{"$error":"#N/A"},{"$error":"#N/A"},"1903-08-11"]
[1321,131,"1903-08-12",{"$f":"+IF(AND(C1323-シート!$BV$67>=0,シート!$AI$19-C1323>=0),1,0)","v":{"$error":"#N/A"}},{"$f":"IF(AND(C1323-シート!$C$87>=0,シート!$X$87-C1323>=0),1,0)","v":{"$error":"#VALUE!"}},{"$error":"#N/A"},{"$error":"#N/A"},{"$f":"IF(AND(C1323-シート!$CP$87>=0,シート!$DK$87-C1323>=0),1,0)","v":{"$error":"#VALUE!"}},{"$error":"#N/A"},{"$error":"#N/A"},"1903-08-12"]
[1322,131,"1903-08-13",{"$f":"+IF(AND(C1324-シート!$BV$67>=0,シート!$AI$19-C1324>=0),1,0)","v":{"$error":"#N/A"}},{"$f":"IF(AND(C1324-シート!$C$87>=0,シート!$X$87-C1324>=0),1,0)","v":{"$error":"#VALUE!"}},{"$error":"#N/A"},{"$error":"#N/A"},{"$f":"IF(AND(C1324-シート!$CP$87>=0,シート!$DK$87-C1324>=0),1,0)","v":{"$error":"#VALUE!"}},{"$error":"#N/A"},{"$error":"#N/A"},"1903-08-13"]
[1323,131,"1903-08-14",{"$f":"+IF(AND(C1325-シート!$BV$67>=0,シート!$AI$19-C1325>=0),1,0)","v":{"$error":"#N/A"}},{"$f":"IF(AND(C1325-シート!$C$87>=0,シート!$X$87-C1325>=0),1,0)","v":{"$error":"#VALUE!"}},{"$error":"#N/A"},{"$error":"#N/A"},{"$f":"IF(AND(C1325-シート!$CP$87>=0,シート!$DK$87-C1325>=0),1,0)","v":{"$error":"#VALUE!"}},{"$error":"#N/A"},{"$error":"#N/A"},"1903-08-14"]
[1324,131,"1903-08-15",{"$f":"+IF(AND(C1326-シート!$BV$67>=0,シート!$AI$19-C1326>=0),1,0)","v":{"$error":"#N/A"}},{"$f":"IF(AND(C1326-シート!$C$87>=0,シート!$X$87-C1326>=0),1,0)","v":{"$error":"#VALUE!"}},{"$error":"#N/A"},{"$error":"#N/A"},{"$f":"IF(AND(C1326-シート!$CP$87>=0,シート!$DK$87-C1326>=0),1,0)","v":{"$error":"#VALUE!"}},{"$error":"#N/A"},{"$error":"#N/A"},"1903-08-15"]
[1325,131,"1903-08-16",{"$f":"+IF(AND(C1327-シート!$BV$67>=0,シート!$AI$19-C1327>=0),1,0)","v":{"$error":"#N/A"}},{"$f":"IF(AND(C1327-シート!$C$87>=0,シート!$X$87-C1327>=0),1,0)","v":{"$error":"#VALUE!"}},{"$error":"#N/A"},{"$error":"#N/A"},{"$f":"IF(AND(C1327-シート!$CP$87>=0,シート!$DK$87-C1327>=0),1,0)","v":{"$error":"#VALUE!"}},{"$error":"#N/A"},{"$error":"#N/A"},"1903-08-16"]
[1326,131,"1903-08-17",{"$f":"+IF(AND(C1328-シート!$BV$67>=0,シート!$AI$19-C1328>=0),1,0)","v":{"$error":"#N/A"}},{"$f":"IF(AND(C1328-シート!$C$87>=0,シート!$X$87-C1328>=0),1,0)","v":{"$error":"#VALUE!"}},{"$error":"#N/A"},{"$error":"#N/A"},{"$f":"IF(AND(C1328-シート!$CP$87>=0,シート!$DK$87-C1328>=0),1,0)","v":{"$error":"#VALUE!"}},{"$error":"#N/A"},{"$error":"#N/A"},"1903-08-17"]
[1327,131,"1903-08-18",{"$f":"+IF(AND(C1329-シート!$BV$67>=0,シート!$AI$19-C1329>=0),1,0)","v":{"$error":"#N/A"}},{"$f":"IF(AND(C1329-シート!$C$87>=0,シート!$X$87-C1329>=0),1,0)","v":{"$error":"#VALUE!"}},{"$error":"#N/A"},{"$error":"#N/A"},{"$f":"IF(AND(C1329-シート!$CP$87>=0,シート!$DK$87-C1329>=0),1,0)","v":{"$error":"#VALUE!"}},{"$error":"#N/A"},{"$error":"#N/A"},"1903-08-18"]
[1328,131,"1903-08-19",{"$f":"+IF(AND(C1330-シート!$BV$67>=0,シート!$AI$19-C1330>=0),1,0)","v":{"$error":"#N/A"}},{"$f":"IF(AND(C1330-シート!$C$87>=0,シート!$X$87-C1330>=0),1,0)","v":{"$error":"#VALUE!"}},{"$error":"#N/A"},{"$error":"#N/A"},{"$f":"IF(AND(C1330-シート!$CP$87>=0,シート!$DK$87-C1330>=0),1,0)","v":{"$error":"#VALUE!"}},{"$error":"#N/A"},{"$error":"#N/A"},"1903-08-19"]
[1329,132,"1903-08-20",{"$f":"+IF(AND(C1331-シート!$BV$67>=0,シート!$AI$19-C1331>=0),1,0)","v":{"$error":"#N/A"}},{"$f":"IF(AND(C1331-シート!$C$87>=0,シート!$X$87-C1331>=0),1,0)","v":{"$error":"#VALUE!"}},{"$error":"#N/A"},{"$error":"#N/A"},{"$f":"IF(AND(C1331-シート!$CP$87>=0,シート!$DK$87-C1331>=0),1,0)","v":{"$error":"#VALUE!"}},{"$error":"#N/A"},{"$error":"#N/A"},"1903-08-20"]
[1330,132,"1903-08-21",{"$f":"+IF(AND(C1332-シート!$BV$67>=0,シート!$AI$19-C1332>=0),1,0)","v":{"$error":"#N/A"}},{"$f":"IF(AND(C1332-シート!$C$87>=0,シート!$X$87-C1332>=0),1,0)","v":{"$error":"#VALUE!"}},{"$error":"#N/A"},{"$error":"#N/A"},{"$f":"IF(AND(C1332-シート!$CP$87>=0,シート!$DK$87-C1332>=0),1,0)","v":{"$error":"#VALUE!"}},{"$error":"#N/A"},{"$error":"#N/A"},"1903-08-21"]
[1331,132,"1903-08-22",{"$f":"+IF(AND(C1333-シート!$BV$67>=0,シート!$AI$19-C1333>=0),1,0)","v":{"$error":"#N/A"}},{"$f":"IF(AND(C1333-シート!$C$87>=0,シート!$X$87-C1333>=0),1,0)","v":{"$error":"#VALUE!"}},{"$error":"#N/A"},{"$error":"#N/A"},{"$f":"IF(AND(C1333-シート!$CP$87>=0,シート!$DK$87-C1333>=0),1,0)","v":{"$error":"#VALUE!"}},{"$error":"#N/A"},{"$error":"#N/A"},"1903-08-22"]
[1332,132,"1903-08-23",{"$f":"+IF(AND(C1334-シート!$BV$67>=0,シート!$AI$19-C1334>=0),1,0)","v":{"$error":"#N/A"}},{"$f":"IF(AND(C1334-シート!$C$87>=0,シート!$X$87-C1334>=0),1,0)","v":{"$error":"#VALUE!"}},{"$error":"#N/A"},{"$error":"#N/A"},{"$f":"IF(AND(C1334-シート!$CP$87>=0,シート!$DK$87-C1334>=0),1,0)","v":{"$error":"#VALUE!"}},{"$error":"#N/A"},{"$error":"#N/A"},"1903-08-23"]
[1333,132,"1903-08-24",{"$f":"+IF(AND(C1335-シート!$BV$67>=0,シート!$AI$19-C1335>=0),1,0)","v":{"$error":"#N/A"}},{"$f":"IF(AND(C1335-シート!$C$87>=0,シート!$X$87-C1335>=0),1,0)","v":{"$error":"#VALUE!"}},{"$error":"#N/A"},{"$error":"#N/A"},{"$f":"IF(AND(C1335-シート!$CP$87>=0,シート!$DK$87-C1335>=0),1,0)","v":{"$error":"#VALUE!"}},{"$error":"#N/A"},{"$error":"#N/A"},"1903-08-24"]
[1334,132,"1903-08-25",{"$f":"+IF(AND(C1336-シート!$BV$67>=0,シート!$AI$19-C1336>=0),1,0)","v":{"$error":"#N/A"}},{"$f":"IF(AND(C1336-シート!$C$87>=0,シート!$X$87-C1336>=0),1,0)","v":{"$error":"#VALUE!"}},{"$error":"#N/A"},{"$error":"#N/A"},{"$f":"IF(AND(C1336-シート!$CP$87>=0,シート!$DK$87-C1336>=0),1,0)","v":{"$error":"#VALUE!"}},{"$error":"#N/A"},{"$error":"#N/A"},"1903-08-25"]
[1335,132,"1903-08-26",{"$f":"+IF(AND(C1337-シート!$BV$67>=0,シート!$AI$19-C1337>=0),1,0)","v":{"$error":"#N/A"}},{"$f":"IF(AND(C1337-シート!$C$87>=0,シート!$X$87-C1337>=0),1,0)","v":{"$error":"#VALUE!"}},{"$error":"#N/A"},{"$error":"#N/A"},{"$f":"IF(AND(C1337-シート!$CP$87>=0,シート!$DK$87-C1337>=0),1,0)","v":{"$error":"#VALUE!"}},{"$error":"#N/A"},{"$error":"#N/A"},"1903-08-26"]
[1336,132,"1903-08-27",{"$f":"+IF(AND(C1338-シート!$BV$67>=0,シート!$AI$19-C1338>=0),1,0)","v":{"$error":"#N/A"}},{"$f":"IF(AND(C1338-シート!$C$87>=0,シート!$X$87-C1338>=0),1,0)","v":{"$error":"#VALUE!"}},{"$error":"#N/A"},{"$error":"#N/A"},{"$f":"IF(AND(C1338-シート!$CP$87>=0,シート!$DK$87-C1338>=0),1,0)","v":{"$error":"#VALUE!"}},{"$error":"#N/A"},{"$error":"#N/A"},"1903-08-27"]
[1337,132,"1903-08-28",{"$f":"+IF(AND(C1339-シート!$BV$67>=0,シート!$AI$19-C1339>=0),1,0)","v":{"$error":"#N/A"}},{"$f":"IF(AND(C1339-シート!$C$87>=0,シート!$X$87-C1339>=0),1,0)","v":{"$error":"#VALUE!"}},{"$error":"#N/A"},{"$error":"#N/A"},{"$f":"IF(AND(C1339-シート!$CP$87>=0,シート!$DK$87-C1339>=0),1,0)","v":{"$error":"#VALUE!"}},{"$error":"#N/A"},{"$error":"#N/A"},"1903-08-28"]
[1338,{"$f":"+B1330+1","v":132},"1903-08-29",{"$f":"+IF(AND(C1340-シート!$BV$67>=0,シート!$AI$19-C1340>=0),1,0)","v":{"$error":"#N/A"}},{"$f":"IF(AND(C1340-シート!$C$87>=0,シート!$X$87-C1340>=0),1,0)","v":{"$error":"#VALUE!"}},{"$error":"#N/A"},{"$error":"#N/A"},{"$f":"IF(AND(C1340-シート!$CP$87>=0,シート!$DK$87-C1340>=0),1,0)","v":{"$error":"#VALUE!"}},{"$error":"#N/A"},{"$error":"#N/A"},"1903-08-29"]
[1339,133,"1903-08-30",{"$f":"+IF(AND(C1341-シート!$BV$67>=0,シート!$AI$19-C1341>=0),1,0)","v":{"$error":"#N/A"}},{"$f":"IF(AND(C1341-シート!$C$87>=0,シート!$X$87-C1341>=0),1,0)","v":{"$error":"#VALUE!"}},{"$error":"#N/A"},{"$error":"#N/A"},{"$f":"IF(AND(C1341-シート!$CP$87>=0,シート!$DK$87-C1341>=0),1,0)","v":{"$error":"#VALUE!"}},{"$error":"#N/A"},{"$error":"#N/A"},"1903-08-30"]
[1340,133,"1903-08-31",{"$f":"+IF(AND(C1342-シート!$BV$67>=0,シート!$AI$19-C1342>=0),1,0)","v":{"$error":"#N/A"}},{"$f":"IF(AND(C1342-シート!$C$87>=0,シート!$X$87-C1342>=0),1,0)","v":{"$error":"#VALUE!"}},{"$error":"#N/A"},{"$error":"#N/A"},{"$f":"IF(AND(C1342-シート!$CP$87>=0,シート!$DK$87-C1342>=0),1,0)","v":{"$error":"#VALUE!"}},{"$error":"#N/A"},{"$error":"#N/A"},"1903-08-31"]
[1341,133,"1903-09-01",{"$f":"+IF(AND(C1343-シート!$BV$67>=0,シート!$AI$19-C1343>=0),1,0)","v":{"$error":"#N/A"}},{"$f":"IF(AND(C1343-シート!$C$87>=0,シート!$X$87-C1343>=0),1,0)","v":{"$error":"#VALUE!"}},{"$error":"#N/A"},{"$error":"#N/A"},{"$f":"IF(AND(C1343-シート!$CP$87>=0,シート!$DK$87-C1343>=0),1,0)","v":{"$error":"#VALUE!"}},{"$error":"#N/A"},{"$error":"#N/A"},"1903-09-01"]
[1342,133,"1903-09-02",{"$f":"+IF(AND(C1344-シート!$BV$67>=0,シート!$AI$19-C1344>=0),1,0)","v":{"$error":"#N/A"}},{"$f":"IF(AND(C1344-シート!$C$87>=0,シート!$X$87-C1344>=0),1,0)","v":{"$error":"#VALUE!"}},{"$error":"#N/A"},{"$error":"#N/A"},{"$f":"IF(AND(C1344-シート!$CP$87>=0,シート!$DK$87-C1344>=0),1,0)","v":{"$error":"#VALUE!"}},{"$error":"#N/A"},{"$error":"#N/A"},"1903-09-02"]
[1343,133,"1903-09-03",{"$f":"+IF(AND(C1345-シート!$BV$67>=0,シート!$AI$19-C1345>=0),1,0)","v":{"$error":"#N/A"}},{"$f":"IF(AND(C1345-シート!$C$87>=0,シート!$X$87-C1345>=0),1,0)","v":{"$error":"#VALUE!"}},{"$error":"#N/A"},{"$error":"#N/A"},{"$f":"IF(AND(C1345-シート!$CP$87>=0,シート!$DK$87-C1345>=0),1,0)","v":{"$error":"#VALUE!"}},{"$error":"#N/A"},{"$error":"#N/A"},"1903-09-03"]
[1344,133,"1903-09-04",{"$f":"+IF(AND(C1346-シート!$BV$67>=0,シート!$AI$19-C1346>=0),1,0)","v":{"$error":"#N/A"}},{"$f":"IF(AND(C1346-シート!$C$87>=0,シート!$X$87-C1346>=0),1,0)","v":{"$error":"#VALUE!"}},{"$error":"#N/A"},{"$error":"#N/A"},{"$f":"IF(AND(C1346-シート!$CP$87>=0,シート!$DK$87-C1346>=0),1,0)","v":{"$error":"#VALUE!"}},{"$error":"#N/A"},{"$error":"#N/A"},"1903-09-04"]
[1345,133,"1903-09-05",{"$f":"+IF(AND(C1347-シート!$BV$67>=0,シート!$AI$19-C1347>=0),1,0)","v":{"$error":"#N/A"}},{"$f":"IF(AND(C1347-シート!$C$87>=0,シート!$X$87-C1347>=0),1,0)","v":{"$error":"#VALUE!"}},{"$error":"#N/A"},{"$error":"#N/A"},{"$f":"IF(AND(C1347-シート!$CP$87>=0,シート!$DK$87-C1347>=0),1,0)","v":{"$error":"#VALUE!"}},{"$error":"#N/A"},{"$error":"#N/A"},"1903-09-05"]
[1346,133,"1903-09-06",{"$f":"+IF(AND(C1348-シート!$BV$67>=0,シート!$AI$19-C1348>=0),1,0)","v":{"$error":"#N/A"}},{"$f":"IF(AND(C1348-シート!$C$87>=0,シート!$X$87-C1348>=0),1,0)","v":{"$error":"#VALUE!"}},{"$error":"#N/A"},{"$error":"#N/A"},{"$f":"IF(AND(C1348-シート!$CP$87>=0,シート!$DK$87-C1348>=0),1,0)","v":{"$error":"#VALUE!"}},{"$error":"#N/A"},{"$error":"#N/A"},"1903-09-06"]
[1347,133,"1903-09-07",{"$f":"+IF(AND(C1349-シート!$BV$67>=0,シート!$AI$19-C1349>=0),1,0)","v":{"$error":"#N/A"}},{"$f":"IF(AND(C1349-シート!$C$87>=0,シート!$X$87-C1349>=0),1,0)","v":{"$error":"#VALUE!"}},{"$error":"#N/A"},{"$error":"#N/A"},{"$f":"IF(AND(C1349-シート!$CP$87>=0,シート!$DK$87-C1349>=0),1,0)","v":{"$error":"#VALUE!"}},{"$error":"#N/A"},{"$error":"#N/A"},"1903-09-07"]
[{"$f":"+A1349+1","v":1348},133,{"$f":"+C1349+1","v":"1903-09-08"},{"$f":"+IF(AND(C1350-シート!$BV$67>=0,シート!$AI$19-C1350>=0),1,0)","v":{"$error":"#N/A"}},{"$f":"IF(AND(C1350-シート!$C$87>=0,シート!$X$87-C1350>=0),1,0)","v":{"$error":"#VALUE!"}},{"$error":"#N/A"},{"$error":"#N/A"},{"$f":"IF(AND(C1350-シート!$CP$87>=0,シート!$DK$87-C1350>=0),1,0)","v":{"$error":"#VALUE!"}},{"$error":"#N/A"},{"$error":"#N/A"},"1903-09-08"]
[1349,134,"1903-09-09",{"$f":"+IF(AND(C1351-シート!$BV$67>=0,シート!$AI$19-C1351>=0),1,0)","v":{"$error":"#N/A"}},{"$f":"IF(AND(C1351-シート!$C$87>=0,シート!$X$87-C1351>=0),1,0)","v":{"$error":"#VALUE!"}},{"$error":"#N/A"},{"$error":"#N/A"},{"$f":"IF(AND(C1351-シート!$CP$87>=0,シート!$DK$87-C1351>=0),1,0)","v":{"$error":"#VALUE!"}},{"$error":"#N/A"},{"$error":"#N/A"},"1903-09-09"]
[1350,134,"1903-09-10",{"$f":"+IF(AND(C1352-シート!$BV$67>=0,シート!$AI$19-C1352>=0),1,0)","v":{"$error":"#N/A"}},{"$f":"IF(AND(C1352-シート!$C$87>=0,シート!$X$87-C1352>=0),1,0)","v":{"$error":"#VALUE!"}},{"$error":"#N/A"},{"$error":"#N/A"},{"$f":"IF(AND(C1352-シート!$CP$87>=0,シート!$DK$87-C1352>=0),1,0)","v":{"$error":"#VALUE!"}},{"$error":"#N/A"},{"$error":"#N/A"},"1903-09-10"]
[1351,134,"1903-09-11",{"$f":"+IF(AND(C1353-シート!$BV$67>=0,シート!$AI$19-C1353>=0),1,0)","v":{"$error":"#N/A"}},{"$f":"IF(AND(C1353-シート!$C$87>=0,シート!$X$87-C1353>=0),1,0)","v":{"$error":"#VALUE!"}},{"$error":"#N/A"},{"$error":"#N/A"},{"$f":"IF(AND(C1353-シート!$CP$87>=0,シート!$DK$87-C1353>=0),1,0)","v":{"$error":"#VALUE!"}},{"$error":"#N/A"},{"$error":"#N/A"},"1903-09-11"]
[1352,134,"1903-09-12",{"$f":"+IF(AND(C1354-シート!$BV$67>=0,シート!$AI$19-C1354>=0),1,0)","v":{"$error":"#N/A"}},{"$f":"IF(AND(C1354-シート!$C$87>=0,シート!$X$87-C1354>=0),1,0)","v":{"$error":"#VALUE!"}},{"$error":"#N/A"},{"$error":"#N/A"},{"$f":"IF(AND(C1354-シート!$CP$87>=0,シート!$DK$87-C1354>=0),1,0)","v":{"$error":"#VALUE!"}},{"$error":"#N/A"},{"$error":"#N/A"},"1903-09-12"]
[1353,134,"1903-09-13",{"$f":"+IF(AND(C1355-シート!$BV$67>=0,シート!$AI$19-C1355>=0),1,0)","v":{"$error":"#N/A"}},{"$f":"IF(AND(C1355-シート!$C$87>=0,シート!$X$87-C1355>=0),1,0)","v":{"$error":"#VALUE!"}},{"$error":"#N/A"},{"$error":"#N/A"},{"$f":"IF(AND(C1355-シート!$CP$87>=0,シート!$DK$87-C1355>=0),1,0)","v":{"$error":"#VALUE!"}},{"$error":"#N/A"},{"$error":"#N/A"},"1903-09-13"]
[1354,134,"1903-09-14",{"$f":"+IF(AND(C1356-シート!$BV$67>=0,シート!$AI$19-C1356>=0),1,0)","v":{"$error":"#N/A"}},{"$f":"IF(AND(C1356-シート!$C$87>=0,シート!$X$87-C1356>=0),1,0)","v":{"$error":"#VALUE!"}},{"$error":"#N/A"},{"$error":"#N/A"},{"$f":"IF(AND(C1356-シート!$CP$87>=0,シート!$DK$87-C1356>=0),1,0)","v":{"$error":"#VALUE!"}},{"$error":"#N/A"},{"$error":"#N/A"},"1903-09-14"]
[1355,134,"1903-09-15",{"$f":"+IF(AND(C1357-シート!$BV$67>=0,シート!$AI$19-C1357>=0),1,0)","v":{"$error":"#N/A"}},{"$f":"IF(AND(C1357-シート!$C$87>=0,シート!$X$87-C1357>=0),1,0)","v":{"$error":"#VALUE!"}},{"$f":"IF(+D1357+E1357=2,1,0)","v":{"$error":"#N/A"}},{"$f":"+G1356+F1357","v":{"$error":"#N/A"}},{"$f":"IF(AND(C1357-シート!$CP$87>=0,シート!$DK$87-C1357>=0),1,0)","v":{"$error":"#VALUE!"}},{"$f":"IF(+D1357+H1357=2,1,0)","v":{"$error":"#N/A"}},{"$f":"+J1356+I1357","v":{"$error":"#N/A"}},{"$f":"+C1357","v":"1903-09-15"}]
[1356,134,"1903-09-16",{"$f":"+IF(AND(C1358-シート!$BV$67>=0,シート!$AI$19-C1358>=0),1,0)","v":{"$error":"#N/A"}},{"$f":"IF(AND(C1358-シート!$C$87>=0,シート!$X$87-C1358>=0),1,0)","v":{"$error":"#VALUE!"}},{"$error":"#N/A"},{"$error":"#N/A"},{"$f":"IF(AND(C1358-シート!$CP$87>=0,シート!$DK$87-C1358>=0),1,0)","v":{"$error":"#VALUE!"}},{"$error":"#N/A"},{"$error":"#N/A"},"1903-09-16"]
[1357,134,"1903-09-17",{"$f":"+IF(AND(C1359-シート!$BV$67>=0,シート!$AI$19-C1359>=0),1,0)","v":{"$error":"#N/A"}},{"$f":"IF(AND(C1359-シート!$C$87>=0,シート!$X$87-C1359>=0),1,0)","v":{"$error":"#VALUE!"}},{"$error":"#N/A"},{"$error":"#N/A"},{"$f":"IF(AND(C1359-シート!$CP$87>=0,シート!$DK$87-C1359>=0),1,0)","v":{"$error":"#VALUE!"}},{"$error":"#N/A"},{"$error":"#N/A"},"1903-09-17"]
[1358,134,"1903-09-18",{"$f":"+IF(AND(C1360-シート!$BV$67>=0,シート!$AI$19-C1360>=0),1,0)","v":{"$error":"#N/A"}},{"$f":"IF(AND(C1360-シート!$C$87>=0,シート!$X$87-C1360>=0),1,0)","v":{"$error":"#VALUE!"}},{"$error":"#N/A"},{"$error":"#N/A"},{"$f":"IF(AND(C1360-シート!$CP$87>=0,シート!$DK$87-C1360>=0),1,0)","v":{"$error":"#VALUE!"}},{"$error":"#N/A"},{"$error":"#N/A"},"1903-09-18"]
[1359,135,"1903-09-19",{"$f":"+IF(AND(C1361-シート!$BV$67>=0,シート!$AI$19-C1361>=0),1,0)","v":{"$error":"#N/A"}},{"$f":"IF(AND(C1361-シート!$C$87>=0,シート!$X$87-C1361>=0),1,0)","v":{"$error":"#VALUE!"}},{"$error":"#N/A"},{"$error":"#N/A"},{"$f":"IF(AND(C1361-シート!$CP$87>=0,シート!$DK$87-C1361>=0),1,0)","v":{"$error":"#VALUE!"}},{"$error":"#N/A"},{"$error":"#N/A"},"1903-09-19"]
[1360,135,"1903-09-20",{"$f":"+IF(AND(C1362-シート!$BV$67>=0,シート!$AI$19-C1362>=0),1,0)","v":{"$error":"#N/A"}},{"$f":"IF(AND(C1362-シート!$C$87>=0,シート!$X$87-C1362>=0),1,0)","v":{"$error":"#VALUE!"}},{"$error":"#N/A"},{"$error":"#N/A"},{"$f":"IF(AND(C1362-シート!$CP$87>=0,シート!$DK$87-C1362>=0),1,0)","v":{"$error":"#VALUE!"}},{"$error":"#N/A"},{"$error":"#N/A"},"1903-09-20"]
[1361,135,"1903-09-21",{"$f":"+IF(AND(C1363-シート!$BV$67>=0,シート!$AI$19-C1363>=0),1,0)","v":{"$error":"#N/A"}},{"$f":"IF(AND(C1363-シート!$C$87>=0,シート!$X$87-C1363>=0),1,0)","v":{"$error":"#VALUE!"}},{"$error":"#N/A"},{"$error":"#N/A"},{"$f":"IF(AND(C1363-シート!$CP$87>=0,シート!$DK$87-C1363>=0),1,0)","v":{"$error":"#VALUE!"}},{"$error":"#N/A"},{"$error":"#N/A"},"1903-09-21"]
[1362,135,"1903-09-22",{"$f":"+IF(AND(C1364-シート!$BV$67>=0,シート!$AI$19-C1364>=0),1,0)","v":{"$error":"#N/A"}},{"$f":"IF(AND(C1364-シート!$C$87>=0,シート!$X$87-C1364>=0),1,0)","v":{"$error":"#VALUE!"}},{"$error":"#N/A"},{"$error":"#N/A"},{"$f":"IF(AND(C1364-シート!$CP$87>=0,シート!$DK$87-C1364>=0),1,0)","v":{"$error":"#VALUE!"}},{"$error":"#N/A"},{"$error":"#N/A"},"1903-09-22"]
[1363,135,"1903-09-23",{"$f":"+IF(AND(C1365-シート!$BV$67>=0,シート!$AI$19-C1365>=0),1,0)","v":{"$error":"#N/A"}},{"$f":"IF(AND(C1365-シート!$C$87>=0,シート!$X$87-C1365>=0),1,0)","v":{"$error":"#VALUE!"}},{"$error":"#N/A"},{"$error":"#N/A"},{"$f":"IF(AND(C1365-シート!$CP$87>=0,シート!$DK$87-C1365>=0),1,0)","v":{"$error":"#VALUE!"}},{"$error":"#N/A"},{"$error":"#N/A"},"1903-09-23"]
[1364,135,"1903-09-24",{"$f":"+IF(AND(C1366-シート!$BV$67>=0,シート!$AI$19-C1366>=0),1,0)","v":{"$error":"#N/A"}},{"$f":"IF(AND(C1366-シート!$C$87>=0,シート!$X$87-C1366>=0),1,0)","v":{"$error":"#VALUE!"}},{"$error":"#N/A"},{"$error":"#N/A"},{"$f":"IF(AND(C1366-シート!$CP$87>=0,シート!$DK$87-C1366>=0),1,0)","v":{"$error":"#VALUE!"}},{"$error":"#N/A"},{"$error":"#N/A"},"1903-09-24"]
[1365,135,"1903-09-25",{"$f":"+IF(AND(C1367-シート!$BV$67>=0,シート!$AI$19-C1367>=0),1,0)","v":{"$error":"#N/A"}},{"$f":"IF(AND(C1367-シート!$C$87>=0,シート!$X$87-C1367>=0),1,0)","v":{"$error":"#VALUE!"}},{"$error":"#N/A"},{"$error":"#N/A"},{"$f":"IF(AND(C1367-シート!$CP$87>=0,シート!$DK$87-C1367>=0),1,0)","v":{"$error":"#VALUE!"}},{"$error":"#N/A"},{"$error":"#N/A"},"1903-09-25"]
[1366,135,"1903-09-26",{"$f":"+IF(AND(C1368-シート!$BV$67>=0,シート!$AI$19-C1368>=0),1,0)","v":{"$error":"#N/A"}},{"$f":"IF(AND(C1368-シート!$C$87>=0,シート!$X$87-C1368>=0),1,0)","v":{"$error":"#VALUE!"}},{"$error":"#N/A"},{"$error":"#N/A"},{"$f":"IF(AND(C1368-シート!$CP$87>=0,シート!$DK$87-C1368>=0),1,0)","v":{"$error":"#VALUE!"}},{"$error":"#N/A"},{"$error":"#N/A"},"1903-09-26"]
[1367,135,"1903-09-27",{"$f":"+IF(AND(C1369-シート!$BV$67>=0,シート!$AI$19-C1369>=0),1,0)","v":{"$error":"#N/A"}},{"$f":"IF(AND(C1369-シート!$C$87>=0,シート!$X$87-C1369>=0),1,0)","v":{"$error":"#VALUE!"}},{"$error":"#N/A"},{"$error":"#N/A"},{"$f":"IF(AND(C1369-シート!$CP$87>=0,シート!$DK$87-C1369>=0),1,0)","v":{"$error":"#VALUE!"}},{"$error":"#N/A"},{"$error":"#N/A"},"1903-09-27"]
[1368,135,"1903-09-28",{"$f":"+IF(AND(C1370-シート!$BV$67>=0,シート!$AI$19-C1370>=0),1,0)","v":{"$error":"#N/A"}},{"$f":"IF(AND(C1370-シート!$C$87>=0,シート!$X$87-C1370>=0),1,0)","v":{"$error":"#VALUE!"}},{"$error":"#N/A"},{"$error":"#N/A"},{"$f":"IF(AND(C1370-シート!$CP$87>=0,シート!$DK$87-C1370>=0),1,0)","v":{"$error":"#VALUE!"}},{"$error":"#N/A"},{"$error":"#N/A"},"1903-09-28"]
[1369,136,"1903-09-29",{"$f":"+IF(AND(C1371-シート!$BV$67>=0,シート!$AI$19-C1371>=0),1,0)","v":{"$error":"#N/A"}},{"$f":"IF(AND(C1371-シート!$C$87>=0,シート!$X$87-C1371>=0),1,0)","v":{"$error":"#VALUE!"}},{"$error":"#N/A"},{"$error":"#N/A"},{"$f":"IF(AND(C1371-シート!$CP$87>=0,シート!$DK$87-C1371>=0),1,0)","v":{"$error":"#VALUE!"}},{"$error":"#N/A"},{"$error":"#N/A"},"1903-09-29"]
[1370,136,"1903-09-30",{"$f":"+IF(AND(C1372-シート!$BV$67>=0,シート!$AI$19-C1372>=0),1,0)","v":{"$error":"#N/A"}},{"$f":"IF(AND(C1372-シート!$C$87>=0,シート!$X$87-C1372>=0),1,0)","v":{"$error":"#VALUE!"}},{"$error":"#N/A"},{"$error":"#N/A"},{"$f":"IF(AND(C1372-シート!$CP$87>=0,シート!$DK$87-C1372>=0),1,0)","v":{"$error":"#VALUE!"}},{"$error":"#N/A"},{"$error":"#N/A"},"1903-09-30"]